BEGIN:VCALENDAR
VERSION:2.0
PRODID:-//Gronau Inside - ECPv6.15.18//NONSGML v1.0//EN
CALSCALE:GREGORIAN
METHOD:PUBLISH
X-WR-CALNAME:Gronau Inside
X-ORIGINAL-URL:https://gronau-inside.de/en
X-WR-CALDESC:Events for Gronau Inside
REFRESH-INTERVAL;VALUE=DURATION:PT1H
X-Robots-Tag:noindex
X-PUBLISHED-TTL:PT1H
BEGIN:VTIMEZONE
TZID:Europe/Berlin
BEGIN:DAYLIGHT
TZOFFSETFROM:+0100
TZOFFSETTO:+0200
TZNAME:CEST
DTSTART:20240331T010000
END:DAYLIGHT
BEGIN:STANDARD
TZOFFSETFROM:+0200
TZOFFSETTO:+0100
TZNAME:CET
DTSTART:20241027T010000
END:STANDARD
BEGIN:DAYLIGHT
TZOFFSETFROM:+0100
TZOFFSETTO:+0200
TZNAME:CEST
DTSTART:20250330T010000
END:DAYLIGHT
BEGIN:STANDARD
TZOFFSETFROM:+0200
TZOFFSETTO:+0100
TZNAME:CET
DTSTART:20251026T010000
END:STANDARD
BEGIN:DAYLIGHT
TZOFFSETFROM:+0100
TZOFFSETTO:+0200
TZNAME:CEST
DTSTART:20260329T010000
END:DAYLIGHT
BEGIN:STANDARD
TZOFFSETFROM:+0200
TZOFFSETTO:+0100
TZNAME:CET
DTSTART:20261025T010000
END:STANDARD
END:VTIMEZONE
BEGIN:VEVENT
DTSTART;TZID=Europe/Berlin:20251211T160000
DTEND;TZID=Europe/Berlin:20251211T210000
DTSTAMP:20260421T190208
CREATED:20250723T092207Z
LAST-MODIFIED:20251126T141000Z
UID:10005875-1765468800-1765486800@gronau-inside.de
SUMMARY:Christmas market in Gronau
DESCRIPTION:Click here for the program “Christmas market in Gronau”
URL:https://gronau-inside.de/en/veranstaltung/christmas-market-in-gronau/2025-12-11
LOCATION:Gronauer Innenstadt\, Neustraße\, Gronau\, 48599
CATEGORIES:Exhibition,Families + children,Food & drink,Markets + trade fairs,Music,Seniors,Social affairs,Sundays open
ATTACH;FMTTYPE=image/jpeg:https://gronau-inside.de/en/christmas-market-gronau_hartmut-springer
ORGANIZER;CN="Stadtmarketing/Touristinfo":MAILTO:info@stadtmarketing-gronau.de
END:VEVENT
BEGIN:VEVENT
DTSTART;TZID=Europe/Berlin:20251211T160000
DTEND;TZID=Europe/Berlin:20251211T210000
DTSTAMP:20260421T190208
CREATED:20251110T095936Z
LAST-MODIFIED:20251203T124718Z
UID:10005966-1765468800-1765486800@gronau-inside.de
SUMMARY:Winter magic meets ice fun
DESCRIPTION:BAKERMAN ON ICE AT THE KURTI \nThe Kurti becomes a winter wonderland with Bakerman: ice rink\, Christmas market & lots of magic from 4.12.2025 to 6.1.2026 \n 
URL:https://gronau-inside.de/en/veranstaltung/winter-magic-meets-ice-fun/2025-12-11
LOCATION:Kurt-Schumacher-Platz\, Gronau\, 48599
CATEGORIES:Families + children,Festivities + Party,Food & drink,Markets + trade fairs
ATTACH;FMTTYPE=image/jpeg:https://gronau-inside.de/wp-content/uploads/2025/09/winterland_insta.jpg
ORGANIZER;CN="KURTI e.V.":MAILTO:kontakt@wibo-immobilien-gmbh.de
END:VEVENT
END:VCALENDAR