BEGIN:VCALENDAR
VERSION:2.0
PRODID:-//Gronau Inside - ECPv6.15.18//NONSGML v1.0//EN
CALSCALE:GREGORIAN
METHOD:PUBLISH
X-ORIGINAL-URL:https://gronau-inside.de/en
X-WR-CALDESC:Events for Gronau Inside
REFRESH-INTERVAL;VALUE=DURATION:PT1H
X-Robots-Tag:noindex
X-PUBLISHED-TTL:PT1H
BEGIN:VTIMEZONE
TZID:Europe/Berlin
BEGIN:DAYLIGHT
TZOFFSETFROM:+0100
TZOFFSETTO:+0200
TZNAME:CEST
DTSTART:20250330T010000
END:DAYLIGHT
BEGIN:STANDARD
TZOFFSETFROM:+0200
TZOFFSETTO:+0100
TZNAME:CET
DTSTART:20251026T010000
END:STANDARD
BEGIN:DAYLIGHT
TZOFFSETFROM:+0100
TZOFFSETTO:+0200
TZNAME:CEST
DTSTART:20260329T010000
END:DAYLIGHT
BEGIN:STANDARD
TZOFFSETFROM:+0200
TZOFFSETTO:+0100
TZNAME:CET
DTSTART:20261025T010000
END:STANDARD
BEGIN:DAYLIGHT
TZOFFSETFROM:+0100
TZOFFSETTO:+0200
TZNAME:CEST
DTSTART:20270328T010000
END:DAYLIGHT
BEGIN:STANDARD
TZOFFSETFROM:+0200
TZOFFSETTO:+0100
TZNAME:CET
DTSTART:20271031T010000
END:STANDARD
END:VTIMEZONE
BEGIN:VEVENT
DTSTART;TZID=Europe/Berlin:20260504T190000
DTEND;TZID=Europe/Berlin:20260518T213000
DTSTAMP:20260422T122706
CREATED:20260316T095927Z
LAST-MODIFIED:20260316T095927Z
UID:10006909-1777921200-1779139800@gronau-inside.de
SUMMARY:EigenArt – Werkstatt für Malerei und Graphik
DESCRIPTION:In diesem Kunstkurs mit 5 Terminen für Anfänger und Fortgeschrittene stehen der individuelle Prozess und die persönliche Ausdrucksweise jedes Teilnehmers im Mittelpunkt. Du erhältst praxisnahe Impulse zu elementaren Gestaltungsaspekten der Malerei und Graphik und erweiterst gleichzeitig Deine Materialkenntnisse unter Anleitung des Künstlers Ulf Sauer. \nDer Kursbeitrag für 5 Termine (4.5./ 18.5./ 1.6./ 15.6./ 29.6.2026) inklusive Material beträgt 155 Euro.
URL:https://gronau-inside.de/en/veranstaltung/eigenart-werkstatt-fuer-malerei-und-graphik
LOCATION:Georgs Galerie\, Merschstraße 21\, Gronau-Epe\, 48599
END:VEVENT
BEGIN:VEVENT
DTSTART;VALUE=DATE:20260514
DTEND;VALUE=DATE:20260518
DTSTAMP:20260422T122706
CREATED:20250729T094952Z
LAST-MODIFIED:20250729T094952Z
UID:10004428-1778716800-1779062399@gronau-inside.de
SUMMARY:Shooting festival of the Schützenverein Nachbarschaft Rentenburg Gronau
DESCRIPTION:
URL:https://gronau-inside.de/en/veranstaltung/shooting-festival-of-the-schuetzenverein-nachbarschaft-rentenburg-gronau
LOCATION:Festplatz an der Eßseite
CATEGORIES:Festivities + Party,Shooting festivals
ATTACH;FMTTYPE=image/jpeg:https://gronau-inside.de/wp-content/uploads/2025/01/Rentenburg.jpg
END:VEVENT
BEGIN:VEVENT
DTSTART;VALUE=DATE:20260514
DTEND;VALUE=DATE:20260518
DTSTAMP:20260422T122706
CREATED:20250729T122709Z
LAST-MODIFIED:20250729T122709Z
UID:10004437-1778716800-1779062399@gronau-inside.de
SUMMARY:Schützenfest - Schützenverein Nachbarschaft Rentenburg Gronau e.V.
DESCRIPTION:
URL:https://gronau-inside.de/en/veranstaltung/schuetzenfest-schuetzenverein-nachbarschaft-rentenburg-gronau-e-v
LOCATION:Schützenplatz An der Eßseite
CATEGORIES:Shooting festivals
ATTACH;FMTTYPE=image/jpeg:https://gronau-inside.de/wp-content/uploads/2025/01/Rentenburg.jpg
END:VEVENT
BEGIN:VEVENT
DTSTART;TZID=Europe/Berlin:20260517T100000
DTEND;TZID=Europe/Berlin:20260517T150000
DTSTAMP:20260422T122706
CREATED:20251021T094626Z
LAST-MODIFIED:20251021T094626Z
UID:10005584-1779012000-1779030000@gronau-inside.de
SUMMARY:Border tour - Guided cycle tour through the border region
DESCRIPTION:Would you like to find out more about the influences of the border region on Gronau and the neighboring towns? Then get on your bike! \nThis guided cycle tour explores Gronau and the neighboring towns of Overdinkel\, Glanerbrug and Enschede. The main focus is on the influence of the German-Dutch border on the development of the villages\, differences in mentality\, textile barons and monasteries\, border stones and smuggling. \nIn short: it’s about everything that connects and distinguishes Gronau and its neighboring towns. \nIn between\, we take a break and stop off at a café on the border. \nHighlights: \n\ncompetent tour guide\nbilingual possible: German and Dutch\nincl. border snack: a sandwich with Westphalian ham and cheese and a hot drink of your choice (if required\, a vegetarian option with cheese only is also available) \n\nWhen. \n\nSunday\, May 17\, 2026\, 10:00 a.m. to approx. 3:00 p.m.\nSunday\, July 19\, 2026\, 10:00 a.m. to approx. 3:00 p.m.\nSunday\, September 06\, 2026\, 10:00 a.m. to approx. 3:00 p.m.\n\nWhere? \nrock’n’popmuseum (Udo-Lindenberg-Platz 1) \nThe tour ends at the rock’n’popmuseum.
URL:https://gronau-inside.de/en/veranstaltung/border-tour-guided-cycle-tour-through-the-border-region/2026-05-17
LOCATION:Meeting point: in front of the rock’n’popmuseum\, Udo Lindenberg Square 1\, Gronau\, 48599
CATEGORIES:Tours + guided tours
ORGANIZER;CN="Stadtmarketing/Touristinfo":MAILTO:info@stadtmarketing-gronau.de
END:VEVENT
BEGIN:VEVENT
DTSTART;TZID=Europe/Berlin:20260517T120000
DTEND;TZID=Europe/Berlin:20260517T130000
DTSTAMP:20260422T122706
CREATED:20250526T133216Z
LAST-MODIFIED:20250526T133216Z
UID:10003819-1779019200-1779022800@gronau-inside.de
SUMMARY:Open guided tour through the permanent exhibition
DESCRIPTION:The rock’n’pop museum offers open tours for everyone at weekends. \nWith our trained museum guides\, visitors can look forward to a thematically and creatively fascinating tour through the dimensions of pop music. The tour is aimed at all age groups who are interested in a multimedia experience of sounds\, images and exhibits with an extra dose of specialist knowledge. Immerse yourself in a goosebump moment like at a live concert!
URL:https://gronau-inside.de/en/veranstaltung/open-guided-tour-through-the-permanent-exhibition-2/2026-05-17
LOCATION:rock’n’popmuseum\, Udo-Lindenberg-Platz 1\, rock'n'popmuseum\, NRW\, 48599\, Deutschland
CATEGORIES:Exhibition,KuBiG (Cultural Education Gronau),rock'n'pop museum,Tours + guided tours
ATTACH;FMTTYPE=image/jpeg:https://gronau-inside.de/wp-content/uploads/2023/05/c-Frank-Schuermann-5-scaled.jpg
ORGANIZER;CN="rock'n'popmuseum Gronau GmbH":MAILTO:info@rock-popmuseum.de
END:VEVENT
BEGIN:VEVENT
DTSTART;TZID=Europe/Berlin:20260517T140000
DTEND;TZID=Europe/Berlin:20260517T140000
DTSTAMP:20260422T122706
CREATED:20260310T111709Z
LAST-MODIFIED:20260323T103359Z
UID:10006901-1779026400-1779026400@gronau-inside.de
SUMMARY:Europa- und Musikfest auf dem Kurti
DESCRIPTION:BUNTE REPUBLIK DEUTSCHLAND ROCKT EUROPA\nDer Verein Grenzenlos e.V. lädt mit vielen Kooperationspartnern zum großen Europa- und Musikfest auf dem Kurti – am Sonntag\, den 17. Mai 2026 ab 14:00 Uhr ein. \nUnter dem Motto „Bunte Republik Deutschland rockt Europa“ wird an diesem besonderen Tag nicht nur die kulturelle Vielfalt Europas gefeiert – das Fest ist zugleich eine leidenschaftliche Hommage an Udo Lindenberg\, den wohl buntesten und lautesten Panikpräsidenten der Republik\, der am 17.Mai seinen 80. Geburtstag feiert. \nAb 14:00 Uhr erwartet die Besucher ein buntes Bühnenprogramm\, bei dem die teilnehmenden Künstler in ihren Repertoires auch Lieder von Udo Lindenberg präsentieren. Darüber hinaus gibt es viele Aktions- und Infostände\, Aktivitäten für Kinder\, kulinarische Angebote und einige Überraschungen. Es werden auch einige Unikate versteigert. Ein Fest für die ganze Familie erwartet die Besucher. \nDas vollständige Aktions- und Bühnenprogramm wird Anfang Mai veröffentlicht\, aber das Gerüst steht bereits. \nFür das Bunte Republik rockt Europa – 80 Jahre keine Panik – Udo meet´s Europafest haben bereits folgende Aktuere zugesagt: \nGrußworte wird es von Bürgermeister Jörg von Borczyskowski und der EU Gemeinderätin Susanne Reinhoffer geben. Die Driland Big Band\, der Chor Klangvoll\, das Hitparadentrio\, die ukrainische Frauengesangsgruppe\, das DRK-Familienzentrum „Zum Regenbogenland“ und das DRK-Familienzentrum „Die Kleine Strolche“ haben für Bühnenakts zugesagt und ihre Lindenbergtitel bereits genannt. Ein Highlight auf der Bühne folgt abschließend um 17:00 Uhr\, dann steht Mr. Panik auf der Bühne und präsentiert zum Abschluss mit einer dem Original verblüffend ähnlichen Stimme die bekanntesten Songs von Udo Lindenberg. \n  \nHanspeter Dickel wir seinen Büchermarkt anbieten\, Marcel in der Au\, bringt seinen Honecker Trabi und Udoauto für einen Autofotopoint mit. Verschiedenste Institutionen haben sich bereits mit Info- und Aktionsstände angemeldet. \nWeitere Akteure dürfen sich bei den Organisatoren melden und Anfang Mai wird das komplettierte Festprogramm veröffentlicht. \nWeiterhin wird zu einem Flohmarkt auf dem Kurti eingeladen\, hier können sich Interessierte unter info@drk-kita-gronau.de anmelden. \nZu einem Kreativwettbewerb zum Thema und Person „Udo Lindenberg“ sind Kitas\, -Schulen und interessierte Kinder und Jugendliche eingeladen. Beiträge können bis Ende April im Cafe Grenzenlos mit Kontaktdaten und Alter der Teilnehmer abgegeben werden. \n  \nFoto: Erich Schwartze\, Reinhard und Manuela van Loh und Birgit Hüsing-Hackfort befinden sich in den Vorbereitungen für das geplante Europafest.
URL:https://gronau-inside.de/en/veranstaltung/europa-und-musikfest-auf-dem-kurti
LOCATION:Kurt-Schumacher-Platz\, Gronau\, 48599
ATTACH;FMTTYPE=image/jpeg:https://gronau-inside.de/wp-content/uploads/2026/03/Europafest-meets-Udo.jpg
ORGANIZER;CN="KURTI e.V.":MAILTO:kontakt@wibo-immobilien-gmbh.de
END:VEVENT
END:VCALENDAR