BEGIN:VCALENDAR
VERSION:2.0
PRODID:-//Gronau Inside - ECPv6.15.18//NONSGML v1.0//EN
CALSCALE:GREGORIAN
METHOD:PUBLISH
X-WR-CALNAME:Gronau Inside
X-ORIGINAL-URL:https://gronau-inside.de/en
X-WR-CALDESC:Events for Gronau Inside
REFRESH-INTERVAL;VALUE=DURATION:PT1H
X-Robots-Tag:noindex
X-PUBLISHED-TTL:PT1H
BEGIN:VTIMEZONE
TZID:Europe/Berlin
BEGIN:DAYLIGHT
TZOFFSETFROM:+0100
TZOFFSETTO:+0200
TZNAME:CEST
DTSTART:20250330T010000
END:DAYLIGHT
BEGIN:STANDARD
TZOFFSETFROM:+0200
TZOFFSETTO:+0100
TZNAME:CET
DTSTART:20251026T010000
END:STANDARD
BEGIN:DAYLIGHT
TZOFFSETFROM:+0100
TZOFFSETTO:+0200
TZNAME:CEST
DTSTART:20260329T010000
END:DAYLIGHT
BEGIN:STANDARD
TZOFFSETFROM:+0200
TZOFFSETTO:+0100
TZNAME:CET
DTSTART:20261025T010000
END:STANDARD
BEGIN:DAYLIGHT
TZOFFSETFROM:+0100
TZOFFSETTO:+0200
TZNAME:CEST
DTSTART:20270328T010000
END:DAYLIGHT
BEGIN:STANDARD
TZOFFSETFROM:+0200
TZOFFSETTO:+0100
TZNAME:CET
DTSTART:20271031T010000
END:STANDARD
END:VTIMEZONE
BEGIN:VEVENT
DTSTART;VALUE=DATE:20260522
DTEND;VALUE=DATE:20260526
DTSTAMP:20260420T140839
CREATED:20250729T123138Z
LAST-MODIFIED:20250729T123138Z
UID:10004440-1779408000-1779753599@gronau-inside.de
SUMMARY:Schützenfest - Hubertus Epe Shooting Club
DESCRIPTION:
URL:https://gronau-inside.de/en/veranstaltung/schuetzenfest-hubertus-epe-shooting-club
CATEGORIES:Shooting festivals
ATTACH;FMTTYPE=image/png:https://gronau-inside.de/wp-content/uploads/2025/01/Schuetzenfest-Hubertus-Epe.png
END:VEVENT
BEGIN:VEVENT
DTSTART;VALUE=DATE:20260523
DTEND;VALUE=DATE:20260524
DTSTAMP:20260420T140839
CREATED:20250729T090837Z
LAST-MODIFIED:20250729T090837Z
UID:10004423-1779494400-1779580799@gronau-inside.de
SUMMARY:Kickboxing event
DESCRIPTION:
URL:https://gronau-inside.de/en/veranstaltung/kickboxing-event-4
LOCATION:Bürgerhalle Gronau\, Spinnereistraße 20\, Gronau\, 48599
CATEGORIES:Civic hall,Sport
END:VEVENT
BEGIN:VEVENT
DTSTART;TZID=Europe/Berlin:20260523T140000
DTEND;TZID=Europe/Berlin:20260523T170000
DTSTAMP:20260420T140839
CREATED:20251029T063925Z
LAST-MODIFIED:20251029T063925Z
UID:10005658-1779544800-1779555600@gronau-inside.de
SUMMARY:Wine(s)hopping through Gronau
DESCRIPTION:The wine(s)hopping tour through Gronau combines three popular activities: A stroll through the town\, a wine tasting and an introduction to the town center. During the tour\, the clothing stores Concept Store\, Lui & Lei and Dreier Moden are visited\, with a tasty wine tasting in each store and time to stroll through the current collections. \nBetween the stops\, you will get an impression of the cozy and newly designed Gronau city center. A convivial finale takes place in the Münsterländer Steillage wine shop.  For dates from 2026 onwards\, the closing will take place at Schuh Schulte 2.0.\n\n\nContent of the tour:  \n\na Gronau wine glass for each participant\na Gronau shopping bag for the treasures you have bought\nVisit to a total of four retail outlets\nA different delicious wine to sample in each store (0.1 liter per person)\n\nMeeting point:\nIn front of Café 1836 on Kurt-Schumacher-Platz\nSchulstraße 9 – 48599 Gronau\nCoordinates: 52.21126937866211\,7.025087833404541 \nThe tour ends at the Münsterland Steillage (Neustraße 7). From 2026\, the tour ends at Schuh Schulte 2.0 (Schulstraße 6).
URL:https://gronau-inside.de/en/veranstaltung/wineshopping-through-gronau-2/2026-05-23
LOCATION:verschiedene Orte
CATEGORIES:Food & drink,Tours + guided tours
ATTACH;FMTTYPE=image/jpeg:https://gronau-inside.de/wp-content/uploads/2025/02/Wein-s-hopping_Grafik_4zu5-4.jpg
ORGANIZER;CN="Stadtmarketing/Touristinfo":MAILTO:info@stadtmarketing-gronau.de
END:VEVENT
BEGIN:VEVENT
DTSTART;TZID=Europe/Berlin:20260523T150000
DTEND;TZID=Europe/Berlin:20260523T160000
DTSTAMP:20260420T140839
CREATED:20250526T132741Z
LAST-MODIFIED:20250526T132741Z
UID:10003568-1779548400-1779552000@gronau-inside.de
SUMMARY:Open guided tour through the permanent exhibition
DESCRIPTION:The rock’n’pop museum offers open tours for everyone at weekends. \nWith our trained museum guides\, visitors can look forward to a thematically and creatively fascinating tour through the dimensions of pop music. The tour is aimed at all age groups who are interested in a multimedia experience of sounds\, images and exhibits with an extra dose of specialist knowledge. Immerse yourself in a goosebump moment like at a live concert!
URL:https://gronau-inside.de/en/veranstaltung/open-guided-tour-through-the-permanent-exhibition/2026-05-23
LOCATION:rock’n’popmuseum\, Udo-Lindenberg-Platz 1\, rock'n'popmuseum\, NRW\, 48599\, Deutschland
CATEGORIES:Exhibition,KuBiG (Cultural Education Gronau),rock'n'pop museum,Tours + guided tours
ATTACH;FMTTYPE=image/jpeg:https://gronau-inside.de/wp-content/uploads/2023/05/c-Frank-Schuermann-5-scaled.jpg
ORGANIZER;CN="rock'n'popmuseum Gronau GmbH":MAILTO:info@rock-popmuseum.de
END:VEVENT
END:VCALENDAR