BEGIN:VCALENDAR
VERSION:2.0
PRODID:-//Gronau Inside - ECPv6.15.18//NONSGML v1.0//EN
CALSCALE:GREGORIAN
METHOD:PUBLISH
X-WR-CALNAME:Gronau Inside
X-ORIGINAL-URL:https://gronau-inside.de/en
X-WR-CALDESC:Events for Gronau Inside
REFRESH-INTERVAL;VALUE=DURATION:PT1H
X-Robots-Tag:noindex
X-PUBLISHED-TTL:PT1H
BEGIN:VTIMEZONE
TZID:Europe/Berlin
BEGIN:DAYLIGHT
TZOFFSETFROM:+0100
TZOFFSETTO:+0200
TZNAME:CEST
DTSTART:20250330T010000
END:DAYLIGHT
BEGIN:STANDARD
TZOFFSETFROM:+0200
TZOFFSETTO:+0100
TZNAME:CET
DTSTART:20251026T010000
END:STANDARD
BEGIN:DAYLIGHT
TZOFFSETFROM:+0100
TZOFFSETTO:+0200
TZNAME:CEST
DTSTART:20260329T010000
END:DAYLIGHT
BEGIN:STANDARD
TZOFFSETFROM:+0200
TZOFFSETTO:+0100
TZNAME:CET
DTSTART:20261025T010000
END:STANDARD
BEGIN:DAYLIGHT
TZOFFSETFROM:+0100
TZOFFSETTO:+0200
TZNAME:CEST
DTSTART:20270328T010000
END:DAYLIGHT
BEGIN:STANDARD
TZOFFSETFROM:+0200
TZOFFSETTO:+0100
TZNAME:CET
DTSTART:20271031T010000
END:STANDARD
END:VTIMEZONE
BEGIN:VEVENT
DTSTART;VALUE=DATE:20260611
DTEND;VALUE=DATE:20260720
DTSTAMP:20260423T131625
CREATED:20250729T125238Z
LAST-MODIFIED:20250729T125238Z
UID:10004461-1781136000-1784505599@gronau-inside.de
SUMMARY:Public viewing of the World Cup
DESCRIPTION:More information will follow…
URL:https://gronau-inside.de/en/veranstaltung/public-viewing-of-the-world-cup
LOCATION:Festplatz Bürgerhalle\, Spinnereistraße 20\, Gronau\, 48599
END:VEVENT
BEGIN:VEVENT
DTSTART;TZID=Europe/Berlin:20260702T140000
DTEND;TZID=Europe/Berlin:20260702T190000
DTSTAMP:20260423T131625
CREATED:20260108T110919Z
LAST-MODIFIED:20260108T111638Z
UID:10006090-1783000800-1783018800@gronau-inside.de
SUMMARY:GrenzGenuss farmers' market at Kurti Gronau
DESCRIPTION:GrenzGenuss farmers’ market in Gronau\n📍 Every 1st Thursday of the month | 2-7 p.m. | Kurt-Schumacher-Platz\, Gronau \nWelcome to the first cross-border market in the region! At the GrenzGenuss farmers’ market on Kurt-Schumacher-Platz in Gronau\, Dutch and German market vendors come together – with fresh\, regional and seasonal products\, specialties and a real market atmosphere.  \nA new motto awaits you every month with special promotions\, exhibitors and surprises. Whether it’s regional shopping\, tasting or simply enjoying – shopping becomes an experience here! Families in particular can look forward to a variety of offers that make the visit a highlight for young and old.   \nCome along\, discover new things and experience the variety right on your doorstep. Quality is a top priority at the GrenzGenuss farmers’ market!  \nMarket days and themes:\nSeptember 04.09.2025 The taste of home!\nOctober02.10.2025 Harvest thanksgiving – Enjoy together.\nNovember06.11.2025 From the region. From the region.\nDecember04.12.2025 Sinterklaastrifft Nikolaus\nJanuary01.01.2026 Fire and ice (from 2027 !!)\n(January is canceled! Will not take place because it is a public holiday!)\nFebruary05.02.2026 Fields and aroma\nMarch 05.03.2026 Welcome to your spring garden!\nApril02.04.2026 Easter – traditions and customs\nMay06.05.2026 Fashion and design\nJune 18.06.2026 Experience home\n(in June: 3rd Thursday\, as a public holiday on the 1st Thursday in NRW!!!)\nJuly 02.07.2026 Arts and crafts\nAugust06.08.2026 Eat and get fit!
URL:https://gronau-inside.de/en/veranstaltung/grenzgenuss-farmers-market-at-kurti-gronau-2/2026-07-02
LOCATION:Kurt-Schumacher-Platz\, Gronau\, 48599
CATEGORIES:Markets + trade fairs
ATTACH;FMTTYPE=image/png:https://gronau-inside.de/wp-content/uploads/2025/08/Allgemeines-Poster-Bauernmarkt-A2-Querformat-scaled.png
ORGANIZER;CN="KURTI e.V.":MAILTO:kontakt@wibo-immobilien-gmbh.de
END:VEVENT
BEGIN:VEVENT
DTSTART;TZID=Europe/Berlin:20260702T193000
DTEND;TZID=Europe/Berlin:20260702T193000
DTSTAMP:20260423T131625
CREATED:20260416T141441Z
LAST-MODIFIED:20260416T141441Z
UID:10007075-1783020600-1783020600@gronau-inside.de
SUMMARY:Volksbank Skatenight 2026 - Dinkie on wheels
DESCRIPTION:Skatenight-Touren 2026\nEs gibt insgesamt fünf Touren\, bei denen die Skater*innen Landschaft und Umgebung rund um Gronau und Epe genießen können.\nIn diesem Jahr gibt es wieder die Motto-Touren; weitere Infos dazu\, siehe unten. Ebenfalls erhält jeder Teilnehmer*in die Bonuskarte:\nWer an 3 von 5 Touren aktiv teilgenommen hat\, bekommt ein kleines Präsent.\nTreffpunkt ist das Vereinsheim des TV Gronau an der Laubstiege/Hallenbad. Start: 19.30 Uhr \nHier die Termine: \n07.05.2026  Warm up-Tour\n– Eine anfängerfreundliche Strecke mit einer kurzen 1. Runde und 2. längeren Runde –\n11.06.2026  80iger-Tour\n– Musik der 80iger Jahre begleitet die Tour\, ebenso sind entsprechende Outfits erwünscht –\n02.07.2026  Asphalt-Tour\n– Wunsch-Musik gibt den Takt vor für das Rollen über den Asphalt rund um Gronau –\n06.08.2026  Beach-Tour\n– In den Sommer-Ferien enthält diese Tour viel Urlaubsfeeling –\n03.09.2026  Mondschein-Tour\n– Wir fahren in die Dunkelheit bei Mondschein und mit vielen Lichtern wird eine besondere Atmosphäre geschaffen. \nZwischendurch wird zur Hälfte der Tour eine kurze Pause eingelegt\, in der Erfrischungsgetränke angeboten werden. Im Anschluss an jede Tour gibt es im Start und Zielbereich am TVG-Vereinsheim ein geselliges Beisammensein. \nDie Volksbank-Skatenights sind kein Wettlauf\, sondern pures Vergnügen und Spaß: durch die Straßen skaten in einem “rollenden Lindwurm” begleitet von der Polizei\, dem DRK und den Stewards. \nDie Stewards geben ein Tempo vor\, bei dem alle mitkommen.Teilnehmen kann jeder\, dank der Unterstützung der Volksbank Gronau-Ahaus sogar kostenlos. \n \nAktuelle Infos gibt es via Facebook und Instagram. Die Teilnahme ist kostenlos! \n\nDie Teilnahme erfolgt auf eigene Gefahr.\nBei schlechtem Wetter und nassen Straßen\, muss eine Tour aus Sicherheitsgründen gegebenfalls abgesagt werden.\nJede/r sollte zur eigenen Sicherheit eine Schutzausrüstung tragen\, dazu gehören Hand- \, Ellenbogen-\, Knieschoner und Helm.\nBitte Blink- und Dauerlicht mitbringen\, damit man in der Dämmerung besser sichtbar ist.\nDas Bremsen und sichere Fahren auf Inline-Skates sollte jeder Teilnehmer beherrschen.\nKonditionen sollten alle Skaterinnen und Skater für ca. 1\,5 bis 2 Stunden haben.\nEs gilt die Straßenverkehrsordnung.\nDie Teilnehmer richten sich nach den Anweisungen der Polizei und der Stewards.\nAlle Skater/innen fahren immer rechts von den Stewards.\nKinder und Jugendliche unter 16 Jahren dürfen nur in Begleitung eines Erziehungsberechtigten teilnehmen.\nAlkoholische Getränke sind für die teilnehmenden Skater/innen während der Tour untersagt.
URL:https://gronau-inside.de/en/veranstaltung/volksbank-skatenight-2026-dinkie-on-wheels/2026-07-02
LOCATION:Treffpunkt: Vereinsheim TV Gronau\, Laubstiege 42\, Gronau\, 48599
ATTACH;FMTTYPE=image/jpeg:https://gronau-inside.de/wp-content/uploads/2024/03/DinkieLogo.jpg
ORGANIZER;CN="TV Gronau 1887 e.V.":MAILTO:info@tv-gronau.de
END:VEVENT
END:VCALENDAR