BEGIN:VCALENDAR
VERSION:2.0
PRODID:-//Gronau Inside - ECPv6.15.18//NONSGML v1.0//EN
CALSCALE:GREGORIAN
METHOD:PUBLISH
X-WR-CALNAME:Gronau Inside
X-ORIGINAL-URL:https://gronau-inside.de/en
X-WR-CALDESC:Events for Gronau Inside
REFRESH-INTERVAL;VALUE=DURATION:PT1H
X-Robots-Tag:noindex
X-PUBLISHED-TTL:PT1H
BEGIN:VTIMEZONE
TZID:Europe/Berlin
BEGIN:DAYLIGHT
TZOFFSETFROM:+0100
TZOFFSETTO:+0200
TZNAME:CEST
DTSTART:20250330T010000
END:DAYLIGHT
BEGIN:STANDARD
TZOFFSETFROM:+0200
TZOFFSETTO:+0100
TZNAME:CET
DTSTART:20251026T010000
END:STANDARD
BEGIN:DAYLIGHT
TZOFFSETFROM:+0100
TZOFFSETTO:+0200
TZNAME:CEST
DTSTART:20260329T010000
END:DAYLIGHT
BEGIN:STANDARD
TZOFFSETFROM:+0200
TZOFFSETTO:+0100
TZNAME:CET
DTSTART:20261025T010000
END:STANDARD
BEGIN:DAYLIGHT
TZOFFSETFROM:+0100
TZOFFSETTO:+0200
TZNAME:CEST
DTSTART:20270328T010000
END:DAYLIGHT
BEGIN:STANDARD
TZOFFSETFROM:+0200
TZOFFSETTO:+0100
TZNAME:CET
DTSTART:20271031T010000
END:STANDARD
END:VTIMEZONE
BEGIN:VEVENT
DTSTART;VALUE=DATE:20260611
DTEND;VALUE=DATE:20260720
DTSTAMP:20260422T173140
CREATED:20250729T125238Z
LAST-MODIFIED:20250729T125238Z
UID:10004461-1781136000-1784505599@gronau-inside.de
SUMMARY:Public viewing of the World Cup
DESCRIPTION:More information will follow…
URL:https://gronau-inside.de/en/veranstaltung/public-viewing-of-the-world-cup
LOCATION:Festplatz Bürgerhalle\, Spinnereistraße 20\, Gronau\, 48599
END:VEVENT
BEGIN:VEVENT
DTSTART;TZID=Europe/Berlin:20260717T080000
DTEND;TZID=Europe/Berlin:20260717T130000
DTSTAMP:20260422T173140
CREATED:20250929T092618Z
LAST-MODIFIED:20250929T092618Z
UID:10005128-1784275200-1784293200@gronau-inside.de
SUMMARY:Gronau-Epe weekly market
DESCRIPTION:Every Friday from 8 a.m. to 1 p.m.\, the weekly market attracts many visitors to the Eper town center. Besides delicious vegetables and fruit\, fresh baked goods\, Dutch cheese\, fish\, meat and much more are offered. \nThe Gronau-Epe weekly market takes place on Fridays from 8 a.m. to 1 p.m. in Merschstraße.
URL:https://gronau-inside.de/en/veranstaltung/gronau-epe-weekly-market/2026-07-17
LOCATION:Merschstraße Epe\, Merschstraße\, Gronau\, 48599
CATEGORIES:Food & drink,Markets + trade fairs
ATTACH;FMTTYPE=image/jpeg:https://gronau-inside.de/wp-content/uploads/2021/05/Wochenmarkt-Epe-1-e1695720579249.jpg
END:VEVENT
BEGIN:VEVENT
DTSTART;TZID=Europe/Berlin:20260717T170000
DTEND;TZID=Europe/Berlin:20260717T203000
DTSTAMP:20260422T173140
CREATED:20251028T144037Z
LAST-MODIFIED:20251028T144037Z
UID:10005632-1784307600-1784320200@gronau-inside.de
SUMMARY:Pub\, Knifte & a Korn
DESCRIPTION:A special kind of 3-hour city tour through Gronau-Epe!\nOur Epe insider Gabi Scheffer will take you on an interesting and tasty tour through the Epe district.\nExciting highlights and local delicacies await you. \nPlease note: As there is a snack in three restaurants\, this should be factored into your subsequent plans. \nNo suitable date? Individual appointments can also be arranged by calling 02562/99006 or visiting info@stadtmarketing-gronau.de. Individual appointments are only possible on Fridays and Saturdays.  \nWhere:\nAt the entrance to the Sparkasse\nHindenburgring 4 in 48599 Gronau-Epe\nCoordinates: 52.180013\, 7.039928 \nThe tour ends in the Latüchte.
URL:https://gronau-inside.de/en/veranstaltung/pub-knifte-a-korn/2026-07-17
LOCATION:Meeting point: at the entrance to the Sparkasse\, Hindenburgring\, Hindenburgring 4\, Gronau\, 48599
CATEGORIES:Food & drink,Tours + guided tours
ATTACH;FMTTYPE=image/jpeg:https://gronau-inside.de/wp-content/uploads/2024/03/Kneipen-Knifte-und-ein-Korn-scaled.jpg
ORGANIZER;CN="Stadtmarketing/Touristinfo":MAILTO:info@stadtmarketing-gronau.de
END:VEVENT
BEGIN:VEVENT
DTSTART;TZID=Europe/Berlin:20260717T173000
DTEND;TZID=Europe/Berlin:20260717T220000
DTSTAMP:20260422T173140
CREATED:20260123T134922Z
LAST-MODIFIED:20260123T134922Z
UID:10006648-1784309400-1784325600@gronau-inside.de
SUMMARY:Garden concert & BBQ
DESCRIPTION:We love summer nights like these. That’s why we’re celebrating again this summer with our guests and band friends. Outside in the large garden\, under the trees\, with a wonderful atmosphere and a lovely BBQ buffet with delicious treats straight from the Feuerring. Of course\, good music is a must.    \n  \nOur garden concert brings you handmade music full of emotion and energy: The Boxers – an acoustic duo from the Münsterland region that will delight you with two guitars\, two strong voices and a good dose of rhythm. Martin Schlee and Michael Mühlmann have plenty of favorite songs in their luggage – from Simon & Garfunkel to the Beatles\, Cat Stevens and Sting to Ed Sheeran\, Coldplay and Oasis. Sometimes gentle\, sometimes rousing\, but always genuine and full of joy! Particularly impressive: the two not only provide harmonious vocals and brilliant guitar sounds\, but also deliver the right groove – live and played directly with their feet.    \n  \nWe love to talk about these evenings. They have a magic that you have to experience.  \n  \nAnd would you like to be there? Get your tickets now and dance with us into the balmy summer evenings!
URL:https://gronau-inside.de/en/veranstaltung/garden-concert-bbq
LOCATION:Appartement – Hotel – Restaurant Seeblick\, Brechter Weg 15\, Gronau\, NRW\, 48599
CATEGORIES:Food & drink,Music
ATTACH;FMTTYPE=image/jpeg:https://gronau-inside.de/wp-content/uploads/2026/01/Gartenkonzert.jpg
END:VEVENT
BEGIN:VEVENT
DTSTART;TZID=Europe/Berlin:20260717T183000
DTEND;TZID=Europe/Berlin:20260717T213000
DTSTAMP:20260422T173140
CREATED:20260123T133832Z
LAST-MODIFIED:20260123T133832Z
UID:10006643-1784313000-1784323800@gronau-inside.de
SUMMARY:Yoga\, wine & tapas
DESCRIPTION:A summer evening for all the senses – with Marielle \nExperience yoga at sunset on the large mountain by the lake\, followed by a Mediterranean tapas picnic with selected wines in a convivial atmosphere. Perfect for you alone\, with friends or as a very special summer date.  \n  \nDates 2026: \n12.06 | 17.07 | 28.08 \nTime: 18.30-21.30 \nLocation: Drilandsee\, viewpoint “Großer Berg”\, Gronau \nPrice: 44\,95 € \nBring along: Comfortable clothes\, yoga mat & good mood
URL:https://gronau-inside.de/en/veranstaltung/yoga-wine-tapas-2/2026-07-17
LOCATION:Drilandsee\, “Großer Berg” viewpoint\, Brechter Weg\, Gronau\, NRW\, 48599
ATTACH;FMTTYPE=image/jpeg:https://gronau-inside.de/wp-content/uploads/2026/01/Yogilates-Wein.jpeg
ORGANIZER;CN="Bodypeace":MAILTO:info@bodypeace.fit
END:VEVENT
END:VCALENDAR