BEGIN:VCALENDAR
VERSION:2.0
PRODID:-//Gronau Inside - ECPv6.15.18//NONSGML v1.0//EN
CALSCALE:GREGORIAN
METHOD:PUBLISH
X-WR-CALNAME:Gronau Inside
X-ORIGINAL-URL:https://gronau-inside.de/en
X-WR-CALDESC:Events for Gronau Inside
REFRESH-INTERVAL;VALUE=DURATION:PT1H
X-Robots-Tag:noindex
X-PUBLISHED-TTL:PT1H
BEGIN:VTIMEZONE
TZID:Europe/Berlin
BEGIN:DAYLIGHT
TZOFFSETFROM:+0100
TZOFFSETTO:+0200
TZNAME:CEST
DTSTART:20240331T010000
END:DAYLIGHT
BEGIN:STANDARD
TZOFFSETFROM:+0200
TZOFFSETTO:+0100
TZNAME:CET
DTSTART:20241027T010000
END:STANDARD
BEGIN:DAYLIGHT
TZOFFSETFROM:+0100
TZOFFSETTO:+0200
TZNAME:CEST
DTSTART:20250330T010000
END:DAYLIGHT
BEGIN:STANDARD
TZOFFSETFROM:+0200
TZOFFSETTO:+0100
TZNAME:CET
DTSTART:20251026T010000
END:STANDARD
BEGIN:DAYLIGHT
TZOFFSETFROM:+0100
TZOFFSETTO:+0200
TZNAME:CEST
DTSTART:20260329T010000
END:DAYLIGHT
BEGIN:STANDARD
TZOFFSETFROM:+0200
TZOFFSETTO:+0100
TZNAME:CET
DTSTART:20261025T010000
END:STANDARD
END:VTIMEZONE
BEGIN:VEVENT
DTSTART;TZID=Europe/Berlin:20250912T150000
DTEND;TZID=Europe/Berlin:20250912T190000
DTSTAMP:20260420T220432
CREATED:20250821T100337Z
LAST-MODIFIED:20250821T100337Z
UID:10004621-1757689200-1757703600@gronau-inside.de
SUMMARY:Guided hike through the Gildehauser Venn
DESCRIPTION:The 650-hectare nature reserve “Gildehauser Venn” is one of the most beautiful and impressive heath and moorland landscapes in the area. It is ideal for long walks in the countryside. The area is criss-crossed by flat\, elongated dune ridges. The damp moor heaths are dominated by bell heather and are partly interspersed with reeds and bog lilies. The dry dune ridges are mainly sandy heaths. Species such as red-backed shrike\, lapwing\, curlew and snipe breed here.      \nTogether with the certified forest guide Stefan Leiding from Bocholt\, you will go on a 4-hour hike through the fens and the surrounding countryside and learn interesting facts about the area. A parking ticket for the duration of the hike is also included in the price. \nTickets for adults cost €33.00\, children up to the age of 12 pay €27.00.
URL:https://gronau-inside.de/en/veranstaltung/guided-hike-through-the-gildehauser-venn
LOCATION:Dreiländersee\, Brechter Weg\, Gronau\, NRW\, 48599\, Deutschland
CATEGORIES:Dreiländersee,Tours + guided tours
ATTACH;FMTTYPE=image/jpeg:https://gronau-inside.de/wp-content/uploads/2025/01/Waldfuehrer-Stefan-Leiding-im-Gildehauser-Venn_Stadtmarketing-Gronau-scaled.jpeg
ORGANIZER;CN="Kulturb%C3%BCro/ Touristinfo & Stadtmarketing Gronau":MAILTO:info@stadtmarketing-gronau.de
END:VEVENT
END:VCALENDAR