BEGIN:VCALENDAR
VERSION:2.0
PRODID:-//Gronau Inside - ECPv6.15.18//NONSGML v1.0//EN
CALSCALE:GREGORIAN
METHOD:PUBLISH
X-WR-CALNAME:Gronau Inside
X-ORIGINAL-URL:https://gronau-inside.de/en
X-WR-CALDESC:Events for Gronau Inside
REFRESH-INTERVAL;VALUE=DURATION:PT1H
X-Robots-Tag:noindex
X-PUBLISHED-TTL:PT1H
BEGIN:VTIMEZONE
TZID:Europe/Berlin
BEGIN:DAYLIGHT
TZOFFSETFROM:+0100
TZOFFSETTO:+0200
TZNAME:CEST
DTSTART:20240331T010000
END:DAYLIGHT
BEGIN:STANDARD
TZOFFSETFROM:+0200
TZOFFSETTO:+0100
TZNAME:CET
DTSTART:20241027T010000
END:STANDARD
BEGIN:DAYLIGHT
TZOFFSETFROM:+0100
TZOFFSETTO:+0200
TZNAME:CEST
DTSTART:20250330T010000
END:DAYLIGHT
BEGIN:STANDARD
TZOFFSETFROM:+0200
TZOFFSETTO:+0100
TZNAME:CET
DTSTART:20251026T010000
END:STANDARD
BEGIN:DAYLIGHT
TZOFFSETFROM:+0100
TZOFFSETTO:+0200
TZNAME:CEST
DTSTART:20260329T010000
END:DAYLIGHT
BEGIN:STANDARD
TZOFFSETFROM:+0200
TZOFFSETTO:+0100
TZNAME:CET
DTSTART:20261025T010000
END:STANDARD
END:VTIMEZONE
BEGIN:VEVENT
DTSTART;TZID=Europe/Berlin:20251221T140000
DTEND;TZID=Europe/Berlin:20251221T200000
DTSTAMP:20260423T043640
CREATED:20250121T150941Z
LAST-MODIFIED:20250226T105553Z
UID:10002462-1766325600-1766347200@gronau-inside.de
SUMMARY:Weihnachtsmarkt am Dreiländersee\, Seeblick
DESCRIPTION:Weihnachtsmarkt am Drilandsee auf der Seeterrasse vom Restaurant Seeblick \nMit Glühwein & Punsch stoßt ihr mit euren Freunden am knisternden Feuer an\, holt euch herzhafte & süße Leckereien aus unseren Hütten und genießt ein Winter-BBQ vom Grillring! \nIhr könnt einfach spontan vorbei kommen! \nNoch keine Idee für eure Weihnachtsfeier? – Dann könnt ihr für eure Truppe unser All-In Weihnachtsmarkt Paket kaufen \n  \n(c)Fotos: Appartementhotel Restaurant Seeblick
URL:https://gronau-inside.de/en/veranstaltung/weihnachtsmarkt-am-dreilaendersee-seeblick-2025/2025-12-21
LOCATION:Appartement – Hotel – Restaurant Seeblick\, Brechter Weg 15\, Gronau\, NRW\, 48599
ATTACH;FMTTYPE=image/jpeg:https://gronau-inside.de/wp-content/uploads/2024/06/8174419A-CDAD-4BB3-AAB1-CB27C5C7B328-scaled.jpeg
END:VEVENT
BEGIN:VEVENT
DTSTART;TZID=Europe/Berlin:20251220T150000
DTEND;TZID=Europe/Berlin:20251220T220000
DTSTAMP:20260423T043641
CREATED:20250121T150941Z
LAST-MODIFIED:20250226T105553Z
UID:10002461-1766242800-1766268000@gronau-inside.de
SUMMARY:Weihnachtsmarkt am Dreiländersee\, Seeblick
DESCRIPTION:Weihnachtsmarkt am Drilandsee auf der Seeterrasse vom Restaurant Seeblick \nMit Glühwein & Punsch stoßt ihr mit euren Freunden am knisternden Feuer an\, holt euch herzhafte & süße Leckereien aus unseren Hütten und genießt ein Winter-BBQ vom Grillring! \nIhr könnt einfach spontan vorbei kommen! \nNoch keine Idee für eure Weihnachtsfeier? – Dann könnt ihr für eure Truppe unser All-In Weihnachtsmarkt Paket kaufen \n  \n(c)Fotos: Appartementhotel Restaurant Seeblick
URL:https://gronau-inside.de/en/veranstaltung/weihnachtsmarkt-am-dreilaendersee-seeblick-2025/2025-12-20
LOCATION:Appartement – Hotel – Restaurant Seeblick\, Brechter Weg 15\, Gronau\, NRW\, 48599
ATTACH;FMTTYPE=image/jpeg:https://gronau-inside.de/wp-content/uploads/2024/06/8174419A-CDAD-4BB3-AAB1-CB27C5C7B328-scaled.jpeg
END:VEVENT
BEGIN:VEVENT
DTSTART;TZID=Europe/Berlin:20251219T150000
DTEND;TZID=Europe/Berlin:20251219T150000
DTSTAMP:20260423T043641
CREATED:20250121T150941Z
LAST-MODIFIED:20250226T105553Z
UID:10002460-1766156400-1766156400@gronau-inside.de
SUMMARY:Weihnachtsmarkt am Dreiländersee\, Seeblick
DESCRIPTION:Weihnachtsmarkt am Drilandsee auf der Seeterrasse vom Restaurant Seeblick \nMit Glühwein & Punsch stoßt ihr mit euren Freunden am knisternden Feuer an\, holt euch herzhafte & süße Leckereien aus unseren Hütten und genießt ein Winter-BBQ vom Grillring! \nIhr könnt einfach spontan vorbei kommen! \nNoch keine Idee für eure Weihnachtsfeier? – Dann könnt ihr für eure Truppe unser All-In Weihnachtsmarkt Paket kaufen \n  \n(c)Fotos: Appartementhotel Restaurant Seeblick
URL:https://gronau-inside.de/en/veranstaltung/weihnachtsmarkt-am-dreilaendersee-seeblick-2025/2025-12-19
LOCATION:Appartement – Hotel – Restaurant Seeblick\, Brechter Weg 15\, Gronau\, NRW\, 48599
ATTACH;FMTTYPE=image/jpeg:https://gronau-inside.de/wp-content/uploads/2024/06/8174419A-CDAD-4BB3-AAB1-CB27C5C7B328-scaled.jpeg
END:VEVENT
BEGIN:VEVENT
DTSTART;TZID=Europe/Berlin:20251203T183000
DTEND;TZID=Europe/Berlin:20251203T220000
DTSTAMP:20260423T043641
CREATED:20250226T105342Z
LAST-MODIFIED:20250226T105342Z
UID:10002582-1764786600-1764799200@gronau-inside.de
SUMMARY:Kurzgeschichten und Biergeflüster
DESCRIPTION:Das Feuer im Kamin knistert\, & Christian Nachtigäller erzählt mit Witz und Ironie von den absurden Abenteuern des Alltags. Dazu gibt es kleine Leckereien und feinste regionale Craft-Biere\npräsentiert vom Brauer Dirk Bonekamp aus Dülmen.
URL:https://gronau-inside.de/en/veranstaltung/kurzgeschichten-und-biergefluester
LOCATION:Appartement – Hotel – Restaurant Seeblick\, Brechter Weg 15\, Gronau\, NRW\, 48599
ATTACH;FMTTYPE=image/jpeg:https://gronau-inside.de/wp-content/uploads/2025/02/Prospekt-Event-Uebersicht-2025-5-1.jpg
END:VEVENT
BEGIN:VEVENT
DTSTART;TZID=Europe/Berlin:20251122T193000
DTEND;TZID=Europe/Berlin:20251122T193000
DTSTAMP:20260423T043641
CREATED:20250226T103723Z
LAST-MODIFIED:20250226T105056Z
UID:10002579-1763839800-1763839800@gronau-inside.de
SUMMARY:Musical Dinner
DESCRIPTION:Erleben Sie die bunte Vielfalt der Musical Melodien. Eine Menge Spaß und gute Laune sind garantiert! Selbstverständlich LIVE gesungen\, performed und mit einem exklusiven 4-Gänge Galamenü.
URL:https://gronau-inside.de/en/veranstaltung/musical-dinner-2/2025-11-22
LOCATION:Appartement – Hotel – Restaurant Seeblick\, Brechter Weg 15\, Gronau\, NRW\, 48599
ATTACH;FMTTYPE=image/jpeg:https://gronau-inside.de/wp-content/uploads/2025/02/Musical-Dinner.jpg
END:VEVENT
BEGIN:VEVENT
DTSTART;TZID=Europe/Berlin:20251121T193000
DTEND;TZID=Europe/Berlin:20251121T193000
DTSTAMP:20260423T043641
CREATED:20250226T103723Z
LAST-MODIFIED:20250226T105056Z
UID:10002578-1763753400-1763753400@gronau-inside.de
SUMMARY:Musical Dinner
DESCRIPTION:Erleben Sie die bunte Vielfalt der Musical Melodien. Eine Menge Spaß und gute Laune sind garantiert! Selbstverständlich LIVE gesungen\, performed und mit einem exklusiven 4-Gänge Galamenü.
URL:https://gronau-inside.de/en/veranstaltung/musical-dinner-2/2025-11-21
LOCATION:Appartement – Hotel – Restaurant Seeblick\, Brechter Weg 15\, Gronau\, NRW\, 48599
ATTACH;FMTTYPE=image/jpeg:https://gronau-inside.de/wp-content/uploads/2025/02/Musical-Dinner.jpg
END:VEVENT
BEGIN:VEVENT
DTSTART;TZID=Europe/Berlin:20250912T150000
DTEND;TZID=Europe/Berlin:20250912T190000
DTSTAMP:20260423T043641
CREATED:20250821T100337Z
LAST-MODIFIED:20250821T100337Z
UID:10004621-1757689200-1757703600@gronau-inside.de
SUMMARY:Guided hike through the Gildehauser Venn
DESCRIPTION:The 650-hectare nature reserve “Gildehauser Venn” is one of the most beautiful and impressive heath and moorland landscapes in the area. It is ideal for long walks in the countryside. The area is criss-crossed by flat\, elongated dune ridges. The damp moor heaths are dominated by bell heather and are partly interspersed with reeds and bog lilies. The dry dune ridges are mainly sandy heaths. Species such as red-backed shrike\, lapwing\, curlew and snipe breed here.      \nTogether with the certified forest guide Stefan Leiding from Bocholt\, you will go on a 4-hour hike through the fens and the surrounding countryside and learn interesting facts about the area. A parking ticket for the duration of the hike is also included in the price. \nTickets for adults cost €33.00\, children up to the age of 12 pay €27.00.
URL:https://gronau-inside.de/en/veranstaltung/guided-hike-through-the-gildehauser-venn
LOCATION:Dreiländersee\, Brechter Weg\, Gronau\, NRW\, 48599\, Deutschland
CATEGORIES:Dreiländersee,Tours + guided tours
ATTACH;FMTTYPE=image/jpeg:https://gronau-inside.de/wp-content/uploads/2025/01/Waldfuehrer-Stefan-Leiding-im-Gildehauser-Venn_Stadtmarketing-Gronau-scaled.jpeg
ORGANIZER;CN="Kulturb%C3%BCro/ Touristinfo & Stadtmarketing Gronau":MAILTO:info@stadtmarketing-gronau.de
END:VEVENT
END:VCALENDAR