BEGIN:VCALENDAR
VERSION:2.0
PRODID:-//Gronau Inside - ECPv6.15.18//NONSGML v1.0//EN
CALSCALE:GREGORIAN
METHOD:PUBLISH
X-ORIGINAL-URL:https://gronau-inside.de/en
X-WR-CALDESC:Events for Gronau Inside
REFRESH-INTERVAL;VALUE=DURATION:PT1H
X-Robots-Tag:noindex
X-PUBLISHED-TTL:PT1H
BEGIN:VTIMEZONE
TZID:Europe/Berlin
BEGIN:DAYLIGHT
TZOFFSETFROM:+0100
TZOFFSETTO:+0200
TZNAME:CEST
DTSTART:20250330T010000
END:DAYLIGHT
BEGIN:STANDARD
TZOFFSETFROM:+0200
TZOFFSETTO:+0100
TZNAME:CET
DTSTART:20251026T010000
END:STANDARD
BEGIN:DAYLIGHT
TZOFFSETFROM:+0100
TZOFFSETTO:+0200
TZNAME:CEST
DTSTART:20260329T010000
END:DAYLIGHT
BEGIN:STANDARD
TZOFFSETFROM:+0200
TZOFFSETTO:+0100
TZNAME:CET
DTSTART:20261025T010000
END:STANDARD
BEGIN:DAYLIGHT
TZOFFSETFROM:+0100
TZOFFSETTO:+0200
TZNAME:CEST
DTSTART:20270328T010000
END:DAYLIGHT
BEGIN:STANDARD
TZOFFSETFROM:+0200
TZOFFSETTO:+0100
TZNAME:CET
DTSTART:20271031T010000
END:STANDARD
END:VTIMEZONE
BEGIN:VEVENT
DTSTART;TZID=Europe/Berlin:20260425T200000
DTEND;TZID=Europe/Berlin:20260425T200000
DTSTAMP:20260423T023646
CREATED:20251128T071635Z
LAST-MODIFIED:20251128T071635Z
UID:10005889-1777147200-1777147200@gronau-inside.de
SUMMARY:Jazzfest meets Spring Festival: The Funkeys
DESCRIPTION:31 years of The Funkeys:\nThat speaks for rousing music\, powerful sound\, inspiring joy of playing. Live\, unique\, merciless! With their stunning\, charming and entertaining show\, the 11 thoroughbred musicians turn every event into an unforgettable live experience. Over the years\, The FunKeys have created their very own style. The interface between the audience and the band is formed by three voices that are second to none\, interpreting soul\, rock and funk songs with tremendous power and distinctiveness. The tirelessly toiling\, grooving band with their\nenergetic horn riffs creates an atmosphere that inevitably makes you twitch\, rock and sweat along!\nA unique show! Every performance is savored to the point of exhaustion. When The FunKeys take to the stage\, a long and sweaty night of rock’n soul is on the cards!        \nfree of charge as part of the spring festival in Epe
URL:https://gronau-inside.de/en/veranstaltung/jazzfest-meets-spring-festival-the-funkeys
LOCATION:NRW
CATEGORIES:Festivities + Party,Highlight,Music
ATTACH;FMTTYPE=image/jpeg:https://gronau-inside.de/wp-content/uploads/2025/11/Funkeys_Presse_24.jpg
ORGANIZER;CN="Kulturb%C3%BCro/ Touristinfo & Stadtmarketing Gronau":MAILTO:info@stadtmarketing-gronau.de
END:VEVENT
BEGIN:VEVENT
DTSTART;TZID=Europe/Berlin:20260428T200000
DTEND;TZID=Europe/Berlin:20260428T200000
DTSTAMP:20260423T023646
CREATED:20251128T071721Z
LAST-MODIFIED:20251128T071725Z
UID:10005894-1777406400-1777406400@gronau-inside.de
SUMMARY:Jazzfest: Alma Naidu feat. Jakob Manz
DESCRIPTION:The award-winning Munich singer and composer Alma Naidu has established herself as one of the most touching voices in young German jazz. Her songs combine poetic depth with sonic lightness – music that effortlessly transcends boundaries between jazz\, pop and singer-songwriter.  \nAt her concert in Gronau\, Alma Naidu will be supported by the young saxophonist Jakob Manz\, who has mastered his instrument like few others\, making him one of the most sought-after jazz musicians in Germany. \nPhoto Alma Naidu (c) Viktoriya Zayika\nPhoto Jakob Manz (c) Thomas Kiehl \nFrom 01.12.25 – 04.01.26 there will be an exclusive presale at all Eventim advance booking offices (including Touristinfo Gronau\, tel. 02562 99006) and online at www.eventim.de. Early bookers can look forward to an attractive discount of 20%. Normal advance sales will then start from January 5\, 2026.
URL:https://gronau-inside.de/en/veranstaltung/jazzfest-alma-naidu-feat-jakob-manz
LOCATION:Bürgerhalle Gronau\, Spinnereistraße 20\, Gronau\, 48599
CATEGORIES:Civic hall,Highlight,Music
ATTACH;FMTTYPE=image/jpeg:https://gronau-inside.de/wp-content/uploads/2025/11/JF26_Alma-Naidu_Jakob-Manz_Early-Bird-insta.jpg
ORGANIZER;CN="Kulturb%C3%BCro/ Touristinfo & Stadtmarketing Gronau":MAILTO:info@stadtmarketing-gronau.de
END:VEVENT
BEGIN:VEVENT
DTSTART;TZID=Europe/Berlin:20260429T200000
DTEND;TZID=Europe/Berlin:20260429T200000
DTSTAMP:20260423T023646
CREATED:20251128T075751Z
LAST-MODIFIED:20251128T075751Z
UID:10005904-1777492800-1777492800@gronau-inside.de
SUMMARY:Jazzfest: Alphaville
DESCRIPTION:Alphaville\, the legendary synth-pop band that achieved worldwide fame in the 80s\, has been inspiring audiences for decades with timeless hits such as “Big in Japan” and “Forever Young”. The latter in particular is currently experiencing a new wave of popularity and is reaching a young audience via social media and streaming platforms. With their unique blend of new wave sound and epic atmosphere\, Alphaville and singer Marian Gold create unforgettable live moments.  \nFrom 01.12.25 – 04.01.26 there will be an exclusive presale at all Eventim advance booking offices (including Touristinfo Gronau\, tel. 02562 99006) and online at www.eventim.de. Early bookers can look forward to an attractive discount of 20%. Normal advance sales will then start from January 5\, 2026.
URL:https://gronau-inside.de/en/veranstaltung/jazzfest-alphaville
LOCATION:Bürgerhalle Gronau\, Spinnereistraße 20\, Gronau\, 48599
CATEGORIES:Civic hall,Festivities + Party,Highlight,Music
ATTACH;FMTTYPE=image/jpeg:https://gronau-inside.de/wp-content/uploads/2025/11/JF26_insta-Alphaville.jpg
ORGANIZER;CN="Kulturb%C3%BCro/ Touristinfo & Stadtmarketing Gronau":MAILTO:info@stadtmarketing-gronau.de
END:VEVENT
BEGIN:VEVENT
DTSTART;TZID=Europe/Berlin:20260430T200000
DTEND;TZID=Europe/Berlin:20260430T200000
DTSTAMP:20260423T023646
CREATED:20251128T071740Z
LAST-MODIFIED:20251128T071740Z
UID:10005896-1777579200-1777579200@gronau-inside.de
SUMMARY:Jazzfest: Billy Cobham & JugendJazzOrchester NRW
DESCRIPTION:A special musical highlight awaits the audience on International Jazz Day: fusion icon Billy Cobham meets the JugendJazzOrchester NRW. When the energy and experience of the world-famous drummer meets the joy of playing and creativity of the young talents\, an extraordinary dialog between the generations is created. Together with the Billy Cobham Quintet\, they present a program full of rhythmic sophistication\, improvisational joy and intoxicating soundscapes.   \nFrom 01.12.25 – 04.01.26 there will be an exclusive presale at all Eventim advance booking offices (including Touristinfo Gronau\, tel. 02562 99006) and online at www.eventim.de. Early bookers can look forward to an attractive discount of 20%. Normal advance sales will then start from January 5\, 2026.   \nPhoto Billy Cobham (c) Anton Antonov\nPhoto JJO NRW (c) Rebecca ter Braak \n 
URL:https://gronau-inside.de/en/veranstaltung/jazzfest-billy-cobham-jugendjazzorchester-nrw
LOCATION:Bürgerhalle Gronau\, Spinnereistraße 20\, Gronau\, 48599
CATEGORIES:Civic hall,Highlight,Music
ATTACH;FMTTYPE=image/jpeg:https://gronau-inside.de/wp-content/uploads/2025/11/JF26_insta-Billy-Cobham_JJO-NRW.jpg
ORGANIZER;CN="Kulturb%C3%BCro/ Touristinfo & Stadtmarketing Gronau":MAILTO:info@stadtmarketing-gronau.de
END:VEVENT
BEGIN:VEVENT
DTSTART;TZID=Europe/Berlin:20260430T210000
DTEND;TZID=Europe/Berlin:20260430T210000
DTSTAMP:20260423T023646
CREATED:20251128T071753Z
LAST-MODIFIED:20251128T071757Z
UID:10005898-1777582800-1777582800@gronau-inside.de
SUMMARY:Jazzfest: Offbeat Party
DESCRIPTION:For the first time\, there will be an “Offbeat Party” with DJ in the Cinetech cinema on the evening before 01.05.26. \nTickets only available at the box office: 10\,- Euro
URL:https://gronau-inside.de/en/veranstaltung/jazzfest-offbeat-party
LOCATION:Cinetech Gronau\, Mühlenmathe 37\, Gronau\, 48599
CATEGORIES:Cinema,Festivities + Party,Highlight,KuBiG (Cultural Education Gronau),Music
ATTACH;FMTTYPE=image/jpeg:https://gronau-inside.de/wp-content/uploads/2025/11/JF26_Offbeatparty_insta.jpg
ORGANIZER;CN="Kulturb%C3%BCro/ Touristinfo & Stadtmarketing Gronau":MAILTO:info@stadtmarketing-gronau.de
END:VEVENT
BEGIN:VEVENT
DTSTART;TZID=Europe/Berlin:20260501T150000
DTEND;TZID=Europe/Berlin:20260501T150000
DTSTAMP:20260423T023646
CREATED:20251128T071810Z
LAST-MODIFIED:20251128T071810Z
UID:10005899-1777647600-1777647600@gronau-inside.de
SUMMARY:Jazzfest: Pluto's Dixie Delight
DESCRIPTION:Stadtwerke Gronau invites you to the free opening of the outdoor pool season as part of the Jazzfest.\n“Pluto’s Dixie Delight” provide the musical entertainment \nPhoto (c) Winne Voget
URL:https://gronau-inside.de/en/veranstaltung/jazzfest-plutos-dixie-delight
LOCATION:Parkfreibad Gronau\, Brändströmstraße 25\, Gronau\, 48599
CATEGORIES:Families + children,Festivities + Party,Food & drink,Highlight,KuBiG (Cultural Education Gronau),Music
ATTACH;FMTTYPE=image/jpeg:https://gronau-inside.de/wp-content/uploads/2025/11/JF26_insta-Plutos-Dixie-Delights.jpg
ORGANIZER;CN="Kulturb%C3%BCro/ Touristinfo & Stadtmarketing Gronau":MAILTO:info@stadtmarketing-gronau.de
END:VEVENT
BEGIN:VEVENT
DTSTART;TZID=Europe/Berlin:20260501T190000
DTEND;TZID=Europe/Berlin:20260501T190000
DTSTAMP:20260423T023646
CREATED:20251128T071822Z
LAST-MODIFIED:20251128T071825Z
UID:10005902-1777662000-1777662000@gronau-inside.de
SUMMARY:Jazzfest: Loi & Gregor Hägele
DESCRIPTION:For the traditional pop evening\, the Jazzfest presents a double concert with Loi and Gregor Hägele. Loi has quickly established herself in the German music scene with her unique voice and soulful songs. With over 1 million followers on social media platforms\, two songs with more than 100 million streams and three top 3 singles on German airplay (Gold\, News\, Am I Enough)\, she is inspiring fans not only nationally but worldwide. Gregor Hägele is one of the most exciting new voices in Germany. With his debut album “Prototyp Liebe” and the viral single “Mama war immer recht”\, he inspired millions on TikTok and has already supported Sarah Connor and Johannes Oerding on stage.     \nFrom 01.12.25 – 04.01.26 there will be an exclusive presale at all Eventim advance booking offices (including Touristinfo Gronau\, tel. 02562 99006) and online at www.eventim.de. Early bookers can look forward to an attractive discount of 20%. Normal advance sales will then start from January 5\, 2026.   \nPhoto Loi (c)Philipp Gladsome\nPhoto Hägele (c)Sascha Wernicke
URL:https://gronau-inside.de/en/veranstaltung/jazzfest-loi-gregor-haegele
LOCATION:Bürgerhalle Gronau\, Spinnereistraße 20\, Gronau\, 48599
CATEGORIES:Civic hall,Families + children,Festivities + Party,Highlight,KuBiG (Cultural Education Gronau),Music
ATTACH;FMTTYPE=image/jpeg:https://gronau-inside.de/wp-content/uploads/2025/11/JF26_insta-LOI_Gregor-Haegerle.jpg
ORGANIZER;CN="Kulturb%C3%BCro/ Touristinfo & Stadtmarketing Gronau":MAILTO:info@stadtmarketing-gronau.de
END:VEVENT
BEGIN:VEVENT
DTSTART;TZID=Europe/Berlin:20260503T110000
DTEND;TZID=Europe/Berlin:20260503T110000
DTSTAMP:20260423T023646
CREATED:20251124T155034Z
LAST-MODIFIED:20251201T091849Z
UID:10005847-1777806000-1777806000@gronau-inside.de
SUMMARY:Jazzfest: North Sea String Quartet
DESCRIPTION:On 03.05.26 the “North Sea String Quartet” will perform a matinee concert in Georg’s gallery in Epe. \nChamber jazz\, folk fusion\, world music improvisers – the NORTH SEA STRING QUARTET from Rotterdam is considered one of the most exciting and innovative of its kind and has already experienced many attempts at definition. \nIn the end\, no one quite grasps the compositions by violinists George Dumitriu and Pablo Rodríguez\, Yanna Pelser on viola and Thomas van Geelen on cello\, which are inspired by classical\, world\, folk and jazz music and are always open to improvisation. Using new playing techniques\, they transfer music to the string quartet format that one would never have thought possible – and they really groove in the process.  \nFrom 01.12.25 – 04.01.26 there will be an exclusive presale at all Eventim advance booking offices (including Touristinfo Gronau\, tel. 02562 99006) and online at www.eventim.de. Early bookers can look forward to an attractive discount of 20%. Normal advance sales will then start from January 5\, 2026.
URL:https://gronau-inside.de/en/veranstaltung/jazzfest-north-sea-string-quartet
LOCATION:Georgs Galerie\, Merschstraße 21\, Gronau-Epe\, 48599
CATEGORIES:Highlight,KuBiG (Cultural Education Gronau),Music
ATTACH;FMTTYPE=image/jpeg:https://gronau-inside.de/wp-content/uploads/2025/11/JF26_North_Sea_String_Quartet_Early-Bird-insta.jpg
ORGANIZER;CN="Kulturb%C3%BCro/ Touristinfo & Stadtmarketing Gronau":MAILTO:info@stadtmarketing-gronau.de
END:VEVENT
BEGIN:VEVENT
DTSTART;TZID=Europe/Berlin:20260503T120000
DTEND;TZID=Europe/Berlin:20260503T170000
DTSTAMP:20260423T023646
CREATED:20251124T155033Z
LAST-MODIFIED:20251124T155033Z
UID:10005845-1777809600-1777827600@gronau-inside.de
SUMMARY:Jazzfest: Jazz in the City
DESCRIPTION:At Jazz in the City on Sunday\, 03.05.26\, numerous brass and live bands will be performing in Gronau’s city center\, which is open for business.
URL:https://gronau-inside.de/en/veranstaltung/jazzfest-jazz-in-the-city
LOCATION:Gronauer Innenstadt\, Neustraße\, Gronau\, 48599
CATEGORIES:Families + children,Festivities + Party,Food & drink,Highlight,KuBiG (Cultural Education Gronau),Music
ATTACH;FMTTYPE=image/jpeg:https://gronau-inside.de/wp-content/uploads/2025/11/Jazzfest_2026_So-Me-Grafiken_Insta.jpg
ORGANIZER;CN="Kulturb%C3%BCro/ Touristinfo & Stadtmarketing Gronau":MAILTO:info@stadtmarketing-gronau.de
END:VEVENT
BEGIN:VEVENT
DTSTART;TZID=Europe/Berlin:20260509T200000
DTEND;TZID=Europe/Berlin:20260509T200000
DTSTAMP:20260423T023646
CREATED:20260216T143752Z
LAST-MODIFIED:20260216T143752Z
UID:10006796-1778356800-1778356800@gronau-inside.de
SUMMARY:Band of the week
DESCRIPTION:“Band of the Week” – newcomer concert meets film production \nDiscover the stars of tomorrow: “Band of the Week” is a special concert evening that combines fresh indie and pop sounds with creative film art.\nSelected newcomer acts take center stage on this evening – bands and solo artists who not only impress live\, but are also part of a unique music & film project. Together with up-and-coming female filmmakers\, professional music videos are created that mark the beginning of new musical paths.  \nIncluding:\n7Miles\nAunt Emma\nReni \n“Band of the Week” stands for visibility\, promoting new talent and a genuine passion for new music – and you are right in the middle of it.\nAn evening for everyone who loves indie & pop\, is curious about new sounds and wants to be part of something new. \nBand of the Week is supported by RKP – Regionales Kultur Programm NRW\, Popboard NRW and Filmstadt e.V. \nMusikclub Turbine\nDate: 09.05.2026\nAdmission: 19:00\nStart: 20:00\nVVK: 15\,-€\nAK: 18\,-€\nStanding room – free choice of seats
URL:https://gronau-inside.de/en/veranstaltung/band-of-the-week
LOCATION:Musikclub Turbine\, Udo-Lindenberg-Platz 1\, Gronau\, NRW\, 48599\, Deutschland
CATEGORIES:Highlight,KuBiG (Cultural Education Gronau),Music,rock'n'pop museum
ATTACH;FMTTYPE=image/jpeg:https://gronau-inside.de/wp-content/uploads/2026/02/Band-of-the-Week-Logo.jpg
ORGANIZER;CN="rock'n'popmuseum Gronau GmbH":MAILTO:info@rock-popmuseum.de
END:VEVENT
BEGIN:VEVENT
DTSTART;TZID=Europe/Berlin:20260604T200000
DTEND;TZID=Europe/Berlin:20260604T200000
DTSTAMP:20260423T023646
CREATED:20260216T143605Z
LAST-MODIFIED:20260216T143605Z
UID:10006792-1780603200-1780603200@gronau-inside.de
SUMMARY:Bertram Engel
DESCRIPTION:Bertram Engel live: “I don’t play with old men!” – A reading performance with music. \nBertram Engel is one of the most influential drummers in German rock history. For almost five decades\, he has been a musical companion to Udo Lindenberg and Peter Maffay – two artists who could hardly be more different. Bruce Springsteen even called him “one of the best drummers in the world”.   \nIn his reading performance “Mit alten Männern spiel’ ich nicht!”\, Bertram Engel takes the audience behind the scenes of these extraordinary careers. Based on his autobiography of the same name\, he tells of legendary studio moments\, creative friction\, friendships and successes with humor\, depth and great openness – straight from the horse’s mouth.  \nThe performance is more than just a reading:\nBertram Engel combines personal stories with live music and plays songs that he has written for Udo Lindenberg\, Peter Maffay and other greats. He shows himself not only as a drummer\, but also as a pianist and singer. The audience learns how pop songs are created\, how they change – and sometimes become classics.   \nA personal\, entertaining and musical stage program – matching the special exhibition “Udo L. lives in the hotel”. \nMusikclub Turbine\nDate: 04.06.2026\nAdmission: 19:00\nStart: 20:00\nVVK: 30\,-€\nAK: 35\,-€\nSeated – free choice of seats
URL:https://gronau-inside.de/en/veranstaltung/bertram-engel
LOCATION:Musikclub Turbine\, Udo-Lindenberg-Platz 1\, Gronau\, NRW\, 48599\, Deutschland
CATEGORIES:Highlight,Music,Reading,rock'n'pop museum
ATTACH;FMTTYPE=image/jpeg:https://gronau-inside.de/wp-content/uploads/2026/02/Bertram-Engel.jpg
ORGANIZER;CN="rock'n'popmuseum Gronau GmbH":MAILTO:info@rock-popmuseum.de
END:VEVENT
BEGIN:VEVENT
DTSTART;VALUE=DATE:20260814
DTEND;VALUE=DATE:20260815
DTSTAMP:20260423T023646
CREATED:20251128T103433Z
LAST-MODIFIED:20251128T103433Z
UID:10005906-1786665600-1786751999@gronau-inside.de
SUMMARY:SummerFeelings Open Air: Mark Forster\, ClockClock\, Philipp Dittberner
DESCRIPTION:Great anticipation in Gronau\, the city of music in the countryside: On  August 14 and 15\, 2026   the popular festival “SummerFeelings-DAS Gronau-Open-Air” will take place again next year. The Euregio border town will open its doors for two days and offer visitors two absolutely top programs in the music arena on the large open space at the Bürgerhalle. The local event agency Westfalen Events is cooperating for the first time with Mewes Entertainment Group GmbH\, which belongs to DEAG. Tickets will be available from 28.11.2025 at myticket\, CTS Eventim\, SummerFeelings-Gronau.de and all other advance booking offices.    \nMARK FORSTER will be the festival highlight at the “NIGHT OF POP” on Friday\, August 14\, 2026 . The high-flyers from CLOCKCLOCK and singer PHILIPP DITTBERNER will also be performing in Gronau. On Saturday\, August 15 \, 2026 \, “Schlager-Kult” at its finest will be the order of the day. None other than HOWARD CARPENDALE\, “Ein Stern-Macher” NIK P. and the exceptional artist MAITE KELLY will then set off real fireworks live with their bands and ensure a grandiose ‘mega party’.     \nMARK FORSTER\, for many years one of the best and most successful artists in the “German pop” genre\, completely thrilled well over 8\,000 visitors in the festival arena in Gronau four years ago. The exceptional artist is very much looking forward to a reunion in the “Music City in the Country” and also to rocking the arena again at the “NIGHT OF POP” with a new program and\, of course\, with his great hits in his luggage.  \nThe pop band CLOCKCLOCK has been more than present in the international airplay and radio charts for years with many NR.1 hits (Brooklyn\, Someone else\, Love u again\, Sorry etc…). Their participation in the TV format “Sing meinen Song-2025” also attracted a great deal of media attention this year. At their live shows\, the band always give their all\, with their performance and songs that go straight to the blood\, body and heart.   \nPHILIPP DITTBERNER is known for his authentic and emotional German-language pop songs. He celebrated his breakthrough in 2015 with the hit “Wolke 4”\, which went viral on the internet and became an integral part of the German pop music scene. This was followed by hits such as “Das ist dein Leben” and “Gib mir einen Grund”. The songwriter and singer-songwriter is currently celebrating his 10th anniversary on stage and completes the “NIGHT OF POP” in Gronau.   \nAfter the sold-out festivals with Roland Kaiser (2023) and Andreas Gabalier (2024)\, the organizers are now particularly looking forward to HOWARD CARPENDALE & Band on Saturday\, 15 August 2026. Well over 65 million records sold\, countless sold-out live tours and dozens of No. 1 hits adorn the success story of the South African-born singer\, who became a pop superstar in Germany. His cross-generational evergreens such as “Hello Again”\, “Ti Amo”\, “Nachts\, wenn alles schläft”\, “Wegen dir”\, “Tür an Tür mit Alice” and “Du fängst den Wind niemals ein” are absolute pop cult hits. \nWith MAITE KELLY & Band\, another highlight entertainer will rock the stage on this day. Under the motto “Schlager Heart & Flower Power!”\, the exceptional artist will party loudly with the audience\, dance barefoot\, dream under the stars and share the anthems of our lives. As a hippie Kelly child who has traveled all over the world by bus\, she considers “outside” to be her second living room. Her shows are 100% Schlagerpunk\, 100% flower power\, 100% heart! Real\, authentic\, straightforward. No chi-chi\, no fake – just Maite and her best band. With new hits and legendary songs from Kaiser to Haddaway\, Maite Kelly has everything in her picnic basket for the Schlager Night in Gronau.       \nNIK P.\, a thoroughbred musician and one of Austria’s best-known and best live artists for a long time\, became famous in this country at the end of the 90s with his self-written song “Ein Stern\, der deinen Namen trägt”. Almost ten years after its first release\, the new edition in a duet with DJ Ötzi became an absolute mega smash hit. NIK P. and his band will be performing his other hits such as “Geboren um dich zu lieben” and “Gloria” in Gronau\, creating a “cult atmosphere”.   \nAt the beginning of the Schlagerkult-Party\, which will last almost seven hours\, Germany’s most listened-to pop station\, RADIO SCHLAGERPARADIES\, will present “Schlager-Youngstars” in a separate show block on the show stage on Saturday afternoon from 16:00\, a more than atmospheric “festival warm-up” and certainly the perfect way to get in the mood for the Schlager-Kult-Party in Gronau. \n  \nAdvance ticket sales for both events start on Friday\, November 28 at 4 pm. \nTickets are available at www.eventim.de\, myticket.de\, summerfeelings-gronau.com and at all known sales outlets.   \n  \nFurther information is also available at summerfeelings-gronau.com\, especially for VIP tickets and company contingents.
URL:https://gronau-inside.de/en/veranstaltung/summerfeelings-open-air-mark-forster-clockclock-philipp-dittberner
LOCATION:Festplatz Bürgerhalle\, Spinnereistraße 20\, Gronau\, 48599
CATEGORIES:Civic hall,Highlight,Music
ATTACH;FMTTYPE=image/jpeg:https://gronau-inside.de/wp-content/uploads/2025/11/nop_poster_A1-screenshot.jpg
ORGANIZER;CN="Westfalen Events GmbH":MAILTO:info@westfalen-events.de
END:VEVENT
BEGIN:VEVENT
DTSTART;VALUE=DATE:20260815
DTEND;VALUE=DATE:20260816
DTSTAMP:20260423T023646
CREATED:20251128T104142Z
LAST-MODIFIED:20251128T104142Z
UID:10005909-1786752000-1786838399@gronau-inside.de
SUMMARY:SummerFeelings-Open-Air: Howard Carpendale\, Maite Kelly\, Nik P.
DESCRIPTION:Great anticipation in Gronau\, the city of music in the countryside: On  August 14 and 15\, 2026   the popular festival “SummerFeelings-DAS Gronau-Open-Air” will take place again next year. The Euregio border town will open its doors for two days and offer visitors two absolutely top programs in the music arena on the large open space at the Bürgerhalle. The local event agency Westfalen Events is cooperating for the first time with Mewes Entertainment Group GmbH\, which belongs to DEAG. Tickets will be available from 28.11.2025 at myticket\, CTS Eventim\, SummerFeelings-Gronau.de and all other advance booking offices.    \nMARK FORSTER will be the festival highlight at the “NIGHT OF POP” on Friday\, August 14\, 2026 . The high-flyers from CLOCKCLOCK and singer PHILIPP DITTBERNER will also be performing in Gronau. On Saturday\, August 15 \, 2026 \, “Schlager-Kult” at its finest will be the order of the day. None other than HOWARD CARPENDALE\, “Ein Stern-Macher” NIK P. and the exceptional artist MAITE KELLY will then set off real fireworks live with their bands and ensure a grandiose ‘mega party’.     \nMARK FORSTER\, for many years one of the best and most successful artists in the “German pop” genre\, completely thrilled well over 8\,000 visitors in the festival arena in Gronau four years ago. The exceptional artist is very much looking forward to a reunion in the “Music City in the Country” and also to rocking the arena again at the “NIGHT OF POP” with a new program and\, of course\, with his great hits in his luggage.  \nThe pop band CLOCKCLOCK has been more than present in the international airplay and radio charts for years with many NR.1 hits (Brooklyn\, Someone else\, Love u again\, Sorry etc…). Their participation in the TV format “Sing meinen Song-2025” also attracted a great deal of media attention this year. At their live shows\, the band always give their all\, with their performance and songs that go straight to the blood\, body and heart.   \nPHILIPP DITTBERNER is known for his authentic and emotional German-language pop songs. He celebrated his breakthrough in 2015 with the hit “Wolke 4”\, which went viral on the internet and became an integral part of the German pop music scene. This was followed by hits such as “Das ist dein Leben” and “Gib mir einen Grund”. The songwriter and singer-songwriter is currently celebrating his 10th anniversary on stage and completes the “NIGHT OF POP” in Gronau.   \nAfter the sold-out festivals with Roland Kaiser (2023) and Andreas Gabalier (2024)\, the organizers are now particularly looking forward to HOWARD CARPENDALE & Band on Saturday\, 15 August 2026. Well over 65 million records sold\, countless sold-out live tours and dozens of No. 1 hits adorn the success story of the South African-born singer\, who became a pop superstar in Germany. His cross-generational evergreens such as “Hello Again”\, “Ti Amo”\, “Nachts\, wenn alles schläft”\, “Wegen dir”\, “Tür an Tür mit Alice” and “Du fängst den Wind niemals ein” are absolute pop cult hits. \nWith MAITE KELLY & Band\, another highlight entertainer will rock the stage on this day. Under the motto “Schlager Heart & Flower Power!”\, the exceptional artist will party loudly with the audience\, dance barefoot\, dream under the stars and share the anthems of our lives. As a hippie Kelly child who has traveled all over the world by bus\, she considers “outside” to be her second living room. Her shows are 100% Schlagerpunk\, 100% flower power\, 100% heart! Real\, authentic\, straightforward. No chi-chi\, no fake – just Maite and her best band. With new hits and legendary songs from Kaiser to Haddaway\, Maite Kelly has everything in her picnic basket for the Schlager Night in Gronau.       \nNIK P.\, a thoroughbred musician and one of Austria’s best-known and best live artists for a long time\, became famous in this country at the end of the 90s with his self-written song “Ein Stern\, der deinen Namen trägt”. Almost ten years after its first release\, the new edition in a duet with DJ Ötzi became an absolute mega smash hit. NIK P. and his band will be performing his other hits such as “Geboren um dich zu lieben” and “Gloria” in Gronau\, creating a “cult atmosphere”.   \nAt the beginning of the Schlagerkult-Party\, which will last almost seven hours\, Germany’s most listened-to pop station\, RADIO SCHLAGERPARADIES\, will present “Schlager-Youngstars” in a separate show block on the show stage on Saturday afternoon from 16:00\, a more than atmospheric “festival warm-up” and certainly the perfect way to get in the mood for the Schlager-Kult-Party in Gronau. \n  \nAdvance ticket sales for both events start on Friday\, November 28 at 4 pm. \nTickets are available at www.eventim.de\, myticket.de\, summerfeelings-gronau.com and at all known sales outlets.   \n  \nFurther information is also available at summerfeelings-gronau.com\, especially for VIP tickets and company contingents.
URL:https://gronau-inside.de/en/veranstaltung/summerfeelings-open-air-howard-carpendale-maite-kelly-nik-p
LOCATION:Festplatz Bürgerhalle\, Spinnereistraße 20\, Gronau\, 48599
CATEGORIES:Civic hall,Highlight,Music
ATTACH;FMTTYPE=image/jpeg:https://gronau-inside.de/wp-content/uploads/2025/11/skp-poster_A1-screenshot.jpg
ORGANIZER;CN="Westfalen Events GmbH":MAILTO:info@westfalen-events.de
END:VEVENT
BEGIN:VEVENT
DTSTART;VALUE=DATE:20260828
DTEND;VALUE=DATE:20260830
DTSTAMP:20260423T023646
CREATED:20250409T064646Z
LAST-MODIFIED:20250409T064646Z
UID:10002862-1787875200-1788047999@gronau-inside.de
SUMMARY:City park festival 2026
DESCRIPTION:SAVE THE DATE\nThe Kameradschaftsvereinigung Freiwillige Feuerwehr Gronau\, Löschzug Gronau e.V.\, will once again organize a city park festival with the water organ and other attractions in 2026. \nFurther information will follow…
URL:https://gronau-inside.de/en/veranstaltung/city-park-festival-2026
LOCATION:Stadtpark\, Gronau\, NRW\, 48599
CATEGORIES:Families + children,Festivities + Party,Food & drink,Highlight,Music,Seniors
ATTACH;FMTTYPE=image/jpeg:https://gronau-inside.de/wp-content/uploads/2022/11/Stadtparkfest-1.jpg
END:VEVENT
END:VCALENDAR