BEGIN:VCALENDAR
VERSION:2.0
PRODID:-//Gronau Inside - ECPv6.15.18//NONSGML v1.0//EN
CALSCALE:GREGORIAN
METHOD:PUBLISH
X-WR-CALNAME:Gronau Inside
X-ORIGINAL-URL:https://gronau-inside.de/en
X-WR-CALDESC:Events for Gronau Inside
REFRESH-INTERVAL;VALUE=DURATION:PT1H
X-Robots-Tag:noindex
X-PUBLISHED-TTL:PT1H
BEGIN:VTIMEZONE
TZID:Europe/Berlin
BEGIN:DAYLIGHT
TZOFFSETFROM:+0100
TZOFFSETTO:+0200
TZNAME:CEST
DTSTART:20240331T010000
END:DAYLIGHT
BEGIN:STANDARD
TZOFFSETFROM:+0200
TZOFFSETTO:+0100
TZNAME:CET
DTSTART:20241027T010000
END:STANDARD
BEGIN:DAYLIGHT
TZOFFSETFROM:+0100
TZOFFSETTO:+0200
TZNAME:CEST
DTSTART:20250330T010000
END:DAYLIGHT
BEGIN:STANDARD
TZOFFSETFROM:+0200
TZOFFSETTO:+0100
TZNAME:CET
DTSTART:20251026T010000
END:STANDARD
BEGIN:DAYLIGHT
TZOFFSETFROM:+0100
TZOFFSETTO:+0200
TZNAME:CEST
DTSTART:20260329T010000
END:DAYLIGHT
BEGIN:STANDARD
TZOFFSETFROM:+0200
TZOFFSETTO:+0100
TZNAME:CET
DTSTART:20261025T010000
END:STANDARD
END:VTIMEZONE
BEGIN:VEVENT
DTSTART;TZID=Europe/Berlin:20250923T180000
DTEND;TZID=Europe/Berlin:20250923T193000
DTSTAMP:20260422T055040
CREATED:20250917T081859Z
LAST-MODIFIED:20250917T081859Z
UID:10004982-1758650400-1758655800@gronau-inside.de
SUMMARY:Information event "Range of services offered by the exercise driving school"
DESCRIPTION:On September 23\, 2025\, from 6 – 7.30 pm\, the Zumdick Movement Driving School\, in cooperation with Haus Lebenstein\, invites you to a special information event in the Turbine of the rock’n’pop museum in Gronau. \nAnnette Zumdick and her team present the range of services offered by the exercise driving school and show how exercise can provide new strength and independence in everyday care – for those affected as well as for caregiving relatives. The approach of the exercise driving school is to maintain quality of life in everyday care. “What is possible – not: Where is the problem?” is the motto.   \nFind out how the training courses help to reduce stress\, promote health and make everyday life easier. Many offers are even supported by health insurance companies.  \n👉 Join us and discover how movement connects and relieves.\nRegistration: 0176 30507935 (Annette Zumdick) or kontakt@bewegungsfahrschule.de\, info@hauslebenstein.de
URL:https://gronau-inside.de/en/veranstaltung/information-event-range-of-services-offered-by-the-exercise-driving-school
LOCATION:Musikclub Turbine\, Udo-Lindenberg-Platz 1\, Gronau\, NRW\, 48599\, Deutschland
CATEGORIES:Lecture
ATTACH;FMTTYPE=image/jpeg:https://gronau-inside.de/wp-content/uploads/2025/09/Annette-Zumdick_Leiterin-Bewegungsfahrschule_copyright_Bewegungsfahrschule.jpeg
ORGANIZER;CN="Movement driving school Zumdick":MAILTO:kontakt@bewegungsfahrschule.de
END:VEVENT
END:VCALENDAR