BEGIN:VCALENDAR
VERSION:2.0
PRODID:-//Gronau Inside - ECPv6.15.18//NONSGML v1.0//EN
CALSCALE:GREGORIAN
METHOD:PUBLISH
X-WR-CALNAME:Gronau Inside
X-ORIGINAL-URL:https://gronau-inside.de/en
X-WR-CALDESC:Events for Gronau Inside
REFRESH-INTERVAL;VALUE=DURATION:PT1H
X-Robots-Tag:noindex
X-PUBLISHED-TTL:PT1H
BEGIN:VTIMEZONE
TZID:Europe/Berlin
BEGIN:DAYLIGHT
TZOFFSETFROM:+0100
TZOFFSETTO:+0200
TZNAME:CEST
DTSTART:20240331T010000
END:DAYLIGHT
BEGIN:STANDARD
TZOFFSETFROM:+0200
TZOFFSETTO:+0100
TZNAME:CET
DTSTART:20241027T010000
END:STANDARD
BEGIN:DAYLIGHT
TZOFFSETFROM:+0100
TZOFFSETTO:+0200
TZNAME:CEST
DTSTART:20250330T010000
END:DAYLIGHT
BEGIN:STANDARD
TZOFFSETFROM:+0200
TZOFFSETTO:+0100
TZNAME:CET
DTSTART:20251026T010000
END:STANDARD
BEGIN:DAYLIGHT
TZOFFSETFROM:+0100
TZOFFSETTO:+0200
TZNAME:CEST
DTSTART:20260329T010000
END:DAYLIGHT
BEGIN:STANDARD
TZOFFSETFROM:+0200
TZOFFSETTO:+0100
TZNAME:CET
DTSTART:20261025T010000
END:STANDARD
END:VTIMEZONE
BEGIN:VEVENT
DTSTART;TZID=Europe/Berlin:20251009T190000
DTEND;TZID=Europe/Berlin:20251009T210000
DTSTAMP:20260423T143540
CREATED:20251006T104819Z
LAST-MODIFIED:20251006T104819Z
UID:10005334-1760036400-1760043600@gronau-inside.de
SUMMARY:Lecture: The German-Italian Recruitment Agreement - the soul of Europe
DESCRIPTION:The Euregio Adult Education Center invites you to a lecture on Thursday\, October 9\, at 7 pm in the public library. The occasion is the 70th anniversary of the German-Italian Recruitment Agreement\, which celebrates its 70th anniversary on December 20 this year.   \n\n\nWhen Federal Labor Minister Anton Storch (CDU) from Adenauer’s cabinet signed the agreement in 1955\, the then Federal Republic of Germany sealed its first bilateral treaty of this kind. Following its example\, further agreements followed with other countries such as Spain\, Greece\, Portugal and Turkey. \nThe German-Italian Treaty made it possible for German companies to legally employ workers from Italy. As a result\, people from this country came to Germany to work in numerous sectors.  \nSince the 1950s\, a total of almost four million Italian citizens have immigrated to Germany. Not all of them stayed permanently.  \nWhat motivated people to come to Germany over the decades? \nHow did and do the immigrants live here? \nHow did they integrate? \nWhat is the relationship to the country of origin\, the native language and culture? \nWhy do people go back\, why do others stay in Germany? \nThe lecture will examine these questions and shed light on the background to the recruitment agreement signed 70 years ago. \nThere will be an opportunity for questions and discussion after the presentation. \nThe speaker is Dr. Alessandro Bellardita\, Chairman of the German-Italian Society Karlsruhe and himself the son of a Sicilian family who came to Germany in the early 1980s. In addition to his work as a judge and lecturer at the University for the Administration of Justice in Schwetzingen\, he works as a freelance journalist for Italian and German newspapers and as an author of non-fiction books and novels.   \nThe lecture is free of charge\, but registration at the VHS is requested: Tel.: 02562 12-666 or online: www.vhs-gronau.de
URL:https://gronau-inside.de/en/veranstaltung/lecture-the-german-italian-recruitment-agreement-the-soul-of-europe
LOCATION:Gronau public library\, Park road 1\, Gronau\, 48599
CATEGORIES:Lecture
END:VEVENT
END:VCALENDAR