BEGIN:VCALENDAR
VERSION:2.0
PRODID:-//Gronau Inside - ECPv6.15.18//NONSGML v1.0//EN
CALSCALE:GREGORIAN
METHOD:PUBLISH
X-WR-CALNAME:Gronau Inside
X-ORIGINAL-URL:https://gronau-inside.de/en
X-WR-CALDESC:Events for Gronau Inside
REFRESH-INTERVAL;VALUE=DURATION:PT1H
X-Robots-Tag:noindex
X-PUBLISHED-TTL:PT1H
BEGIN:VTIMEZONE
TZID:Europe/Berlin
BEGIN:DAYLIGHT
TZOFFSETFROM:+0100
TZOFFSETTO:+0200
TZNAME:CEST
DTSTART:20250330T010000
END:DAYLIGHT
BEGIN:STANDARD
TZOFFSETFROM:+0200
TZOFFSETTO:+0100
TZNAME:CET
DTSTART:20251026T010000
END:STANDARD
BEGIN:DAYLIGHT
TZOFFSETFROM:+0100
TZOFFSETTO:+0200
TZNAME:CEST
DTSTART:20260329T010000
END:DAYLIGHT
BEGIN:STANDARD
TZOFFSETFROM:+0200
TZOFFSETTO:+0100
TZNAME:CET
DTSTART:20261025T010000
END:STANDARD
BEGIN:DAYLIGHT
TZOFFSETFROM:+0100
TZOFFSETTO:+0200
TZNAME:CEST
DTSTART:20270328T010000
END:DAYLIGHT
BEGIN:STANDARD
TZOFFSETFROM:+0200
TZOFFSETTO:+0100
TZNAME:CET
DTSTART:20271031T010000
END:STANDARD
END:VTIMEZONE
BEGIN:VEVENT
DTSTART;TZID=Europe/Berlin:20260211T170000
DTEND;TZID=Europe/Berlin:20260211T170000
DTSTAMP:20260423T032136
CREATED:20260205T074412Z
LAST-MODIFIED:20260205T074412Z
UID:10006697-1770829200-1770829200@gronau-inside.de
SUMMARY:Open exchange "Final spurt into Haus Lebenstein"
DESCRIPTION:Dear interested parties\, dear network partners\, dear committed people\, \nThe Haus Lebenstein project is entering a decisive phase – and you can be part of it! \nUnder the title “Final spurt into Haus Lebenstein”\, we cordially invite you to an open exchange. \nAfter a year of intensive conceptual work and six months of actual use outside our own premises\, we look back together\, provide insights into the current status of the construction site and show how Haus Lebenstein is filling with life. \nOver the past few months\, numerous projects have been developed\, new collaborations and educational partnerships have been established\, the Remembrance Week in Gronau has been actively shaped and many smaller readings\, concerts and meeting formats have been realized. We are now on the home straight: The building is visibly taking shape and is expected to be ready to move into in the summer.  \nA short film will document the current status of the building site and give an impression of what is being created here – both in terms of space and content. \nAbove all\, however\, we would like to talk to each other again\, because encounters come alive in Haus Lebenstein! \nDate:\nWednesday\, February 11\, 2026\nStart: 17:00\nVenue: Café Grenzenlos\, Kurt-Schumacher-Platz\, 48599 Gronau \nParticipation is free of charge\, drinks are provided. \nWe look forward to seeing familiar and new faces\, to curiosity\, exchange and thinking ahead together
URL:https://gronau-inside.de/en/veranstaltung/open-exchange-final-spurt-into-haus-lebenstein
LOCATION:Café Grenzenlos\, Kurt-Schumacher-Platz 6\, Gronau\, NRW\, 48599
CATEGORIES:Lecture,Social affairs
ATTACH;FMTTYPE=image/jpeg:https://gronau-inside.de/wp-content/uploads/2026/02/Grafik_Endspurt_11.2.26.jpg
ORGANIZER;CN="Cultural Office Gronau/Haus Lebenstein":MAILTO:info@hauslebenstein.de
END:VEVENT
END:VCALENDAR