BEGIN:VCALENDAR
VERSION:2.0
PRODID:-//Gronau Inside - ECPv6.15.18//NONSGML v1.0//EN
CALSCALE:GREGORIAN
METHOD:PUBLISH
X-WR-CALNAME:Gronau Inside
X-ORIGINAL-URL:https://gronau-inside.de/en
X-WR-CALDESC:Events for Gronau Inside
REFRESH-INTERVAL;VALUE=DURATION:PT1H
X-Robots-Tag:noindex
X-PUBLISHED-TTL:PT1H
BEGIN:VTIMEZONE
TZID:Europe/Berlin
BEGIN:DAYLIGHT
TZOFFSETFROM:+0100
TZOFFSETTO:+0200
TZNAME:CEST
DTSTART:20240331T010000
END:DAYLIGHT
BEGIN:STANDARD
TZOFFSETFROM:+0200
TZOFFSETTO:+0100
TZNAME:CET
DTSTART:20241027T010000
END:STANDARD
BEGIN:DAYLIGHT
TZOFFSETFROM:+0100
TZOFFSETTO:+0200
TZNAME:CEST
DTSTART:20250330T010000
END:DAYLIGHT
BEGIN:STANDARD
TZOFFSETFROM:+0200
TZOFFSETTO:+0100
TZNAME:CET
DTSTART:20251026T010000
END:STANDARD
BEGIN:DAYLIGHT
TZOFFSETFROM:+0100
TZOFFSETTO:+0200
TZNAME:CEST
DTSTART:20260329T010000
END:DAYLIGHT
BEGIN:STANDARD
TZOFFSETFROM:+0200
TZOFFSETTO:+0100
TZNAME:CET
DTSTART:20261025T010000
END:STANDARD
END:VTIMEZONE
BEGIN:VEVENT
DTSTART;TZID=Europe/Berlin:20251009T150000
DTEND;TZID=Europe/Berlin:20251009T150000
DTSTAMP:20260423T060013
CREATED:20250916T142107Z
LAST-MODIFIED:20250916T142107Z
UID:10004956-1760022000-1760022000@gronau-inside.de
SUMMARY:iPad rally: Save Rieke the rat - explore the city library with the Biparcours app
DESCRIPTION:After taking a wrong turn in the sewer\, Rieke the rat finds herself in the toilet of the public library. Before she even knows where she is\, she is captured. As reading is not one of her favorite pastimes\, she doesn’t really feel at home in the library.   \nThis is where anyone who wants to help Rieke solve some reading puzzles comes in. \nUsing the Biparcours app\, the children move through various locations in the library and help Rieke to track down her kidnapper and help her to freedom. This is a fun way to learn how the library works and how to find your way around.  \nTablets are made available to the participants. \nThe Biparcours app is a digital learning tool from Bildungspartner NRW. \nThe application can be used by schools and extracurricular places of learning such as libraries\, but also by partners in North Rhine-Westphalia. \nFurther dates can be arranged for school classes by prior arrangement.
URL:https://gronau-inside.de/en/veranstaltung/ipad-rally-save-rieke-the-rat-explore-the-city-library-with-the-biparcours-app
LOCATION:Gronau public library\, Park road 1\, Gronau\, 48599
CATEGORIES:Families + children,KuBiG (Cultural Education Gronau),Reading
ATTACH;FMTTYPE=image/jpeg:https://gronau-inside.de/wp-content/uploads/2025/09/2025_10_09_Rettet-Ratte-Rieke_Plakat-Oktober.jpg
ORGANIZER;CN="Gronau public library":MAILTO:stadtbuecherei-gronau@gronau.de
END:VEVENT
BEGIN:VEVENT
DTSTART;TZID=Europe/Berlin:20251009T160000
DTEND;TZID=Europe/Berlin:20251009T160000
DTSTAMP:20260423T060013
CREATED:20250916T141932Z
LAST-MODIFIED:20250916T141932Z
UID:10004953-1760025600-1760025600@gronau-inside.de
SUMMARY:Listen up reading heroes!
DESCRIPTION:There are lots of adventurous and exciting stories in the library in Epe. \nSo all story fans should mark the second Thursday of every month in their diaries\, as this is when the reading hour takes place. \nStrong heroines\, unknown worlds\, harmless monsters or even friendly dragons – what will there be to experience this time? \nFind out\, come along and go on a story journey with Dorothe! \nIf you’re not too exhausted afterwards\, you can go off on your own in the children’s library and look at or borrow more books.
URL:https://gronau-inside.de/en/veranstaltung/listen-up-reading-heroes-2
LOCATION:Epe library branch\, Von Keppel Street 8\, Gronau-Epe\, 48599
CATEGORIES:Reading
ATTACH;FMTTYPE=image/jpeg:https://gronau-inside.de/wp-content/uploads/2025/09/2025_10_09_Plakat_Leseheld.innen-Oktober.jpg
ORGANIZER;CN="Epe library branch":MAILTO:buecherei-epe@gronau.de
END:VEVENT
BEGIN:VEVENT
DTSTART;TZID=Europe/Berlin:20251016T100000
DTEND;TZID=Europe/Berlin:20251016T120000
DTSTAMP:20260423T060013
CREATED:20250916T142242Z
LAST-MODIFIED:20250916T142242Z
UID:10004959-1760608800-1760616000@gronau-inside.de
SUMMARY:Autumn vacation activity: Reading aloud and handicrafts
DESCRIPTION:Leaves\, chestnuts\, acorns\, pine cones or moss: \nNature provides a wealth of natural materials that can be used to create small works of art quickly and sustainably. \nIn combination with colorful cardboard paper or decorative materials such as bows and glittering accessories\, you can easily create beautiful and unique items. There are no limits to your imagination.  \nMatching autumn stories also ensure a varied vacation morning.
URL:https://gronau-inside.de/en/veranstaltung/autumn-vacation-activity-reading-aloud-and-handicrafts
LOCATION:Epe library branch\, Von Keppel Street 8\, Gronau-Epe\, 48599
CATEGORIES:Families + children,KuBiG (Cultural Education Gronau),Reading
ATTACH;FMTTYPE=image/jpeg:https://gronau-inside.de/wp-content/uploads/2025/09/2025_10_16_Herbstbasteln_Plakat-Oktober.jpg
ORGANIZER;CN="Epe library branch":MAILTO:buecherei-epe@gronau.de
END:VEVENT
BEGIN:VEVENT
DTSTART;TZID=Europe/Berlin:20251027T100000
DTEND;TZID=Europe/Berlin:20251027T113000
DTSTAMP:20260423T060013
CREATED:20250916T141759Z
LAST-MODIFIED:20250916T141759Z
UID:10004949-1761559200-1761564600@gronau-inside.de
SUMMARY:Literature Club on Monday - 150th anniversary of Thomas Mann's death - A jubilee year for world literature
DESCRIPTION:Thomas Mann would have been 150 years old on June 6\, 2025. \nThe winner of the Nobel Prize for Literature (1929)\, writer and cosmopolitan lived a truly multifaceted life\, from his beginnings as a political conservative to his clear position as a convinced democrat. Initially carried away by the prevailing enthusiasm for the war in the summer of 1914\, later shaken by the collapse of the German Empire\, he finally made a profound political about-turn.  \nAfter the assassination of the German Foreign Minister Walther Rathenau\, he revised his previous stance and became a convinced democrat\, which he remained until the end of his life. \nHis speech “My Time”\, which he gave in Chicago in 1950\, was an important and impressive testimony\, as it manifested his aversion to all forms of totalitarianism. \nSince then\, Thomas Mann has decisively rejected any dogmatic dictatorship. \nTo mark the 150th anniversary of his birth\, the life of one of the most influential German writers of the 20th century will be examined in more detail.
URL:https://gronau-inside.de/en/veranstaltung/literature-club-on-monday-150th-anniversary-of-thomas-manns-death-a-jubilee-year-for-world-literature
LOCATION:Gronau public library\, Park road 1\, Gronau\, 48599
CATEGORIES:Reading
ORGANIZER;CN="Gronau public library":MAILTO:stadtbuecherei-gronau@gronau.de
END:VEVENT
BEGIN:VEVENT
DTSTART;TZID=Europe/Berlin:20251028T160000
DTEND;TZID=Europe/Berlin:20251028T170000
DTSTAMP:20260423T060013
CREATED:20250916T142603Z
LAST-MODIFIED:20250916T142603Z
UID:10004965-1761667200-1761670800@gronau-inside.de
SUMMARY:Frankfurt Book Fair 2025: Information and new products at a glance in the Gronau Public Library
DESCRIPTION:The Frankfurt Book Fair is an international event with more than 500 years of tradition\, where a flood of new media is presented every year in October. \nIt’s easy to lose track of the most important and interesting new publications. \nThe staff at the public library have taken this as an opportunity to sift through and sort the range for you. \nWe would like to present a small selection to you this afternoon in the reading café. \nNovels\, non-fiction\, children’s books: there is something for everyone. \nYou are cordially invited to join us and other interested readers for a pleasant exchange of ideas.
URL:https://gronau-inside.de/en/veranstaltung/frankfurt-book-fair-2025-information-and-new-products-at-a-glance-in-the-gronau-public-library
LOCATION:Gronau public library\, Park road 1\, Gronau\, 48599
CATEGORIES:KuBiG (Cultural Education Gronau),Lecture,Reading
ORGANIZER;CN="Gronau public library":MAILTO:stadtbuecherei-gronau@gronau.de
END:VEVENT
BEGIN:VEVENT
DTSTART;TZID=Europe/Berlin:20251030T100000
DTEND;TZID=Europe/Berlin:20251030T113000
DTSTAMP:20260423T060013
CREATED:20250917T081320Z
LAST-MODIFIED:20250917T081320Z
UID:10004980-1761818400-1761823800@gronau-inside.de
SUMMARY:Reading matinee for seniors: Remembering\, experiencing\, discussing
DESCRIPTION:An entertaining morning with stories and interesting conversations: That’s the reading matinee. \nLiterature\, anecdotes and stories as well as encounters with other people are the ingredients for a successful morning. \nThe reading matinee is recommended for anyone who enjoys reading and telling stories together\, likes to listen and appreciates a variety of interpersonal exchanges. \nIndividuals and groups from retirement homes are very welcome.
URL:https://gronau-inside.de/en/veranstaltung/reading-matinee-for-seniors-remembering-experiencing-discussing
LOCATION:Epe library branch\, Von Keppel Street 8\, Gronau-Epe\, 48599
CATEGORIES:Reading,Seniors,Social affairs
ORGANIZER;CN="Epe library branch":MAILTO:buecherei-epe@gronau.de
END:VEVENT
BEGIN:VEVENT
DTSTART;TZID=Europe/Berlin:20251030T160000
DTEND;TZID=Europe/Berlin:20251030T160000
DTSTAMP:20260423T060013
CREATED:20250917T081319Z
LAST-MODIFIED:20250917T081319Z
UID:10004978-1761840000-1761840000@gronau-inside.de
SUMMARY:Reading time with library pirate Pit
DESCRIPTION:Library pirate Pit has already experienced a lot and is therefore well versed in all the seas of stories. There is hardly a little monster\, a friendly giant or even a mythical creature that he has not yet encountered. \nAnd yet Pit still has a great thirst for adventure and is happy to welcome all sailors aged 4 and over who want to travel with him. Because the bigger his crew\, the more exciting the journey will be for everyone!  \nAnyone who is interested in more adventures is invited to listen to Pit’s pirate stories and become part of his crew\, and then decide for themselves whether his tales are perhaps a little true or a lot of fiction. \nPirates who are in the mood for more reading adventures at the end of the reading session can then make their own discoveries in the children’s library.
URL:https://gronau-inside.de/en/veranstaltung/reading-time-with-library-pirate-pit-2
LOCATION:Gronau public library\, Park road 1\, Gronau\, 48599
CATEGORIES:Families + children,KuBiG (Cultural Education Gronau),Reading
ORGANIZER;CN="Gronau public library":MAILTO:stadtbuecherei-gronau@gronau.de
END:VEVENT
END:VCALENDAR