BEGIN:VCALENDAR
VERSION:2.0
PRODID:-//Gronau Inside - ECPv6.15.18//NONSGML v1.0//EN
CALSCALE:GREGORIAN
METHOD:PUBLISH
X-WR-CALNAME:Gronau Inside
X-ORIGINAL-URL:https://gronau-inside.de/en
X-WR-CALDESC:Events for Gronau Inside
REFRESH-INTERVAL;VALUE=DURATION:PT1H
X-Robots-Tag:noindex
X-PUBLISHED-TTL:PT1H
BEGIN:VTIMEZONE
TZID:Europe/Berlin
BEGIN:DAYLIGHT
TZOFFSETFROM:+0100
TZOFFSETTO:+0200
TZNAME:CEST
DTSTART:20240331T010000
END:DAYLIGHT
BEGIN:STANDARD
TZOFFSETFROM:+0200
TZOFFSETTO:+0100
TZNAME:CET
DTSTART:20241027T010000
END:STANDARD
BEGIN:DAYLIGHT
TZOFFSETFROM:+0100
TZOFFSETTO:+0200
TZNAME:CEST
DTSTART:20250330T010000
END:DAYLIGHT
BEGIN:STANDARD
TZOFFSETFROM:+0200
TZOFFSETTO:+0100
TZNAME:CET
DTSTART:20251026T010000
END:STANDARD
BEGIN:DAYLIGHT
TZOFFSETFROM:+0100
TZOFFSETTO:+0200
TZNAME:CEST
DTSTART:20260329T010000
END:DAYLIGHT
BEGIN:STANDARD
TZOFFSETFROM:+0200
TZOFFSETTO:+0100
TZNAME:CET
DTSTART:20261025T010000
END:STANDARD
END:VTIMEZONE
BEGIN:VEVENT
DTSTART;TZID=Europe/Berlin:20250928T120000
DTEND;TZID=Europe/Berlin:20250928T180000
DTSTAMP:20260423T084128
CREATED:20250716T094644Z
LAST-MODIFIED:20250924T110533Z
UID:10004301-1759060800-1759082400@gronau-inside.de
SUMMARY:Michaelismarkt Epe: Country & Pumpkin Festival
DESCRIPTION:We are looking forward to the Michaelismarkt on September 28th from 12-6 pm\, right in the center of Gronau-Epe! \nCountry life” is coming to the town center and we are delighted that the Landfrauen\, the Landvolk\, the KLJB Epe and the farmers will be presenting themselves on the St. Agatha church square. The traditional handmade market will also take place again and other highlights await you at the country and pumpkin festival in Epe.  \nAnd: It’s also open for business\, the stores have great offers for you. It will be a party for the whole family!  \nTogether with the Volksbank Gronau-Ahaus and the Eper Werbegemeinschaft\, we are looking forward to the September weekend in the town center. \nBy the way: the anniversary of the Musikverein Epe will conclude the evening before\, on Saturday evening. Look forward to the grand finale and the benefit concert of the Musikverein Epe\, together with many other performers.  \n  \nWatch out: Due to the run-off election\, Gronauer Straße will not be closed this year! The traditional flea market will take place this year on Amtsweg (around Sport Engstfeld).   \nReservations are not possible\, registrations are not necessary. Interested parties can simply set up on September 28 from 8 am. A contact person in a red vest will be on site from the city marketing department and will allocate places.
URL:https://gronau-inside.de/en/veranstaltung/michaelismarkt-epe-country-pumpkin-festival
LOCATION:Fußgängerzone Epe\, Merschstraße
CATEGORIES:Families + children,Festivities + Party,Food & drink,KuBiG (Cultural Education Gronau),Music,Seniors,Sundays open
ATTACH;FMTTYPE=image/jpeg:https://gronau-inside.de/wp-content/uploads/2024/07/Michaelismarkt_2025_SoMe-Grafik-Insta.jpg
ORGANIZER;CN="Stadtmarketing/Touristinfo":MAILTO:info@stadtmarketing-gronau.de
END:VEVENT
END:VCALENDAR