BEGIN:VCALENDAR
VERSION:2.0
PRODID:-//Gronau Inside - ECPv6.15.18//NONSGML v1.0//EN
CALSCALE:GREGORIAN
METHOD:PUBLISH
X-WR-CALNAME:Gronau Inside
X-ORIGINAL-URL:https://gronau-inside.de/en
X-WR-CALDESC:Events for Gronau Inside
REFRESH-INTERVAL;VALUE=DURATION:PT1H
X-Robots-Tag:noindex
X-PUBLISHED-TTL:PT1H
BEGIN:VTIMEZONE
TZID:Europe/Berlin
BEGIN:DAYLIGHT
TZOFFSETFROM:+0100
TZOFFSETTO:+0200
TZNAME:CEST
DTSTART:20250330T010000
END:DAYLIGHT
BEGIN:STANDARD
TZOFFSETFROM:+0200
TZOFFSETTO:+0100
TZNAME:CET
DTSTART:20251026T010000
END:STANDARD
BEGIN:DAYLIGHT
TZOFFSETFROM:+0100
TZOFFSETTO:+0200
TZNAME:CEST
DTSTART:20260329T010000
END:DAYLIGHT
BEGIN:STANDARD
TZOFFSETFROM:+0200
TZOFFSETTO:+0100
TZNAME:CET
DTSTART:20261025T010000
END:STANDARD
BEGIN:DAYLIGHT
TZOFFSETFROM:+0100
TZOFFSETTO:+0200
TZNAME:CEST
DTSTART:20270328T010000
END:DAYLIGHT
BEGIN:STANDARD
TZOFFSETFROM:+0200
TZOFFSETTO:+0100
TZNAME:CET
DTSTART:20271031T010000
END:STANDARD
END:VTIMEZONE
BEGIN:VEVENT
DTSTART;TZID=Europe/Berlin:20260510T110000
DTEND;TZID=Europe/Berlin:20260510T133000
DTSTAMP:20260421T025428
CREATED:20251021T093741Z
LAST-MODIFIED:20251021T093745Z
UID:10005573-1778410800-1778419800@gronau-inside.de
SUMMARY:Alpaca hike through Gronau-Epe with picnic
DESCRIPTION:We are completely enchanted and we are sure you will be too. \nGo on a hike through Gronau-Epe with the cuddly alpacas from the Röttger-Hölscher farm. There are currently 13 alpacas living there\, three of which were born in summer 2023. During a guided tour\, four of the alpacas are taken for a walk. The companions are trained and are familiar with human contact.    \nYou will learn interesting facts about the alpacas\, feed them\, stroke them and take them for a walk. The tour is followed by a delicious\, home-made picnic with snacks and drinks. \nWhen. \n\n\n\n\n\nSunday\, May 10\, 2026\, 11:00 a.m. to 1:30 p.m.\nSunday\, June 14\, 2026\, 11:00 a.m. to 1:30 p.m.\nSunday\, July 19\, 2026\, 11:00 a.m. to 1:30 p.m.\nSunday\, August 16\, 2026\, 11:00 a.m. to 1:30 p.m.\nSunday\, September 13\, 2026\, 11:00 a.m. to 1:30 p.m.\nSunday\, October 18\, 2026\, 11:00 a.m. to 1:30 p.m.\n\n\n\n\nWhere?\nRöttger-Hölscher farm\nWieferthook 1\n48599 Gronau-Epe
URL:https://gronau-inside.de/en/veranstaltung/alpaca-hike-through-gronau-epe-with-picnic/2026-05-10
LOCATION:Hof Röttger-Hölscher\, Wieferthook 1\, Gronau-Epe\, 48599
CATEGORIES:Tours + guided tours
ATTACH;FMTTYPE=image/jpeg:https://gronau-inside.de/wp-content/uploads/2025/10/Alpaka-Wanderung-Stadtmarketing-Gronau-2.jpeg
ORGANIZER;CN="Stadtmarketing/Touristinfo":MAILTO:info@stadtmarketing-gronau.de
END:VEVENT
BEGIN:VEVENT
DTSTART;TZID=Europe/Berlin:20260510T120000
DTEND;TZID=Europe/Berlin:20260510T130000
DTSTAMP:20260421T025428
CREATED:20250526T133216Z
LAST-MODIFIED:20250526T133216Z
UID:10003818-1778414400-1778418000@gronau-inside.de
SUMMARY:Open guided tour through the permanent exhibition
DESCRIPTION:The rock’n’pop museum offers open tours for everyone at weekends. \nWith our trained museum guides\, visitors can look forward to a thematically and creatively fascinating tour through the dimensions of pop music. The tour is aimed at all age groups who are interested in a multimedia experience of sounds\, images and exhibits with an extra dose of specialist knowledge. Immerse yourself in a goosebump moment like at a live concert!
URL:https://gronau-inside.de/en/veranstaltung/open-guided-tour-through-the-permanent-exhibition-2/2026-05-10
LOCATION:rock’n’popmuseum\, Udo-Lindenberg-Platz 1\, rock'n'popmuseum\, NRW\, 48599\, Deutschland
CATEGORIES:Exhibition,KuBiG (Cultural Education Gronau),rock'n'pop museum,Tours + guided tours
ATTACH;FMTTYPE=image/jpeg:https://gronau-inside.de/wp-content/uploads/2023/05/c-Frank-Schuermann-5-scaled.jpg
ORGANIZER;CN="rock'n'popmuseum Gronau GmbH":MAILTO:info@rock-popmuseum.de
END:VEVENT
END:VCALENDAR