BEGIN:VCALENDAR
VERSION:2.0
PRODID:-//Gronau Inside - ECPv6.15.18//NONSGML v1.0//EN
CALSCALE:GREGORIAN
METHOD:PUBLISH
X-ORIGINAL-URL:https://gronau-inside.de/en
X-WR-CALDESC:Events for Gronau Inside
REFRESH-INTERVAL;VALUE=DURATION:PT1H
X-Robots-Tag:noindex
X-PUBLISHED-TTL:PT1H
BEGIN:VTIMEZONE
TZID:Europe/Berlin
BEGIN:DAYLIGHT
TZOFFSETFROM:+0100
TZOFFSETTO:+0200
TZNAME:CEST
DTSTART:20250330T010000
END:DAYLIGHT
BEGIN:STANDARD
TZOFFSETFROM:+0200
TZOFFSETTO:+0100
TZNAME:CET
DTSTART:20251026T010000
END:STANDARD
BEGIN:DAYLIGHT
TZOFFSETFROM:+0100
TZOFFSETTO:+0200
TZNAME:CEST
DTSTART:20260329T010000
END:DAYLIGHT
BEGIN:STANDARD
TZOFFSETFROM:+0200
TZOFFSETTO:+0100
TZNAME:CET
DTSTART:20261025T010000
END:STANDARD
BEGIN:DAYLIGHT
TZOFFSETFROM:+0100
TZOFFSETTO:+0200
TZNAME:CEST
DTSTART:20270328T010000
END:DAYLIGHT
BEGIN:STANDARD
TZOFFSETFROM:+0200
TZOFFSETTO:+0100
TZNAME:CET
DTSTART:20271031T010000
END:STANDARD
END:VTIMEZONE
BEGIN:VEVENT
DTSTART;TZID=Europe/Berlin:20260314T150000
DTEND;TZID=Europe/Berlin:20260314T160000
DTSTAMP:20260422T172511
CREATED:20250526T132741Z
LAST-MODIFIED:20250526T132741Z
UID:10003558-1773500400-1773504000@gronau-inside.de
SUMMARY:Open guided tour through the permanent exhibition
DESCRIPTION:The rock’n’pop museum offers open tours for everyone at weekends. \nWith our trained museum guides\, visitors can look forward to a thematically and creatively fascinating tour through the dimensions of pop music. The tour is aimed at all age groups who are interested in a multimedia experience of sounds\, images and exhibits with an extra dose of specialist knowledge. Immerse yourself in a goosebump moment like at a live concert!
URL:https://gronau-inside.de/en/veranstaltung/open-guided-tour-through-the-permanent-exhibition/2026-03-14
LOCATION:rock’n’popmuseum\, Udo-Lindenberg-Platz 1\, rock'n'popmuseum\, NRW\, 48599\, Deutschland
CATEGORIES:Exhibition,KuBiG (Cultural Education Gronau),rock'n'pop museum,Tours + guided tours
ATTACH;FMTTYPE=image/jpeg:https://gronau-inside.de/wp-content/uploads/2023/05/c-Frank-Schuermann-5-scaled.jpg
ORGANIZER;CN="rock'n'popmuseum Gronau GmbH":MAILTO:info@rock-popmuseum.de
END:VEVENT
BEGIN:VEVENT
DTSTART;TZID=Europe/Berlin:20260314T190000
DTEND;TZID=Europe/Berlin:20260314T190000
DTSTAMP:20260422T172511
CREATED:20251107T152427Z
LAST-MODIFIED:20251107T152427Z
UID:10005740-1773514800-1773514800@gronau-inside.de
SUMMARY:The Udo Update 2025
DESCRIPTION:As a guest at most public and many internal events by and about Udo Lindenberg\, the highlights\ncan be reported “first-hand” from the Udoversum (late 2023 to early 2026). Of course in connection with photos\, videos and a lot to listen to. So: texts and sounds – pictures and guests.\nA current review with a look into the future.   \n  \nPerformances – exhibitions – honors – hits – fans – more than 50 years of Panic Orchestra – opening historical time capsules – sewing box – glass ball! \n  \nThe initiator and presenter is widely known as an expert on Udo\, among other things through the “ongoing” Panikhistorische Rundgänge in Gronau since 2007 and through the publication of the volumes “Gronau U D O Wunderwelt” and “Gronau U D O Zauberwelt”\, also known as the “Udo Bibles”\n. \nLet us take you on a current musical and socio-critical journey through the Colorful Republic.\nA warm invitation and welcome to the Bethlehem of the sheltered\, the Mecca of the panicked community. Come in droves!  \n  \n  \nTurbine music club \nDate: 14.03.2026\nAdmission: 18:00\nStart: 19:00\nVVK: 19\,-€\nAK: 22\,-€ \nSeated – free choice of seats
URL:https://gronau-inside.de/en/veranstaltung/the-udo-update-2025
LOCATION:Musikclub Turbine\, Udo-Lindenberg-Platz 1\, Gronau\, NRW\, 48599\, Deutschland
CATEGORIES:Reading,rock'n'pop museum
ATTACH;FMTTYPE=image/jpeg:https://gronau-inside.de/wp-content/uploads/2025/11/Das_Udo_Update_14-3-2026-min.jpg
ORGANIZER;CN="rock'n'popmuseum Gronau GmbH":MAILTO:info@rock-popmuseum.de
END:VEVENT
END:VCALENDAR