BEGIN:VCALENDAR
VERSION:2.0
PRODID:-//Gronau Inside - ECPv6.15.18//NONSGML v1.0//EN
CALSCALE:GREGORIAN
METHOD:PUBLISH
X-ORIGINAL-URL:https://gronau-inside.de/nl
X-WR-CALDESC:Evenementen voor Gronau Inside
REFRESH-INTERVAL;VALUE=DURATION:PT1H
X-Robots-Tag:noindex
X-PUBLISHED-TTL:PT1H
BEGIN:VTIMEZONE
TZID:Europe/Berlin
BEGIN:DAYLIGHT
TZOFFSETFROM:+0100
TZOFFSETTO:+0200
TZNAME:CEST
DTSTART:20240331T010000
END:DAYLIGHT
BEGIN:STANDARD
TZOFFSETFROM:+0200
TZOFFSETTO:+0100
TZNAME:CET
DTSTART:20241027T010000
END:STANDARD
BEGIN:DAYLIGHT
TZOFFSETFROM:+0100
TZOFFSETTO:+0200
TZNAME:CEST
DTSTART:20250330T010000
END:DAYLIGHT
BEGIN:STANDARD
TZOFFSETFROM:+0200
TZOFFSETTO:+0100
TZNAME:CET
DTSTART:20251026T010000
END:STANDARD
BEGIN:DAYLIGHT
TZOFFSETFROM:+0100
TZOFFSETTO:+0200
TZNAME:CEST
DTSTART:20260329T010000
END:DAYLIGHT
BEGIN:STANDARD
TZOFFSETFROM:+0200
TZOFFSETTO:+0100
TZNAME:CET
DTSTART:20261025T010000
END:STANDARD
END:VTIMEZONE
BEGIN:VEVENT
DTSTART;TZID=Europe/Berlin:20250925T160000
DTEND;TZID=Europe/Berlin:20250925T170000
DTSTAMP:20260422T174933
CREATED:20250820T070535Z
LAST-MODIFIED:20250820T070535Z
UID:10004619-1758816000-1758819600@gronau-inside.de
SUMMARY:Leesles met piratenthema voor schatzoekers
DESCRIPTION:Leesles met piratenthema voor schatzoekers op 25.09.25 \nIn de openbare bibliotheek staat september in het teken van piraten. \nVorige week zijn er piratenparafernalia gemaakt en nu willen we ze in actie zien. Maar zelfs als je geen piratenuitrusting hebt\, kun je op deze dag onze bibliotheek helpen met piraat Pit op een ongebruikelijke plek.  \nPit heeft zijn schat verstopt en is nu wanhopig omdat hij niet meer weet waar hij is. Helaas zijn er maar een paar aanwijzingen over waar de schat zou kunnen zijn. Denk je dat we hem samen kunnen vinden?   \nHet ontmoetingspunt voor alle avontuurlijke schatzoekers is het piratenschip op het LAGA-terrein.
URL:https://gronau-inside.de/nl/veranstaltung/leesles-met-piratenthema-voor-schatzoekers
LOCATION:LAGA-Gelände\, Lenne-Staße 6\, Gronau\, NRW\, 48599
CATEGORIES:Gezinnen + kinderen,KuBiG (Cultuureducatie Gronau),LAGA website,Lezen
ORGANIZER;CN="Openbare bibliotheek Gronau":MAILTO:stadtbuecherei-gronau@gronau.de
END:VEVENT
BEGIN:VEVENT
DTSTART;TZID=Europe/Berlin:20250925T180000
DTEND;TZID=Europe/Berlin:20250925T200000
DTSTAMP:20260422T174933
CREATED:20250923T135300Z
LAST-MODIFIED:20250923T135300Z
UID:10005020-1758823200-1758830400@gronau-inside.de
SUMMARY:Informatie-evenement "Opnieuw bevochtigen van het Hündfelder veen".
DESCRIPTION:Het Hündfelder Moor en het naburige Nederlandse Aamsveen maken deel uit van een grensoverschrijdend natuurbeschermingsproject dat tot doel heeft het heidelandschap permanent te vernatten. Deze maatregelen zijn bedoeld om de biodiversiteit te versterken\, de CO₂-uitstoot te verminderen en het landschap weerbaarder te maken tegen de gevolgen van klimaatverandering.  \nChristoph Rückriem\, van het Biologisch Station Zwillbrock\, zal in zijn lezing op 25 september 2025 de geplande maatregelen\, uitdagingen en voortgang van het project tot nu toe presenteren. Hij zal ook het belang van dit werk voor Gronau toelichten. Het evenement is bedoeld voor alle geïnteresseerden en biedt de mogelijkheid om kennis te maken met een bijzonder natuurgebied direct voor de deur.   \nDeelname aan het evenement is gratis. Vanwege het beperkte aantal deelnemers (50)\, vragen we je wel om je voor de dag van het evenement aan te melden door een e-mail te sturen naar mevrouw Niehoff op elena.niehoff@gronau.de of te bellen naar 02562 12-356.
URL:https://gronau-inside.de/nl/veranstaltung/informatie-evenement-opnieuw-bevochtigen-van-het-huendfelder-veen
LOCATION:Driland Kolleg\, Konrad-Adenauer-Str. 85\, Gronau\, 48599
CATEGORIES:Lezing,Sociale zaken
ATTACH;FMTTYPE=image/jpeg:https://gronau-inside.de/wp-content/uploads/2025/09/Huendfelder-Moor-Instagram0.jpg
END:VEVENT
BEGIN:VEVENT
DTSTART;TZID=Europe/Berlin:20250925T180000
DTEND;TZID=Europe/Berlin:20250925T210000
DTSTAMP:20260422T174933
CREATED:20250820T070534Z
LAST-MODIFIED:20250820T070534Z
UID:10004617-1758823200-1758834000@gronau-inside.de
SUMMARY:Stil leren in de openbare bibliotheek van Gronau
DESCRIPTION:Stil leren in de openbare bibliotheek van Gronau op 25/09/25 \nDe bibliotheek als plaats van stilte. Wanneer er elders geen ruimte of rust is\, is de openbare bibliotheek de ideale plek voor intensief en effectief leren in een rustige omgeving.  \nWaar kun je immers beter leren dan tussen rijkelijk gevulde boekenkasten? En op een moment van de dag dat uitsluitend is gewijd aan leren.  \nDe openbare bibliotheek biedt leerlingen vanaf leerjaar 10 en studenten de mogelijkheid om buiten de openingstijden leerstof op te nemen\, te verdiepen of te herhalen. Of het nu ter voorbereiding is op een klassentoets\, een examen\, een presentatie of een tentamen.  \nZonder openbaar verkeer of uitleenactiviteiten kunnen degenen die elders geen rust kunnen vinden hier ontspannen en werken. \nSnacks en drankjes zijn verkrijgbaar tegen kleine prijzen voor verfrissingen tussendoor. \nIndien gewenst geeft het bibliotheekpersoneel je graag een of twee onderzoekstips.
URL:https://gronau-inside.de/nl/veranstaltung/stil-leren-in-de-openbare-bibliotheek-van-gronau
LOCATION:Stadtbücherei Gronau\, Parkstraße 1\, Gronau\, 48599
CATEGORIES:KuBiG (Cultuureducatie Gronau)
ORGANIZER;CN="Openbare bibliotheek Gronau":MAILTO:stadtbuecherei-gronau@gronau.de
END:VEVENT
BEGIN:VEVENT
DTSTART;TZID=Europe/Berlin:20250925T183000
DTEND;TZID=Europe/Berlin:20250925T200000
DTSTAMP:20260422T174933
CREATED:20250821T105043Z
LAST-MODIFIED:20250821T105043Z
UID:10004641-1758825000-1758830400@gronau-inside.de
SUMMARY:Week van de open koren. Kerkkoor
DESCRIPTION:Donderdag 25 september – 18.30 – 20.00 uur: Week van de open koren. :  Kerkkoor\, muziekzaal\, WT Haus \nDe Duitse Koorvereniging nodigt iedereen uit om deel te nemen aan de “Week van de Open Koren” van 22-28 september. Daarom zijn alle  Kerkkoren van de protestantse parochie open voor bezoekers die hun zangkunsten willen uitproberen.  Registratie is niet verplicht. Als je vragen hebt\, kun je contact opnemen met Hannah Parry hlmparry@gmail.com
URL:https://gronau-inside.de/nl/veranstaltung/week-van-de-open-koren-kerkkoor
LOCATION:Walter Thiemann Huis\, Alfred Dragstra Plein 1\, Gronau\, 48599
CATEGORIES:Muziek
ATTACH;FMTTYPE=image/jpeg:https://gronau-inside.de/wp-content/uploads/2025/08/david-beale-credit-offeneprobe-scaled.jpg
END:VEVENT
BEGIN:VEVENT
DTSTART;TZID=Europe/Berlin:20250925T200000
DTEND;TZID=Europe/Berlin:20250925T200000
DTSTAMP:20260422T174933
CREATED:20250730T073505Z
LAST-MODIFIED:20250730T073505Z
UID:10004542-1758830400-1758830400@gronau-inside.de
SUMMARY:De grote pubquiz
DESCRIPTION:De Latüchte zit weer vol puzzels.
URL:https://gronau-inside.de/nl/veranstaltung/de-grote-pubquiz/2025-09-25
LOCATION:Latüchte\, Gronauer Str. 16\, Gronau\, NRW\, 48599\, Deutschland
ATTACH;FMTTYPE=image/jpeg:https://gronau-inside.de/wp-content/uploads/2025/01/Kneipenquiz-Latuechte.jpg
ORGANIZER;CN="Lat%C3%BCchte":MAILTO:latuechte-epe@gmx.de
END:VEVENT
BEGIN:VEVENT
DTSTART;TZID=Europe/Berlin:20250925T200000
DTEND;TZID=Europe/Berlin:20250925T213000
DTSTAMP:20260422T174933
CREATED:20250821T105042Z
LAST-MODIFIED:20250821T105042Z
UID:10004639-1758830400-1758835800@gronau-inside.de
SUMMARY:Week van de open koren: Vrouwenkoor\, Chorus Cantabile
DESCRIPTION:Donderdag 25 september – 20-21.30: Week van de open koren: Vrouwenkoor\, Chorus Cantabile\, muziekzaal\, WT Haus \nDe Duitse Koorvereniging nodigt iedereen uit om deel te nemen aan de “Week van de Open Koren” van 22-28 september. Daarom zijn alle  Kerkkoren van de protestantse parochie staan open voor bezoekers die graag willen zingen.  Registratie is niet verplicht. Als je vragen hebt\, kun je contact opnemen met Hannah Parry hlmparry@gmail.com
URL:https://gronau-inside.de/nl/veranstaltung/week-van-de-open-koren-vrouwenkoor-chorus-cantabile
LOCATION:Walter Thiemann Huis\, Alfred Dragstra Plein 1\, Gronau\, 48599
CATEGORIES:Muziek
ATTACH;FMTTYPE=image/jpeg:https://gronau-inside.de/wp-content/uploads/2025/08/david-beale-credit-offeneprobe-scaled.jpg
END:VEVENT
END:VCALENDAR