BEGIN:VCALENDAR
VERSION:2.0
PRODID:-//Gronau Inside - ECPv6.15.18//NONSGML v1.0//EN
CALSCALE:GREGORIAN
METHOD:PUBLISH
X-WR-CALNAME:Gronau Inside
X-ORIGINAL-URL:https://gronau-inside.de/nl
X-WR-CALDESC:Evenementen voor Gronau Inside
REFRESH-INTERVAL;VALUE=DURATION:PT1H
X-Robots-Tag:noindex
X-PUBLISHED-TTL:PT1H
BEGIN:VTIMEZONE
TZID:Europe/Berlin
BEGIN:DAYLIGHT
TZOFFSETFROM:+0100
TZOFFSETTO:+0200
TZNAME:CEST
DTSTART:20240331T010000
END:DAYLIGHT
BEGIN:STANDARD
TZOFFSETFROM:+0200
TZOFFSETTO:+0100
TZNAME:CET
DTSTART:20241027T010000
END:STANDARD
BEGIN:DAYLIGHT
TZOFFSETFROM:+0100
TZOFFSETTO:+0200
TZNAME:CEST
DTSTART:20250330T010000
END:DAYLIGHT
BEGIN:STANDARD
TZOFFSETFROM:+0200
TZOFFSETTO:+0100
TZNAME:CET
DTSTART:20251026T010000
END:STANDARD
BEGIN:DAYLIGHT
TZOFFSETFROM:+0100
TZOFFSETTO:+0200
TZNAME:CEST
DTSTART:20260329T010000
END:DAYLIGHT
BEGIN:STANDARD
TZOFFSETFROM:+0200
TZOFFSETTO:+0100
TZNAME:CET
DTSTART:20261025T010000
END:STANDARD
END:VTIMEZONE
BEGIN:VEVENT
DTSTART;TZID=Europe/Berlin:20250927T090000
DTEND;TZID=Europe/Berlin:20250927T130000
DTSTAMP:20260422T053658
CREATED:20250924T105914Z
LAST-MODIFIED:20250924T105914Z
UID:10005025-1758963600-1758978000@gronau-inside.de
SUMMARY:Michaelislauf
DESCRIPTION:
URL:https://gronau-inside.de/nl/veranstaltung/michaelislauf
CATEGORIES:Gezinnen + kinderen,KuBiG (Cultuureducatie Gronau),Sport
ATTACH;FMTTYPE=image/jpeg:https://gronau-inside.de/wp-content/uploads/2025/09/IMG_0720.jpg
END:VEVENT
BEGIN:VEVENT
DTSTART;TZID=Europe/Berlin:20250927T093000
DTEND;TZID=Europe/Berlin:20250927T123000
DTSTAMP:20260422T053659
CREATED:20250922T095422Z
LAST-MODIFIED:20250922T095422Z
UID:10005012-1758965400-1758976200@gronau-inside.de
SUMMARY:Lezing: Ervaringen met God
DESCRIPTION:Christen im Beruf e.V. Gronau-Ochtrup nodigt je uit voor een lezing en ontbijt op zaterdag 27 september.  \nMuzikale organisatie: Christiane en Hans Thellmann \nDe toegang tot de lezing is gratis.\nHet hotel rekent €21\,50 voor ontbijt. \nInschrijvingen op:\nPer telefoon: 0176/96384987\nPer e-mail: info@fcg-gronau.de
URL:https://gronau-inside.de/nl/veranstaltung/lezing-ervaringen-met-god
LOCATION:Gasthof Driland\, Gildehauser Str. 350\, Gronau\, 48599
CATEGORIES:Lezing
ATTACH;FMTTYPE=image/jpeg:https://gronau-inside.de/wp-content/uploads/2025/09/0001-3.jpg
END:VEVENT
BEGIN:VEVENT
DTSTART;TZID=Europe/Berlin:20250927T110000
DTEND;TZID=Europe/Berlin:20250927T170000
DTSTAMP:20260422T053659
CREATED:20250908T064329Z
LAST-MODIFIED:20250908T064329Z
UID:10004909-1758970800-1758992400@gronau-inside.de
SUMMARY:TV Gronau - Open dag
DESCRIPTION:Vier samen met ons het 25-jarig bestaan van ons clubhuis!\nWe nodigen je van harte uit om ons pand te ontdekken en je te laten inspireren door ons brede aanbod aan sportieve activiteiten. \n– Workshops\n– Fun en games\n– Showacts\n– Catering\n– Fitness challenge\n– Rad van fortuin
URL:https://gronau-inside.de/nl/veranstaltung/tv-gronau-open-dag
LOCATION:Treffpunkt: Vereinsheim TV Gronau\, Laubstiege 42\, Gronau\, 48599
CATEGORIES:Eten en drinken,Gezinnen + kinderen,Rondleidingen,Sport,Workshop
ATTACH;FMTTYPE=image/jpeg:https://gronau-inside.de/wp-content/uploads/2025/09/Tag-der-offenen-Tuer-gronau.jpg
ORGANIZER;CN="TV Gronau 1887 e.V.":MAILTO:info@tv-gronau.de
END:VEVENT
BEGIN:VEVENT
DTSTART;TZID=Europe/Berlin:20250927T150000
DTEND;TZID=Europe/Berlin:20250927T160000
DTSTAMP:20260422T053659
CREATED:20250526T132741Z
LAST-MODIFIED:20250526T132741Z
UID:10003617-1758985200-1758988800@gronau-inside.de
SUMMARY:Open rondleiding door de permanente tentoonstelling
DESCRIPTION:Het rock “n” popmuseum biedt in het weekend open rondleidingen voor iedereen. \nMet onze getrainde museumgidsen kunnen bezoekers zich verheugen op een thematisch en creatief fascinerende tour door de dimensies van popmuziek. De tour is gericht op alle leeftijdsgroepen die geïnteresseerd zijn in een multimediale ervaring van geluiden\, beelden en tentoonstellingen met een extra dosis specialistische kennis. Dompel jezelf onder in een kippenvelmoment zoals bij een live concert!
URL:https://gronau-inside.de/nl/veranstaltung/open-rondleiding-door-de-permanente-tentoonstelling/2025-09-27
LOCATION:rock’n’popmuseum\, Udo-Lindenberg-Platz 1\, rock'n'popmuseum\, NRW\, 48599\, Deutschland
CATEGORIES:KuBiG (Cultuureducatie Gronau),rock'n'pop museum,Rondleidingen,Tentoonstelling
ATTACH;FMTTYPE=image/jpeg:https://gronau-inside.de/wp-content/uploads/2023/05/c-Frank-Schuermann-5-scaled.jpg
ORGANIZER;CN="rock'n'popmuseum Gronau GmbH":MAILTO:info@rock-popmuseum.de
END:VEVENT
BEGIN:VEVENT
DTSTART;TZID=Europe/Berlin:20250927T180000
DTEND;TZID=Europe/Berlin:20250927T180000
DTSTAMP:20260422T053659
CREATED:20250512T063648Z
LAST-MODIFIED:20250512T063648Z
UID:10003172-1758996000-1758996000@gronau-inside.de
SUMMARY:Orgelconcert
DESCRIPTION:met kerkmusicus Hannah Parry
URL:https://gronau-inside.de/nl/veranstaltung/orgelconcert-2
LOCATION:Ev. Stadtkirche Gronau\, Döhrmannplatz\, Gronau\, 48599
CATEGORIES:Muziek
ATTACH;FMTTYPE=image/jpeg:https://gronau-inside.de/wp-content/uploads/2025/05/DSC02469-scaled.jpg
END:VEVENT
BEGIN:VEVENT
DTSTART;TZID=Europe/Berlin:20250927T180000
DTEND;TZID=Europe/Berlin:20250927T180000
DTSTAMP:20260422T053659
CREATED:20250821T105041Z
LAST-MODIFIED:20250821T105041Z
UID:10004637-1758996000-1758996000@gronau-inside.de
SUMMARY:Orgelconcert met CD release party
DESCRIPTION:Zaterdag 27 september – 18.00 uur: Orgelconcert met CD-release\, Ev. Stadtkirche\,   \nHannah Parry (Gronau). \nAls onderdeel van de concertserie ter ere van het prachtige Sauer-orgel zal tijdens dit speciale concert een nieuwe CD van kerkmusicus Hannah Parry worden uitgebracht. Het gevarieerde concertprogramma wordt gevolgd door een gezellige receptie.  \nGratis toegang\, donaties worden gevraagd bij de uitgang.
URL:https://gronau-inside.de/nl/veranstaltung/orgelconcert-met-cd-release-party
LOCATION:Ev. Stadtkirche Gronau\, Döhrmannplatz\, Gronau\, 48599
CATEGORIES:Muziek
ATTACH;FMTTYPE=image/jpeg:https://gronau-inside.de/wp-content/uploads/2025/08/Hannah-Parry-Release-Party-scaled.jpg
END:VEVENT
BEGIN:VEVENT
DTSTART;TZID=Europe/Berlin:20250927T190000
DTEND;TZID=Europe/Berlin:20250927T235900
DTSTAMP:20260422T053659
CREATED:20250725T131159Z
LAST-MODIFIED:20250807T080647Z
UID:10004391-1758999600-1759017540@gronau-inside.de
SUMMARY:Liefdadigheidsconcert & taptoe Musikverein Epe e.V.
DESCRIPTION:100 jaar Musikverein Epe e.V.   \n\nBenefietconcert en tikken op 27 september 2025: De kroon op ons jubileumjaar wordt een benefietconcert in St. Agatha’s Church in Epe in september\, gevolgd door een ceremonieel tikken. Een prachtige gelegenheid om samen muziek te beleven en goed te doen. \n\nAanvang concert: 19:00 (zonder pauze)\nNa afloop is er een borrel op het kerkplein.\nNaar 21:30 tapdans \nVoor Aktion Lichtblicke
URL:https://gronau-inside.de/nl/veranstaltung/liefdadigheidsconcert-taptoe-musikverein-epe-e-v
LOCATION:St.-Agatha-Kirche\, Kirchplatz 3\, Gronau\, 48599
CATEGORIES:Festiviteiten + Feest,Muziek
ATTACH;FMTTYPE=image/jpeg:https://gronau-inside.de/wp-content/uploads/2024/12/MV_Epe_036.jpg
END:VEVENT
END:VCALENDAR