BEGIN:VCALENDAR
VERSION:2.0
PRODID:-//Gronau Inside - ECPv6.15.18//NONSGML v1.0//EN
CALSCALE:GREGORIAN
METHOD:PUBLISH
X-ORIGINAL-URL:https://gronau-inside.de/nl
X-WR-CALDESC:Evenementen voor Gronau Inside
REFRESH-INTERVAL;VALUE=DURATION:PT1H
X-Robots-Tag:noindex
X-PUBLISHED-TTL:PT1H
BEGIN:VTIMEZONE
TZID:Europe/Berlin
BEGIN:DAYLIGHT
TZOFFSETFROM:+0100
TZOFFSETTO:+0200
TZNAME:CEST
DTSTART:20240331T010000
END:DAYLIGHT
BEGIN:STANDARD
TZOFFSETFROM:+0200
TZOFFSETTO:+0100
TZNAME:CET
DTSTART:20241027T010000
END:STANDARD
BEGIN:DAYLIGHT
TZOFFSETFROM:+0100
TZOFFSETTO:+0200
TZNAME:CEST
DTSTART:20250330T010000
END:DAYLIGHT
BEGIN:STANDARD
TZOFFSETFROM:+0200
TZOFFSETTO:+0100
TZNAME:CET
DTSTART:20251026T010000
END:STANDARD
BEGIN:DAYLIGHT
TZOFFSETFROM:+0100
TZOFFSETTO:+0200
TZNAME:CEST
DTSTART:20260329T010000
END:DAYLIGHT
BEGIN:STANDARD
TZOFFSETFROM:+0200
TZOFFSETTO:+0100
TZNAME:CET
DTSTART:20261025T010000
END:STANDARD
END:VTIMEZONE
BEGIN:VEVENT
DTSTART;TZID=Europe/Berlin:20250928T110000
DTEND;TZID=Europe/Berlin:20250928T170000
DTSTAMP:20260424T063951
CREATED:20250822T075620Z
LAST-MODIFIED:20250827T094339Z
UID:10004652-1759057200-1759078800@gronau-inside.de
SUMMARY:Levendig - Open dag
DESCRIPTION:Community senior living\nLaat je inspireren door onze visie om een nieuw thuis voor senioren te creëren\,\nwaar gemeenschap\, levensvreugde en een gevoel van geborgenheid centraal staan. \nOp 28 september van 11.00 tot 17.00 uur houdt Levendig in samenwerking met Pflege Weberei en Fysiotherapie Wülker een open dag. Op deze dag zijn alle ruimtes te bezichtigen en vinden er rondleidingen plaats.  \nKom langs – laat je verrassen!
URL:https://gronau-inside.de/nl/veranstaltung/levendig-open-dag
LOCATION:LIVELY\, An der Weißen Dame 1\, Gronau\, 48599
CATEGORIES:Rondleidingen
ATTACH;FMTTYPE=image/jpeg:https://gronau-inside.de/wp-content/uploads/2025/08/lively.jpg
ORGANIZER;CN="LIVELY - CC Quartiers GmbH":MAILTO:hello@lively.de
END:VEVENT
BEGIN:VEVENT
DTSTART;TZID=Europe/Berlin:20250928T120000
DTEND;TZID=Europe/Berlin:20250928T130000
DTSTAMP:20260424T063951
CREATED:20250526T133216Z
LAST-MODIFIED:20250526T133216Z
UID:10003869-1759060800-1759064400@gronau-inside.de
SUMMARY:Open rondleiding door de permanente tentoonstelling
DESCRIPTION:Het rock “n” popmuseum biedt in het weekend open rondleidingen voor iedereen. \nMet onze getrainde museumgidsen kunnen bezoekers zich verheugen op een thematisch en creatief fascinerende tour door de dimensies van popmuziek. De tour is gericht op alle leeftijdsgroepen die geïnteresseerd zijn in een multimediale ervaring van geluiden\, beelden en tentoonstellingen met een extra dosis specialistische kennis. Dompel jezelf onder in een kippenvelmoment zoals bij een live concert!
URL:https://gronau-inside.de/nl/veranstaltung/open-rondleiding-door-de-permanente-tentoonstelling-2/2025-09-28
LOCATION:rock’n’popmuseum\, Udo-Lindenberg-Platz 1\, rock'n'popmuseum\, NRW\, 48599\, Deutschland
CATEGORIES:KuBiG (Cultuureducatie Gronau),rock'n'pop museum,Rondleidingen,Tentoonstelling
ATTACH;FMTTYPE=image/jpeg:https://gronau-inside.de/wp-content/uploads/2023/05/c-Frank-Schuermann-5-scaled.jpg
ORGANIZER;CN="rock'n'popmuseum Gronau GmbH":MAILTO:info@rock-popmuseum.de
END:VEVENT
BEGIN:VEVENT
DTSTART;TZID=Europe/Berlin:20250928T120000
DTEND;TZID=Europe/Berlin:20250928T180000
DTSTAMP:20260424T063951
CREATED:20250716T094649Z
LAST-MODIFIED:20250924T110527Z
UID:10004302-1759060800-1759082400@gronau-inside.de
SUMMARY:Michaelismarkt Epe: Land- en pompoenfestival
DESCRIPTION:We kijken uit naar de Michaelismarkt op 28 september van 12 tot 18 uur\, midden in het centrum van Gronau-Epe! \nLandleven” komt naar het centrum en we zijn blij dat de Landfrauen\, het Landvolk\, de KLJB Epe en de boeren zich presenteren op het kerkplein van de St. Agatha. De traditionele handgemaakte markt zal ook weer plaatsvinden en andere hoogtepunten staan je te wachten op het land- en pompoenfestival in Epe.  \nEn: het is ook open voor business\, de winkels hebben leuke aanbiedingen voor je. Het wordt een feest voor de hele familie!  \nSamen met de Volksbank Gronau-Ahaus en de Eper Werbegemeinschaft kijken we uit naar het septemberweekend in de binnenstad. \nTrouwens: de jubileumfestiviteiten van de Musikverein Epe worden de avond ervoor\, op zaterdagavond\, afgesloten. Kijk uit naar de grote finale en het benefietconcert van de Musikverein Epe\, samen met vele andere artiesten.  \n  \nLet op: Vanwege de tweede verkiezing is de Gronauer Straße dit jaar niet gesloten! De traditionele vlooienmarkt zal dit jaar plaatsvinden op de Amtsweg (rond Sport Engstfeld).   \nReserveren is niet mogelijk\, inschrijven is niet nodig. Geïnteresseerden kunnen zich gewoon installeren op 28 september vanaf 8 uur. Een contactpersoon in een rood vest van City Marketing zal ter plaatse zijn en plaatsen toewijzen.
URL:https://gronau-inside.de/nl/veranstaltung/michaelismarkt-epe-land-en-pompoenfestival
LOCATION:Fußgängerzone Epe\, Merschstraße
CATEGORIES:Eten en drinken,Festiviteiten + Feest,Gezinnen + kinderen,KuBiG (Cultuureducatie Gronau),Muziek,Senioren,Zondag open
ATTACH;FMTTYPE=image/jpeg:https://gronau-inside.de/wp-content/uploads/2024/07/Michaelismarkt_2025_SoMe-Grafik-Insta.jpg
ORGANIZER;CN="Stadtmarketing/Touristinfo":MAILTO:info@stadtmarketing-gronau.de
END:VEVENT
BEGIN:VEVENT
DTSTART;TZID=Europe/Berlin:20250928T140000
DTEND;TZID=Europe/Berlin:20250928T140000
DTSTAMP:20260424T063951
CREATED:20250903T101120Z
LAST-MODIFIED:20250903T101120Z
UID:10004888-1759068000-1759068000@gronau-inside.de
SUMMARY:Paniekrondleidingen in Gronau/Westfalen.
DESCRIPTION:Paniekrondleidingen in Gronau/Westfalen.   \nUdo Lindenberg\n\nVan de jaren vijftig tot het nieuwe millennium:\nWortels – kruisingen – aanrakingen\nEen paniekhistorische tour met Hanspeter Dickel\nOriginele locaties – foto’s – films – muziek – hedendaagse getuigen\n\n\nZon 28 september za 18 oktober\nStart: 14.00 uur voor het rock`n`popmuseum\, 2 uur durende wandelexcursie en 1 ½ uur “nablijven”\nInschrijving: kontakt@hanspeter-dickel.de
URL:https://gronau-inside.de/nl/veranstaltung/paniekrondleidingen-in-gronau-westfalen/2025-09-28
LOCATION:Trefpunt: voor het rock’n’popmuseum\, Udo Lindenberg Plein 1\, Gronau\, 48599
CATEGORIES:Lezing,Muziek,rock'n'pop museum,Rondleidingen
ATTACH;FMTTYPE=image/jpeg:https://gronau-inside.de/wp-content/uploads/2025/09/Hans-Peter-Dickel.jpg
ORGANIZER;CN="Hanspeter Dickel":MAILTO:kontakt@hanspeter-dickel.de
END:VEVENT
END:VCALENDAR