BEGIN:VCALENDAR
VERSION:2.0
PRODID:-//Gronau Inside - ECPv6.15.18//NONSGML v1.0//EN
CALSCALE:GREGORIAN
METHOD:PUBLISH
X-WR-CALNAME:Gronau Inside
X-ORIGINAL-URL:https://gronau-inside.de/nl
X-WR-CALDESC:Evenementen voor Gronau Inside
REFRESH-INTERVAL;VALUE=DURATION:PT1H
X-Robots-Tag:noindex
X-PUBLISHED-TTL:PT1H
BEGIN:VTIMEZONE
TZID:Europe/Berlin
BEGIN:DAYLIGHT
TZOFFSETFROM:+0100
TZOFFSETTO:+0200
TZNAME:CEST
DTSTART:20250330T010000
END:DAYLIGHT
BEGIN:STANDARD
TZOFFSETFROM:+0200
TZOFFSETTO:+0100
TZNAME:CET
DTSTART:20251026T010000
END:STANDARD
BEGIN:DAYLIGHT
TZOFFSETFROM:+0100
TZOFFSETTO:+0200
TZNAME:CEST
DTSTART:20260329T010000
END:DAYLIGHT
BEGIN:STANDARD
TZOFFSETFROM:+0200
TZOFFSETTO:+0100
TZNAME:CET
DTSTART:20261025T010000
END:STANDARD
BEGIN:DAYLIGHT
TZOFFSETFROM:+0100
TZOFFSETTO:+0200
TZNAME:CEST
DTSTART:20270328T010000
END:DAYLIGHT
BEGIN:STANDARD
TZOFFSETFROM:+0200
TZOFFSETTO:+0100
TZNAME:CET
DTSTART:20271031T010000
END:STANDARD
END:VTIMEZONE
BEGIN:VEVENT
DTSTART;TZID=Europe/Berlin:20260410T080000
DTEND;TZID=Europe/Berlin:20260410T130000
DTSTAMP:20260425T180941
CREATED:20250929T092619Z
LAST-MODIFIED:20250929T092619Z
UID:10005249-1775808000-1775826000@gronau-inside.de
SUMMARY:Gronau-Epe wekelijkse markt
DESCRIPTION:Elke vrijdag van 8.00 tot 13.00 uur trekt de wekelijkse markt veel bezoekers naar het centrum van Eper. Naast heerlijke groenten en fruit worden verse bakwaren\, Nederlandse kaas\, vis\, vlees en nog veel meer aangeboden. \nDe wekelijkse markt in Gronau-Epe vindt plaats op vrijdag van 8.00 tot 13.00 uur in de Merschstraße.
URL:https://gronau-inside.de/nl/veranstaltung/gronau-epe-wekelijkse-markt/2026-04-10
LOCATION:Merschstraße Epe\, Merschstraße\, Gronau\, 48599
CATEGORIES:Eten en drinken,Markten + beurzen
ATTACH;FMTTYPE=image/jpeg:https://gronau-inside.de/wp-content/uploads/2021/05/Wochenmarkt-Epe-1-e1695720579249.jpg
END:VEVENT
BEGIN:VEVENT
DTSTART;TZID=Europe/Berlin:20260410T143000
DTEND;TZID=Europe/Berlin:20260410T143000
DTSTAMP:20260425T180941
CREATED:20251216T084755Z
LAST-MODIFIED:20251216T084755Z
UID:10006011-1775831400-1775831400@gronau-inside.de
SUMMARY:Zoem\, zoem\, zoem - een bezoek aan bijen\, engerlingen en co
DESCRIPTION:Basisschoolkinderen en hun grootouders bezoeken een enorme groene oase in het midden van een industrieterrein met veel insecten\, engerlingen en andere wezens. \nSamen met een imker leer je hoe de bijenkolonie honing produceert in een perfecte taakverdeling. We onderzoeken hoe ze bloemen bestuiven en bij-vriendelijke bloemen voor thuis zaaien. Tijdens een korte picknickpauze wordt er honing geproefd. In de tuin is er een vijver met libellen en watervlooien\, evenals insectenhotels en compostbedden met veel kleine kruipertjes\, die we onderzoeken met een vergrootglas en microscoop en waar we een insectennest voor bouwen.    \nKinderen in de basisschoolleeftijd met hun grootouders/ouders. Neem een vergrootglas\, bekerloep\, pincet\, een verzameldoos (indien beschikbaar) en een rugzak mee.
URL:https://gronau-inside.de/nl/veranstaltung/zoem-zoem-zoem-een-bezoek-aan-bijen-engerlingen-en-co/2026-04-10
LOCATION:Imkerei van der Wals\, Maybachstr. 3\, Gronau\, 48599
CATEGORIES:Gezinnen + kinderen,KuBiG (Cultuureducatie Gronau),Rondleidingen
ATTACH;FMTTYPE=image/jpeg:https://gronau-inside.de/wp-content/uploads/2024/11/csm_Honigbiene_B018041_C_Rueckriem_05703780fe.jpg
END:VEVENT
END:VCALENDAR