BEGIN:VCALENDAR
VERSION:2.0
PRODID:-//Gronau Inside - ECPv6.15.18//NONSGML v1.0//EN
CALSCALE:GREGORIAN
METHOD:PUBLISH
X-ORIGINAL-URL:https://gronau-inside.de/nl
X-WR-CALDESC:Evenementen voor Gronau Inside
REFRESH-INTERVAL;VALUE=DURATION:PT1H
X-Robots-Tag:noindex
X-PUBLISHED-TTL:PT1H
BEGIN:VTIMEZONE
TZID:Europe/Berlin
BEGIN:DAYLIGHT
TZOFFSETFROM:+0100
TZOFFSETTO:+0200
TZNAME:CEST
DTSTART:20250330T010000
END:DAYLIGHT
BEGIN:STANDARD
TZOFFSETFROM:+0200
TZOFFSETTO:+0100
TZNAME:CET
DTSTART:20251026T010000
END:STANDARD
BEGIN:DAYLIGHT
TZOFFSETFROM:+0100
TZOFFSETTO:+0200
TZNAME:CEST
DTSTART:20260329T010000
END:DAYLIGHT
BEGIN:STANDARD
TZOFFSETFROM:+0200
TZOFFSETTO:+0100
TZNAME:CET
DTSTART:20261025T010000
END:STANDARD
BEGIN:DAYLIGHT
TZOFFSETFROM:+0100
TZOFFSETTO:+0200
TZNAME:CEST
DTSTART:20270328T010000
END:DAYLIGHT
BEGIN:STANDARD
TZOFFSETFROM:+0200
TZOFFSETTO:+0100
TZNAME:CET
DTSTART:20271031T010000
END:STANDARD
END:VTIMEZONE
BEGIN:VEVENT
DTSTART;VALUE=DATE:20260428
DTEND;VALUE=DATE:20260504
DTSTAMP:20260422T122700
CREATED:20250723T094405Z
LAST-MODIFIED:20251124T141443Z
UID:10004371-1777334400-1777852799@gronau-inside.de
SUMMARY:38e Gronau Jazz Festival
DESCRIPTION:Van 28 april tot en met 3 mei 2026 wordt de stad Gronau een ontmoetingsplaats voor muziekliefhebbers van heinde en verre. Voor de 38e keer organiseert de culturele dienst van Gronau het Jazz Festival en presenteert een gevarieerd programma met internationale artiesten\, aanstormend talent en regionale bands.\nHet festival staat sinds 1989 voor een grenzeloos muzikaal spectrum en biedt naast jazz\, blues\, swing en funk ook pop en elektronische klanken. Het programma benadrukt opnieuw de karakteristieke mix van het festival – gevarieerd\, kleurrijk en generatieoverschrijdend.   \nVan 01.12.25 – 04.01.26 is er een exclusieve voorverkoop bij alle Eventim-voorboekingskantoren\, waaronder Touristinfo Gronau (tel. 02562-99006) en online op www.eventim.de. Vroege boekers kunnen zich verheugen op een aantrekkelijke korting van 20%. De normale voorverkoop start dan vanaf 5 januari 2026.   \n 
URL:https://gronau-inside.de/nl/veranstaltung/38e-gronau-jazz-festival
LOCATION:verschiedene Spielorte
ATTACH;FMTTYPE=image/jpeg:https://gronau-inside.de/wp-content/uploads/2025/07/Jazzfest_2026_So-Me-Grafiken_EarlyBird-Insta.jpg
ORGANIZER;CN="Kulturb%C3%BCro/ Touristinfo & Stadtmarketing Gronau":MAILTO:info@stadtmarketing-gronau.de
END:VEVENT
BEGIN:VEVENT
DTSTART;TZID=Europe/Berlin:20260503T110000
DTEND;TZID=Europe/Berlin:20260503T110000
DTSTAMP:20260422T122700
CREATED:20251124T155035Z
LAST-MODIFIED:20251201T091849Z
UID:10005848-1777806000-1777806000@gronau-inside.de
SUMMARY:Jazzfest: Noordzee Strijkkwartet
DESCRIPTION:Op 03.05.26 geeft het “North Sea String Quartet” een matineeconcert in Georg’s galerie in Epe. \nKamerjazz\, folkfusion\, wereldmuziekimprovisatoren – het NORTH SEA STRING QUARTET uit Rotterdam wordt beschouwd als een van de meest opwindende en innovatieve in zijn soort en heeft al vele pogingen tot definiëring achter de rug. \nUiteindelijk slaat geen van de composities van violisten George Dumitriu en Pablo Rodríguez en Yanna Pelser op altviool en Thomas van Geelen op cello\, geïnspireerd door klassieke\, wereld-\, folk- en jazzmuziek en altijd open voor improvisatie\, aan. Met behulp van nieuwe speeltechnieken brengen ze muziek over naar het strijkkwartetformaat die je nooit voor mogelijk had gehouden – en ze grooven er echt op los.  \nVan 01.12.25 – 04.01.26 is er een exclusieve voorverkoop bij alle Eventim-voorboekingskantoren (waaronder Touristinfo Gronau\, tel. 02562 99006) en online op www.eventim.de. Vroege boekers kunnen zich verheugen op een aantrekkelijke korting van 20%. De normale voorverkoop start dan vanaf 5 januari 2026.
URL:https://gronau-inside.de/nl/veranstaltung/jazzfest-noordzee-strijkkwartet
LOCATION:Georgs Galerie\, Merschstraße 21\, Gronau-Epe\, 48599
CATEGORIES:KuBiG (Cultuureducatie Gronau),Markeer,Muziek
ATTACH;FMTTYPE=image/jpeg:https://gronau-inside.de/wp-content/uploads/2025/11/JF26_North_Sea_String_Quartet_Early-Bird-insta.jpg
ORGANIZER;CN="Kulturb%C3%BCro/ Touristinfo & Stadtmarketing Gronau":MAILTO:info@stadtmarketing-gronau.de
END:VEVENT
BEGIN:VEVENT
DTSTART;TZID=Europe/Berlin:20260503T120000
DTEND;TZID=Europe/Berlin:20260503T130000
DTSTAMP:20260422T122700
CREATED:20250526T133216Z
LAST-MODIFIED:20250526T133216Z
UID:10003900-1777809600-1777813200@gronau-inside.de
SUMMARY:Open rondleiding door de permanente tentoonstelling
DESCRIPTION:Het rock “n” popmuseum biedt in het weekend open rondleidingen voor iedereen. \nMet onze getrainde museumgidsen kunnen bezoekers zich verheugen op een thematisch en creatief fascinerende tour door de dimensies van popmuziek. De tour is gericht op alle leeftijdsgroepen die geïnteresseerd zijn in een multimediale ervaring van geluiden\, beelden en tentoonstellingen met een extra dosis specialistische kennis. Dompel jezelf onder in een kippenvelmoment zoals bij een live concert!
URL:https://gronau-inside.de/nl/veranstaltung/open-rondleiding-door-de-permanente-tentoonstelling-2/2026-05-03
LOCATION:rock’n’popmuseum\, Udo-Lindenberg-Platz 1\, rock'n'popmuseum\, NRW\, 48599\, Deutschland
CATEGORIES:KuBiG (Cultuureducatie Gronau),rock'n'pop museum,Rondleidingen,Tentoonstelling
ATTACH;FMTTYPE=image/jpeg:https://gronau-inside.de/wp-content/uploads/2023/05/c-Frank-Schuermann-5-scaled.jpg
ORGANIZER;CN="rock'n'popmuseum Gronau GmbH":MAILTO:info@rock-popmuseum.de
END:VEVENT
BEGIN:VEVENT
DTSTART;TZID=Europe/Berlin:20260503T120000
DTEND;TZID=Europe/Berlin:20260503T170000
DTSTAMP:20260422T122700
CREATED:20251124T155034Z
LAST-MODIFIED:20251124T155034Z
UID:10005846-1777809600-1777827600@gronau-inside.de
SUMMARY:Jazzfest: Jazz in de stad
DESCRIPTION:Tijdens Jazz in the City op zondag 03.05.26 zullen er talrijke brassbands en live bands optreden in het centrum van Gronau\, dat open is voor zaken.
URL:https://gronau-inside.de/nl/veranstaltung/jazzfest-jazz-in-de-stad
LOCATION:Gronauer Innenstadt\, Neustraße\, Gronau\, 48599
CATEGORIES:Eten en drinken,Festiviteiten + Feest,Gezinnen + kinderen,KuBiG (Cultuureducatie Gronau),Markeer,Muziek
ATTACH;FMTTYPE=image/jpeg:https://gronau-inside.de/wp-content/uploads/2025/11/Jazzfest_2026_So-Me-Grafiken_Insta.jpg
ORGANIZER;CN="Kulturb%C3%BCro/ Touristinfo & Stadtmarketing Gronau":MAILTO:info@stadtmarketing-gronau.de
END:VEVENT
BEGIN:VEVENT
DTSTART;TZID=Europe/Berlin:20260503T130000
DTEND;TZID=Europe/Berlin:20260503T180000
DTSTAMP:20260422T122700
CREATED:20250409T130437Z
LAST-MODIFIED:20250409T130437Z
UID:10002872-1777813200-1777831200@gronau-inside.de
SUMMARY:Zondag open voor het publiek
DESCRIPTION:De open zondag vindt plaats als onderdeel van het 38e Gronau Jazz Festival.
URL:https://gronau-inside.de/nl/veranstaltung/zondag-open-voor-het-publiek-2
LOCATION:Gronauer Innenstadt\, Neustraße\, Gronau\, 48599
CATEGORIES:Zondag open
END:VEVENT
BEGIN:VEVENT
DTSTART;TZID=Europe/Berlin:20260503T170000
DTEND;TZID=Europe/Berlin:20260503T170000
DTSTAMP:20260422T122700
CREATED:20251128T071708Z
LAST-MODIFIED:20251128T071708Z
UID:10005891-1777827600-1777827600@gronau-inside.de
SUMMARY:Jazzfest: Jazz & Dineren
DESCRIPTION:Het populaire “Jazz and Dine”-format zal ook weer plaatsvinden\, waarbij de hotelrestaurants Schepers\, Verst en Seeblick een 3-gangenmenu serveren\, begeleid door uitstekende livemuziek. \nHotel-Restaurant Seeblick: “Helen Music”\nHotel-Restaurant Verst: “Jaxman”\nHotel-Restaurant Schepers: “Bluetis” \n59\,- euro incl. 3-gangenmenu; tickets zijn verkrijgbaar bij de deelnemende restaurants.
URL:https://gronau-inside.de/nl/veranstaltung/jazzfest-jazz-dineren
LOCATION:verschiedene Spielorte
CATEGORIES:Eten en drinken,Muziek
ATTACH;FMTTYPE=image/jpeg:https://gronau-inside.de/wp-content/uploads/2025/11/Jazzfest_2026_So-Me-Grafiken_Insta.jpg
END:VEVENT
END:VCALENDAR