BEGIN:VCALENDAR
VERSION:2.0
PRODID:-//Gronau Inside - ECPv6.15.18//NONSGML v1.0//EN
CALSCALE:GREGORIAN
METHOD:PUBLISH
X-WR-CALNAME:Gronau Inside
X-ORIGINAL-URL:https://gronau-inside.de/nl
X-WR-CALDESC:Evenementen voor Gronau Inside
REFRESH-INTERVAL;VALUE=DURATION:PT1H
X-Robots-Tag:noindex
X-PUBLISHED-TTL:PT1H
BEGIN:VTIMEZONE
TZID:Europe/Berlin
BEGIN:DAYLIGHT
TZOFFSETFROM:+0100
TZOFFSETTO:+0200
TZNAME:CEST
DTSTART:20250330T010000
END:DAYLIGHT
BEGIN:STANDARD
TZOFFSETFROM:+0200
TZOFFSETTO:+0100
TZNAME:CET
DTSTART:20251026T010000
END:STANDARD
BEGIN:DAYLIGHT
TZOFFSETFROM:+0100
TZOFFSETTO:+0200
TZNAME:CEST
DTSTART:20260329T010000
END:DAYLIGHT
BEGIN:STANDARD
TZOFFSETFROM:+0200
TZOFFSETTO:+0100
TZNAME:CET
DTSTART:20261025T010000
END:STANDARD
BEGIN:DAYLIGHT
TZOFFSETFROM:+0100
TZOFFSETTO:+0200
TZNAME:CEST
DTSTART:20270328T010000
END:DAYLIGHT
BEGIN:STANDARD
TZOFFSETFROM:+0200
TZOFFSETTO:+0100
TZNAME:CET
DTSTART:20271031T010000
END:STANDARD
END:VTIMEZONE
BEGIN:VEVENT
DTSTART;TZID=Europe/Berlin:20260301T190000
DTEND;TZID=Europe/Berlin:20260301T190000
DTSTAMP:20260423T092912
CREATED:20251124T092937Z
LAST-MODIFIED:20251124T125334Z
UID:10005823-1772391600-1772391600@gronau-inside.de
SUMMARY:Bridgerton Muziek bij Kaarslicht - Strijkkwartet
DESCRIPTION:Een concert met romantische melodieën uit de wereld van de “Bridgerton” serie\, gespeeld door een strijkkwartet in een sfeervolle LED-setting bij kaarslicht. Je hoort zowel bekende titels uit de serie als klassieke arrangementen in een moderne stijl.
URL:https://gronau-inside.de/nl/veranstaltung/bridgerton-muziek-bij-kaarslicht-strijkkwartet
LOCATION:Bürgerhalle Gronau\, Spinnereistraße 20\, Gronau\, 48599
CATEGORIES:Burgerzaal,Muziek
ATTACH;FMTTYPE=image/jpeg:https://gronau-inside.de/wp-content/uploads/2025/11/bridgerton-Gronau-4_5.jpg
END:VEVENT
BEGIN:VEVENT
DTSTART;TZID=Europe/Berlin:20260307T110000
DTEND;TZID=Europe/Berlin:20260307T180000
DTSTAMP:20260423T092912
CREATED:20250729T084051Z
LAST-MODIFIED:20250729T084051Z
UID:10004401-1772881200-1772906400@gronau-inside.de
SUMMARY:Bouwbeurs Gronau
DESCRIPTION:Planning\, bouw\, renovatie\, tuin en energie \nDe afgelopen jaren waren bouwliefhebbers wat terughoudend met het realiseren van hun plannen\, maar nu zijn steeds meer gezinnen en investeerders op zoek naar mogelijkheden om te bouwen. Op BAUMESSE GRONAU krijgen bezoekers daarom de nieuwste trends te zien op het gebied van bouwen\, huizen\, wonen en tuinen en hoe deze gefinancierd kunnen worden.  \nHet evenement zal daarom het uitgebreide dienstenaanbod van regionale spelers op het gebied van planning\, bouw\, renovatie\, financiering\, enz. onder de aandacht brengen. Bovendien kunnen geïnteresseerden in de bouw en – vooral – regionale vaklui in een ontspannen sfeer met elkaar praten.  \nHet is daarom de wens van de samenwerkingspartners dat het merendeel van de exposanten rechtstreeks uit Gronau of omgeving komt. Het doel is ook om zoveel mogelijk verschillende beroepen te vertegenwoordigen.  \nEr is natuurlijk kinderanimatie voor de jongste bezoekers en een gezellig beurscafé voor alle bezoekers\, waar ze kunnen genieten van verfrissingen en een praatje kunnen maken met anderen. \nBedrijven die nog niet eerder op een beurs hebben gestaan\, kunnen advies inwinnen over presentatiemogelijkheden en reclamemateriaal.
URL:https://gronau-inside.de/nl/veranstaltung/bouwbeurs-gronau/2026-03-07
LOCATION:Bürgerhalle Gronau\, Spinnereistraße 20\, Gronau\, 48599
CATEGORIES:Burgerzaal,Markten + beurzen,Tentoonstelling
ATTACH;FMTTYPE=image/jpeg:https://gronau-inside.de/wp-content/uploads/2025/07/Baumesse-Gronau.jpg
ORGANIZER;CN="Werner Berning - Diplom Betriebswirt":MAILTO:info@win-nordwest.de
END:VEVENT
BEGIN:VEVENT
DTSTART;TZID=Europe/Berlin:20260308T110000
DTEND;TZID=Europe/Berlin:20260308T180000
DTSTAMP:20260423T092912
CREATED:20250729T084051Z
LAST-MODIFIED:20250729T084051Z
UID:10004402-1772967600-1772992800@gronau-inside.de
SUMMARY:Bouwbeurs Gronau
DESCRIPTION:Planning\, bouw\, renovatie\, tuin en energie \nDe afgelopen jaren waren bouwliefhebbers wat terughoudend met het realiseren van hun plannen\, maar nu zijn steeds meer gezinnen en investeerders op zoek naar mogelijkheden om te bouwen. Op BAUMESSE GRONAU krijgen bezoekers daarom de nieuwste trends te zien op het gebied van bouwen\, huizen\, wonen en tuinen en hoe deze gefinancierd kunnen worden.  \nHet evenement zal daarom het uitgebreide dienstenaanbod van regionale spelers op het gebied van planning\, bouw\, renovatie\, financiering\, enz. onder de aandacht brengen. Bovendien kunnen geïnteresseerden in de bouw en – vooral – regionale vaklui in een ontspannen sfeer met elkaar praten.  \nHet is daarom de wens van de samenwerkingspartners dat het merendeel van de exposanten rechtstreeks uit Gronau of omgeving komt. Het doel is ook om zoveel mogelijk verschillende beroepen te vertegenwoordigen.  \nEr is natuurlijk kinderanimatie voor de jongste bezoekers en een gezellig beurscafé voor alle bezoekers\, waar ze kunnen genieten van verfrissingen en een praatje kunnen maken met anderen. \nBedrijven die nog niet eerder op een beurs hebben gestaan\, kunnen advies inwinnen over presentatiemogelijkheden en reclamemateriaal.
URL:https://gronau-inside.de/nl/veranstaltung/bouwbeurs-gronau/2026-03-08
LOCATION:Bürgerhalle Gronau\, Spinnereistraße 20\, Gronau\, 48599
CATEGORIES:Burgerzaal,Markten + beurzen,Tentoonstelling
ATTACH;FMTTYPE=image/jpeg:https://gronau-inside.de/wp-content/uploads/2025/07/Baumesse-Gronau.jpg
ORGANIZER;CN="Werner Berning - Diplom Betriebswirt":MAILTO:info@win-nordwest.de
END:VEVENT
BEGIN:VEVENT
DTSTART;TZID=Europe/Berlin:20260320T200000
DTEND;TZID=Europe/Berlin:20260320T200000
DTSTAMP:20260423T092912
CREATED:20250723T065434Z
LAST-MODIFIED:20251124T092520Z
UID:10004361-1774036800-1774036800@gronau-inside.de
SUMMARY:Koningen van Floyd
DESCRIPTION:Dark Side Tour 2026\nKings Of Floyd: Een onvergetelijk eerbetoon aan Pink Floyd keert terug! \nDe gevierde meesters van de Pink Floyd tributeband scene\, Kings Of Floyd\, zijn terug en brengen opnieuw de legendarische nalatenschap van de progressieve rockiconen op het podium. Met hun ongeëvenaarde muzikale brille en opzwepende live performance beloven ze een onvergetelijke ervaring voor alle Pink Floyd fans.\nKings Of Floyd staan bekend om hun adembenemende reproducties van Pink Floyd’s tijdloze hits. Van “Comfortably Numb” tot “Wish You Were Here” en “Another Brick in the Wall”\, ze brengen het publiek in vervoering. De bandleden hebben hun vaardigheden en passie voor de muziek van Pink Floyd door de jaren heen aangescherpt en worden nu erkend als een van de beste Pink Floyd tribute bands ter wereld.    \nMet uitgebreide podiumdecors\, fascinerende visuals en een indrukwekkende lichtshow dompelen Kings Of Floyd het publiek onder in de unieke sfeer.\nFans kunnen zich verheugen op een muzikale reis die hen onderdompelt in de epische klanken en psychedelische werelden van de Britse rocklegendes.\nKings Of Floyd zijn niet zomaar een tributeband\, maar echte fans van Pink Floyd. Ze nemen de nalatenschap van de band serieus en willen de geest en magie van Pink Floyds muziek levend houden voor nieuwe generaties. Door hun buitengewone optreden brengen ze de unieke muzikale visie van Pink Floyd over en laten ze fans de emotionele diepte\nen artistieke ambitie van het originele werk voelen. Kings Of Floyd’s aankomende tour belooft een onvergetelijke tijd te worden voor alle Pink Floyd fans. De band zal optreden in de meest prestigieuze zalen en hun muzikale meesterschap delen met het publiek. Bereid je voor op een opzwepend optreden dat je terugbrengt naar het gouden tijdperk van de progressieve rock.      \nKoop nu je tickets en beleef Kings Of Floyd live op het podium!\nAlleen staanplaatsen! \nFoto: Roland Wurster
URL:https://gronau-inside.de/nl/veranstaltung/koningen-van-floyd
LOCATION:Bürgerhalle Gronau\, Spinnereistraße 20\, Gronau\, 48599
CATEGORIES:Burgerzaal,Muziek
ATTACH;FMTTYPE=image/png:https://gronau-inside.de/wp-content/uploads/2025/07/Pressefoto.png
END:VEVENT
BEGIN:VEVENT
DTSTART;TZID=Europe/Berlin:20260322T110000
DTEND;TZID=Europe/Berlin:20260322T150000
DTSTAMP:20260423T092912
CREATED:20251119T125236Z
LAST-MODIFIED:20251119T125236Z
UID:10005789-1774177200-1774191600@gronau-inside.de
SUMMARY:Modelspeelgoedmarkt
DESCRIPTION:
URL:https://gronau-inside.de/nl/veranstaltung/modelspeelgoedmarkt
LOCATION:Bürgerhalle Gronau\, Spinnereistraße 20\, Gronau\, 48599
CATEGORIES:Burgerzaal,Markten + beurzen
ORGANIZER;CN="OVG - Ochruper Veranstaltungs GmbH":MAILTO:Info@bv-messen.de
END:VEVENT
BEGIN:VEVENT
DTSTART;TZID=Europe/Berlin:20260325T193000
DTEND;TZID=Europe/Berlin:20260325T193000
DTSTAMP:20260423T092912
CREATED:20251203T152418Z
LAST-MODIFIED:20251203T152418Z
UID:10005990-1774467000-1774467000@gronau-inside.de
SUMMARY:Rudelsingen - Het meezingevenement voor iedereen!
DESCRIPTION:Samen zingen\, lachen en een onvergetelijke avond beleven – daar draait het om bij RUDELSINGEN! \nHoe werkt een RUDELSINGEN-avond? \nHet is eenvoudig: twee live muzikanten begeleiden het publiek\, de teksten worden geprojecteerd op een scherm – en dan is het tijd om uit volle borst mee te zingen! Het repertoire is net zo kleurrijk als de deelnemers zelf. Van pop tot rock\, van actuele hits tot onvergetelijke klassiekers\, alles komt aan bod.  \n\n\n\n\nWaarom RUDELSINGEN zo speciaal is \nHier zijn geen toeschouwers\, alleen deelnemers! Het publiek wordt een koor\, de sfeer is uniek – en elke avond ontwikkelt zijn eigen dynamiek. Of het nu gaat om Robbie Williams\, Herbert Grönemeyer\, Die Toten Hosen\, Die Ärzte of The Rolling Stones – legendes ontmoeten elkaar in RUDELSINGEN.   \nAls je er eenmaal bent geweest\, kom je gegarandeerd terug. Zoek je lokale Rudelsingen en ervaar het zelf!
URL:https://gronau-inside.de/nl/veranstaltung/rudelsingen-het-meezingevenement-voor-iedereen/2026-03-25
LOCATION:Bürgerhalle Gronau\, Spinnereistraße 20\, Gronau\, 48599
CATEGORIES:Burgerzaal,Muziek
ATTACH;FMTTYPE=image/jpeg:https://gronau-inside.de/wp-content/uploads/2022/02/06.05._MusiknachtPublikum@Hartmut-Springer.jpg
ORGANIZER;CN="RUDELSINGEN GmbH":MAILTO:info@rudelsingen.de
END:VEVENT
END:VCALENDAR