BEGIN:VCALENDAR
VERSION:2.0
PRODID:-//Gronau Inside - ECPv6.15.18//NONSGML v1.0//EN
CALSCALE:GREGORIAN
METHOD:PUBLISH
X-WR-CALNAME:Gronau Inside
X-ORIGINAL-URL:https://gronau-inside.de/nl
X-WR-CALDESC:Evenementen voor Gronau Inside
REFRESH-INTERVAL;VALUE=DURATION:PT1H
X-Robots-Tag:noindex
X-PUBLISHED-TTL:PT1H
BEGIN:VTIMEZONE
TZID:Europe/Berlin
BEGIN:DAYLIGHT
TZOFFSETFROM:+0100
TZOFFSETTO:+0200
TZNAME:CEST
DTSTART:20250330T010000
END:DAYLIGHT
BEGIN:STANDARD
TZOFFSETFROM:+0200
TZOFFSETTO:+0100
TZNAME:CET
DTSTART:20251026T010000
END:STANDARD
BEGIN:DAYLIGHT
TZOFFSETFROM:+0100
TZOFFSETTO:+0200
TZNAME:CEST
DTSTART:20260329T010000
END:DAYLIGHT
BEGIN:STANDARD
TZOFFSETFROM:+0200
TZOFFSETTO:+0100
TZNAME:CET
DTSTART:20261025T010000
END:STANDARD
BEGIN:DAYLIGHT
TZOFFSETFROM:+0100
TZOFFSETTO:+0200
TZNAME:CEST
DTSTART:20270328T010000
END:DAYLIGHT
BEGIN:STANDARD
TZOFFSETFROM:+0200
TZOFFSETTO:+0100
TZNAME:CET
DTSTART:20271031T010000
END:STANDARD
END:VTIMEZONE
BEGIN:VEVENT
DTSTART;VALUE=DATE:20260318
DTEND;VALUE=DATE:20260328
DTSTAMP:20260423T050127
CREATED:20260310T112556Z
LAST-MODIFIED:20260310T112556Z
UID:10006902-1773792000-1774655999@gronau-inside.de
SUMMARY:Internationale Wochen gegen Rassismus 2026
DESCRIPTION:18. März\, 13:00 – 16.00 Uhr\, Gronauer Innenstadt\nInfostand der Gronauer Netzwerkpartner vor der St. Antonius Kirche \n20. März\, 17 .30 – 22.00 Uhr\, Familienbildungsstätte Gronau\nMein Platz – Meine Geschichte\, Ruhe finden\, bunte Vielfalt (er-)leben -eine kreative Mitmach-Aktion in der Familienbildungsstätte \n24. März\, 12:00 Uhr\, Vereinsstraße 70-72\nBesuch des jüdischen Friedhofes \n4. März\, 18:30 – 20:00 Uhr\, Stadtbücherei Gronau\nNiederländisch-Deutsches Begegnungscafe \n25. März\, 16:00 – 20:00 Uhr\, Haus der Begegnung (HdB)\nVorurteile und Zusammenleben & Filmabend (Team Integration) \n26. März\, 11 :00 Uhr\, Gronauer Stadtpark\nGedenkveranstaltung Erinnerungsort 10+1 Bäume und Platz für Vielfalt und Toleranz \n26. März\, 17:00 – 18:00 Uhr\, Haus der Begegnung (HdB)\nKreative Auszeit für Alle (Team Integration) \n26. März\, 19:00 Uhr\, Georgs Galerie\nSzenische Aufführung „Verteidigungsrede Sokrates” Haus Lebenstein und Bürgerstiftung Gronau laden ein im Rahmen des IWgR! \n27. März\, 07: 15 – ca. 20:00 Uhr\nBremerhaven Tagesfahrt: Deutsches Auswandererhaus\, Bremerhaven für eine interkulturelle Gruppe (VHS)
URL:https://gronau-inside.de/nl/veranstaltung/internationale-wochen-gegen-rassismus-2026
LOCATION:verschiedene Orte
ATTACH;FMTTYPE=image/jpeg:https://gronau-inside.de/wp-content/uploads/2026/03/Plakat_Wochen_gegen_Rassismus_2026.jpg
END:VEVENT
BEGIN:VEVENT
DTSTART;TZID=Europe/Berlin:20260321T093000
DTEND;TZID=Europe/Berlin:20260321T123000
DTSTAMP:20260423T050127
CREATED:20260313T130409Z
LAST-MODIFIED:20260318T080925Z
UID:10006905-1774085400-1774096200@gronau-inside.de
SUMMARY:Vortrag von Ian Reilly „Wo muss ich unterschreiben?“
DESCRIPTION:Christen im Beruf e.V. Gronau-Ochtrup \nWir laden Sie zum Vortrag mit Frühstück ein:\nSamstag den 21.03.2026\nDriland Hotel\,\nGildehauser Str. 350\n48599 Gronau\nTel 02562 3600 \nVeranstaltungsbeginn: 9:30 Uhr\nVeranstaltungsende 12:30 Uhr \nDer Eintritt zum Vortrag ist frei.\nFü das Frühstück berechnet das Hotel 21\,50 Euro\nDie Teilnahme am Frühstück ist verbindlich. \nIhre Anmeldung:\nTelefonisch 0176/96384987 oder\nper e-Mail info@fcg-gronau.de erleichtert uns die Planung. \nMusikalische Gestaltung:\nChristiane und Hans Thellmann \n  \nDie Vision von Christen im Beruf (CiB)\, dem deutschen Zweig der internationalen Vereinigung FGBMFI Full Gospel Busi­ness Men6S Fellowship International\, ist es\, Menschen aus allen Berufen Mut zu machen\, im Alltag in einer Beziehung mit Gott zu leben und seine Liebe zu erfahren. In den regelmäßigen Veranstaltungen der Ortsgruppen erfahren Sie\, wie man durch Glauben an Jesus Christus neue Kraft\, tie­fen Frieden und frischen Mut erhalten kann. Unsere Mitarbeiter sind Christen aus unterschiedlichen Kirchen und Gemeinden. Die Bibel und der Glaube an Jesus Chris­tus sind unsere verbindende Grundlage. Als Ã¼berkonfessionelle Vereinigung sind wir mit mehr als 4000 örtlichen Gruppen (Chaptern) in rund 160 Ländern vertreten.
URL:https://gronau-inside.de/nl/veranstaltung/vortrag-von-ian-reilly-wo-muss-ich-unterschreiben
LOCATION:Gasthof Driland\, Gildehauser Str. 350\, Gronau\, 48599
END:VEVENT
END:VCALENDAR