BEGIN:VCALENDAR
VERSION:2.0
PRODID:-//Gronau Inside - ECPv6.15.18//NONSGML v1.0//EN
CALSCALE:GREGORIAN
METHOD:PUBLISH
X-WR-CALNAME:Gronau Inside
X-ORIGINAL-URL:https://gronau-inside.de/nl
X-WR-CALDESC:Evenementen voor Gronau Inside
REFRESH-INTERVAL;VALUE=DURATION:PT1H
X-Robots-Tag:noindex
X-PUBLISHED-TTL:PT1H
BEGIN:VTIMEZONE
TZID:Europe/Berlin
BEGIN:DAYLIGHT
TZOFFSETFROM:+0100
TZOFFSETTO:+0200
TZNAME:CEST
DTSTART:20250330T010000
END:DAYLIGHT
BEGIN:STANDARD
TZOFFSETFROM:+0200
TZOFFSETTO:+0100
TZNAME:CET
DTSTART:20251026T010000
END:STANDARD
BEGIN:DAYLIGHT
TZOFFSETFROM:+0100
TZOFFSETTO:+0200
TZNAME:CEST
DTSTART:20260329T010000
END:DAYLIGHT
BEGIN:STANDARD
TZOFFSETFROM:+0200
TZOFFSETTO:+0100
TZNAME:CET
DTSTART:20261025T010000
END:STANDARD
BEGIN:DAYLIGHT
TZOFFSETFROM:+0100
TZOFFSETTO:+0200
TZNAME:CEST
DTSTART:20270328T010000
END:DAYLIGHT
BEGIN:STANDARD
TZOFFSETFROM:+0200
TZOFFSETTO:+0100
TZNAME:CET
DTSTART:20271031T010000
END:STANDARD
END:VTIMEZONE
BEGIN:VEVENT
DTSTART;TZID=Europe/Berlin:20260221T153000
DTEND;TZID=Europe/Berlin:20260221T153000
DTSTAMP:20260421T221833
CREATED:20251126T084855Z
LAST-MODIFIED:20260217T152501Z
UID:10005860-1771687800-1771687800@gronau-inside.de
SUMMARY:afgelast: Kinderconcert met Dennis Buss & New Young Voices
DESCRIPTION:Kinderconcert met Dennis Buss & New Young Voices voor kinderen (4 tot 10 jaar) \nHet participatieconcert door kinderen voor kinderen – je kunt zelf deel uitmaken van het concert en luisteren naar de prachtige klanken van artiesten. \nDennis Buss brengt zijn kinder- en jeugdlabel\, New Young Voices\, naar Georg’s Gallery en laat het publiek deel uitmaken van de show: Lichaamspercussie\, rappen\, zingen\, muziekpuzzels en een of twee verrassingen wachten op je! \nTicketprijs voor kinderen: 3\,00 euro
URL:https://gronau-inside.de/nl/veranstaltung/kinderconcert-met-dennis-buss-new-young-voices
LOCATION:Georgs Galerie\, Merschstraße 21\, Gronau-Epe\, 48599
CATEGORIES:Gezinnen + kinderen,KuBiG (Cultuureducatie Gronau),Muziek
ATTACH;FMTTYPE=image/avif:https://gronau-inside.de/wp-content/uploads/2025/11/Dennis-Buss.avif
END:VEVENT
END:VCALENDAR