BEGIN:VCALENDAR
VERSION:2.0
PRODID:-//Gronau Inside - ECPv6.15.18//NONSGML v1.0//EN
CALSCALE:GREGORIAN
METHOD:PUBLISH
X-ORIGINAL-URL:https://gronau-inside.de/nl
X-WR-CALDESC:Evenementen voor Gronau Inside
REFRESH-INTERVAL;VALUE=DURATION:PT1H
X-Robots-Tag:noindex
X-PUBLISHED-TTL:PT1H
BEGIN:VTIMEZONE
TZID:Europe/Berlin
BEGIN:DAYLIGHT
TZOFFSETFROM:+0100
TZOFFSETTO:+0200
TZNAME:CEST
DTSTART:20240331T010000
END:DAYLIGHT
BEGIN:STANDARD
TZOFFSETFROM:+0200
TZOFFSETTO:+0100
TZNAME:CET
DTSTART:20241027T010000
END:STANDARD
BEGIN:DAYLIGHT
TZOFFSETFROM:+0100
TZOFFSETTO:+0200
TZNAME:CEST
DTSTART:20250330T010000
END:DAYLIGHT
BEGIN:STANDARD
TZOFFSETFROM:+0200
TZOFFSETTO:+0100
TZNAME:CET
DTSTART:20251026T010000
END:STANDARD
BEGIN:DAYLIGHT
TZOFFSETFROM:+0100
TZOFFSETTO:+0200
TZNAME:CEST
DTSTART:20260329T010000
END:DAYLIGHT
BEGIN:STANDARD
TZOFFSETFROM:+0200
TZOFFSETTO:+0100
TZNAME:CET
DTSTART:20261025T010000
END:STANDARD
END:VTIMEZONE
BEGIN:VEVENT
DTSTART;TZID=Europe/Berlin:20251205T160000
DTEND;TZID=Europe/Berlin:20251205T210000
DTSTAMP:20260424T042649
CREATED:20251126T135320Z
LAST-MODIFIED:20251126T135320Z
UID:10005868-1764950400-1764968400@gronau-inside.de
SUMMARY:Kerstmarkt in Epe
DESCRIPTION:Kinderprogramma in de Merschstraße\nBezoekers aan de Merschstraße kunnen zich verheugen op een gevarieerd voorprogramma op alle drie de dagen van het evenement. Speciaal voor kinderen wordt een gevarieerd podiumprogramma voorbereid – met knutselactiviteiten\, muziek\, voorleessessies en veel verrassingen om van een bezoek aan de kerstmarkt een bijzondere belevenis te maken.\nDe organisatoren nodigen u van harte uit om de kerstmarkt van Epe op de deels nieuwe locatie te ontdekken en samen enkele gezellige uren door te brengen in een feestelijke sfeer. Openingstijden kerstmarkt Epe Merschstraße en kermis aan de Ahauser Straße (48599 Gronau-Epe\, NRW)   \n– Vrijdag\, 5.12.: 16-21 u\n– Zaterdag\, 6.12.: 16-21 u\n– Zondag\, 7.12.: 12-18 u (open zondag) \nAlle informatie over de kerstmarkten en het volledige programma is te vinden op: https://gronau-inside.de/veranstaltungen/advent-in-gronau-und-epe.
URL:https://gronau-inside.de/nl/veranstaltung/kerstmarkt-in-epe-2/2025-12-05
LOCATION:Merschstraße & kermis op Ahauser Straße
CATEGORIES:Eten en drinken,Festiviteiten + Feest,Gezinnen + kinderen,Markten + beurzen,Muziek,Senioren,Sociale zaken,Zondag open
ATTACH;FMTTYPE=image/jpeg:https://gronau-inside.de/wp-content/uploads/2023/01/Weihnchtsmaerkte-in-Gronau-und-Epe.jpg
ORGANIZER;CN="Stadtmarketing/Touristinfo":MAILTO:info@stadtmarketing-gronau.de
END:VEVENT
BEGIN:VEVENT
DTSTART;TZID=Europe/Berlin:20251206T160000
DTEND;TZID=Europe/Berlin:20251206T210000
DTSTAMP:20260424T042649
CREATED:20251126T135320Z
LAST-MODIFIED:20251126T135320Z
UID:10005869-1765036800-1765054800@gronau-inside.de
SUMMARY:Kerstmarkt in Epe
DESCRIPTION:Kinderprogramma in de Merschstraße\nBezoekers aan de Merschstraße kunnen zich verheugen op een gevarieerd voorprogramma op alle drie de dagen van het evenement. Speciaal voor kinderen wordt een gevarieerd podiumprogramma voorbereid – met knutselactiviteiten\, muziek\, voorleessessies en veel verrassingen om van een bezoek aan de kerstmarkt een bijzondere belevenis te maken.\nDe organisatoren nodigen u van harte uit om de kerstmarkt van Epe op de deels nieuwe locatie te ontdekken en samen enkele gezellige uren door te brengen in een feestelijke sfeer. Openingstijden kerstmarkt Epe Merschstraße en kermis aan de Ahauser Straße (48599 Gronau-Epe\, NRW)   \n– Vrijdag\, 5.12.: 16-21 u\n– Zaterdag\, 6.12.: 16-21 u\n– Zondag\, 7.12.: 12-18 u (open zondag) \nAlle informatie over de kerstmarkten en het volledige programma is te vinden op: https://gronau-inside.de/veranstaltungen/advent-in-gronau-und-epe.
URL:https://gronau-inside.de/nl/veranstaltung/kerstmarkt-in-epe-2/2025-12-06
LOCATION:Merschstraße & kermis op Ahauser Straße
CATEGORIES:Eten en drinken,Festiviteiten + Feest,Gezinnen + kinderen,Markten + beurzen,Muziek,Senioren,Sociale zaken,Zondag open
ATTACH;FMTTYPE=image/jpeg:https://gronau-inside.de/wp-content/uploads/2023/01/Weihnchtsmaerkte-in-Gronau-und-Epe.jpg
ORGANIZER;CN="Stadtmarketing/Touristinfo":MAILTO:info@stadtmarketing-gronau.de
END:VEVENT
BEGIN:VEVENT
DTSTART;TZID=Europe/Berlin:20251207T120000
DTEND;TZID=Europe/Berlin:20251207T180000
DTSTAMP:20260424T042649
CREATED:20251126T135320Z
LAST-MODIFIED:20251126T135320Z
UID:10005870-1765108800-1765130400@gronau-inside.de
SUMMARY:Kerstmarkt in Epe
DESCRIPTION:Kinderprogramma in de Merschstraße\nBezoekers aan de Merschstraße kunnen zich verheugen op een gevarieerd voorprogramma op alle drie de dagen van het evenement. Speciaal voor kinderen wordt een gevarieerd podiumprogramma voorbereid – met knutselactiviteiten\, muziek\, voorleessessies en veel verrassingen om van een bezoek aan de kerstmarkt een bijzondere belevenis te maken.\nDe organisatoren nodigen u van harte uit om de kerstmarkt van Epe op de deels nieuwe locatie te ontdekken en samen enkele gezellige uren door te brengen in een feestelijke sfeer. Openingstijden kerstmarkt Epe Merschstraße en kermis aan de Ahauser Straße (48599 Gronau-Epe\, NRW)   \n– Vrijdag\, 5.12.: 16-21 u\n– Zaterdag\, 6.12.: 16-21 u\n– Zondag\, 7.12.: 12-18 u (open zondag) \nAlle informatie over de kerstmarkten en het volledige programma is te vinden op: https://gronau-inside.de/veranstaltungen/advent-in-gronau-und-epe.
URL:https://gronau-inside.de/nl/veranstaltung/kerstmarkt-in-epe-2/2025-12-07
LOCATION:Merschstraße & kermis op Ahauser Straße
CATEGORIES:Eten en drinken,Festiviteiten + Feest,Gezinnen + kinderen,Markten + beurzen,Muziek,Senioren,Sociale zaken,Zondag open
ATTACH;FMTTYPE=image/jpeg:https://gronau-inside.de/wp-content/uploads/2023/01/Weihnchtsmaerkte-in-Gronau-und-Epe.jpg
ORGANIZER;CN="Stadtmarketing/Touristinfo":MAILTO:info@stadtmarketing-gronau.de
END:VEVENT
BEGIN:VEVENT
DTSTART;TZID=Europe/Berlin:20251211T160000
DTEND;TZID=Europe/Berlin:20251211T210000
DTSTAMP:20260424T042649
CREATED:20250723T092216Z
LAST-MODIFIED:20251126T141000Z
UID:10005879-1765468800-1765486800@gronau-inside.de
SUMMARY:Kerstmarkt in Gronau
DESCRIPTION:Klik hier voor het programma “Kerstmarkt in Gronau”.
URL:https://gronau-inside.de/nl/veranstaltung/kerstmarkt-in-gronau/2025-12-11
LOCATION:Gronauer Innenstadt\, Neustraße\, Gronau\, 48599
CATEGORIES:Eten en drinken,Gezinnen + kinderen,Markten + beurzen,Muziek,Senioren,Sociale zaken,Tentoonstelling,Zondag open
ATTACH;FMTTYPE=image/jpeg:https://gronau-inside.de/nl/kerstmarkt-gronau_hartmut-springer
ORGANIZER;CN="Stadtmarketing/Touristinfo":MAILTO:info@stadtmarketing-gronau.de
END:VEVENT
BEGIN:VEVENT
DTSTART;TZID=Europe/Berlin:20251212T160000
DTEND;TZID=Europe/Berlin:20251212T210000
DTSTAMP:20260424T042649
CREATED:20250723T092216Z
LAST-MODIFIED:20251126T141000Z
UID:10005880-1765555200-1765573200@gronau-inside.de
SUMMARY:Kerstmarkt in Gronau
DESCRIPTION:Klik hier voor het programma “Kerstmarkt in Gronau”.
URL:https://gronau-inside.de/nl/veranstaltung/kerstmarkt-in-gronau/2025-12-12
LOCATION:Gronauer Innenstadt\, Neustraße\, Gronau\, 48599
CATEGORIES:Eten en drinken,Gezinnen + kinderen,Markten + beurzen,Muziek,Senioren,Sociale zaken,Tentoonstelling,Zondag open
ATTACH;FMTTYPE=image/jpeg:https://gronau-inside.de/nl/kerstmarkt-gronau_hartmut-springer
ORGANIZER;CN="Stadtmarketing/Touristinfo":MAILTO:info@stadtmarketing-gronau.de
END:VEVENT
BEGIN:VEVENT
DTSTART;TZID=Europe/Berlin:20251213T110000
DTEND;TZID=Europe/Berlin:20251213T210000
DTSTAMP:20260424T042649
CREATED:20250723T092216Z
LAST-MODIFIED:20251126T141000Z
UID:10005881-1765623600-1765659600@gronau-inside.de
SUMMARY:Kerstmarkt in Gronau
DESCRIPTION:Klik hier voor het programma “Kerstmarkt in Gronau”.
URL:https://gronau-inside.de/nl/veranstaltung/kerstmarkt-in-gronau/2025-12-13
LOCATION:Gronauer Innenstadt\, Neustraße\, Gronau\, 48599
CATEGORIES:Eten en drinken,Gezinnen + kinderen,Markten + beurzen,Muziek,Senioren,Sociale zaken,Tentoonstelling,Zondag open
ATTACH;FMTTYPE=image/jpeg:https://gronau-inside.de/nl/kerstmarkt-gronau_hartmut-springer
ORGANIZER;CN="Stadtmarketing/Touristinfo":MAILTO:info@stadtmarketing-gronau.de
END:VEVENT
BEGIN:VEVENT
DTSTART;TZID=Europe/Berlin:20251214T130000
DTEND;TZID=Europe/Berlin:20251214T180000
DTSTAMP:20260424T042649
CREATED:20250723T092216Z
LAST-MODIFIED:20251126T141000Z
UID:10005882-1765717200-1765735200@gronau-inside.de
SUMMARY:Kerstmarkt in Gronau
DESCRIPTION:Klik hier voor het programma “Kerstmarkt in Gronau”.
URL:https://gronau-inside.de/nl/veranstaltung/kerstmarkt-in-gronau/2025-12-14
LOCATION:Gronauer Innenstadt\, Neustraße\, Gronau\, 48599
CATEGORIES:Eten en drinken,Gezinnen + kinderen,Markten + beurzen,Muziek,Senioren,Sociale zaken,Tentoonstelling,Zondag open
ATTACH;FMTTYPE=image/jpeg:https://gronau-inside.de/nl/kerstmarkt-gronau_hartmut-springer
ORGANIZER;CN="Stadtmarketing/Touristinfo":MAILTO:info@stadtmarketing-gronau.de
END:VEVENT
END:VCALENDAR