BEGIN:VCALENDAR
VERSION:2.0
PRODID:-//Gronau Inside - ECPv6.15.18//NONSGML v1.0//EN
CALSCALE:GREGORIAN
METHOD:PUBLISH
X-WR-CALNAME:Gronau Inside
X-ORIGINAL-URL:https://gronau-inside.de/nl
X-WR-CALDESC:Evenementen voor Gronau Inside
REFRESH-INTERVAL;VALUE=DURATION:PT1H
X-Robots-Tag:noindex
X-PUBLISHED-TTL:PT1H
BEGIN:VTIMEZONE
TZID:Europe/Berlin
BEGIN:DAYLIGHT
TZOFFSETFROM:+0100
TZOFFSETTO:+0200
TZNAME:CEST
DTSTART:20250330T010000
END:DAYLIGHT
BEGIN:STANDARD
TZOFFSETFROM:+0200
TZOFFSETTO:+0100
TZNAME:CET
DTSTART:20251026T010000
END:STANDARD
BEGIN:DAYLIGHT
TZOFFSETFROM:+0100
TZOFFSETTO:+0200
TZNAME:CEST
DTSTART:20260329T010000
END:DAYLIGHT
BEGIN:STANDARD
TZOFFSETFROM:+0200
TZOFFSETTO:+0100
TZNAME:CET
DTSTART:20261025T010000
END:STANDARD
BEGIN:DAYLIGHT
TZOFFSETFROM:+0100
TZOFFSETTO:+0200
TZNAME:CEST
DTSTART:20270328T010000
END:DAYLIGHT
BEGIN:STANDARD
TZOFFSETFROM:+0200
TZOFFSETTO:+0100
TZNAME:CET
DTSTART:20271031T010000
END:STANDARD
END:VTIMEZONE
BEGIN:VEVENT
DTSTART;TZID=Europe/Berlin:20260301T120000
DTEND;TZID=Europe/Berlin:20260301T130000
DTSTAMP:20260424T200525
CREATED:20250526T133216Z
LAST-MODIFIED:20250526T133216Z
UID:10003891-1772366400-1772370000@gronau-inside.de
SUMMARY:Open rondleiding door de permanente tentoonstelling
DESCRIPTION:Het rock “n” popmuseum biedt in het weekend open rondleidingen voor iedereen. \nMet onze getrainde museumgidsen kunnen bezoekers zich verheugen op een thematisch en creatief fascinerende tour door de dimensies van popmuziek. De tour is gericht op alle leeftijdsgroepen die geïnteresseerd zijn in een multimediale ervaring van geluiden\, beelden en tentoonstellingen met een extra dosis specialistische kennis. Dompel jezelf onder in een kippenvelmoment zoals bij een live concert!
URL:https://gronau-inside.de/nl/veranstaltung/open-rondleiding-door-de-permanente-tentoonstelling-2/2026-03-01
LOCATION:rock’n’popmuseum\, Udo-Lindenberg-Platz 1\, rock'n'popmuseum\, NRW\, 48599\, Deutschland
CATEGORIES:KuBiG (Cultuureducatie Gronau),rock'n'pop museum,Rondleidingen,Tentoonstelling
ATTACH;FMTTYPE=image/jpeg:https://gronau-inside.de/wp-content/uploads/2023/05/c-Frank-Schuermann-5-scaled.jpg
ORGANIZER;CN="rock'n'popmuseum Gronau GmbH":MAILTO:info@rock-popmuseum.de
END:VEVENT
BEGIN:VEVENT
DTSTART;TZID=Europe/Berlin:20260307T150000
DTEND;TZID=Europe/Berlin:20260307T160000
DTSTAMP:20260424T200525
CREATED:20250526T132741Z
LAST-MODIFIED:20250526T132741Z
UID:10003640-1772895600-1772899200@gronau-inside.de
SUMMARY:Open rondleiding door de permanente tentoonstelling
DESCRIPTION:Het rock “n” popmuseum biedt in het weekend open rondleidingen voor iedereen. \nMet onze getrainde museumgidsen kunnen bezoekers zich verheugen op een thematisch en creatief fascinerende tour door de dimensies van popmuziek. De tour is gericht op alle leeftijdsgroepen die geïnteresseerd zijn in een multimediale ervaring van geluiden\, beelden en tentoonstellingen met een extra dosis specialistische kennis. Dompel jezelf onder in een kippenvelmoment zoals bij een live concert!
URL:https://gronau-inside.de/nl/veranstaltung/open-rondleiding-door-de-permanente-tentoonstelling/2026-03-07
LOCATION:rock’n’popmuseum\, Udo-Lindenberg-Platz 1\, rock'n'popmuseum\, NRW\, 48599\, Deutschland
CATEGORIES:KuBiG (Cultuureducatie Gronau),rock'n'pop museum,Rondleidingen,Tentoonstelling
ATTACH;FMTTYPE=image/jpeg:https://gronau-inside.de/wp-content/uploads/2023/05/c-Frank-Schuermann-5-scaled.jpg
ORGANIZER;CN="rock'n'popmuseum Gronau GmbH":MAILTO:info@rock-popmuseum.de
END:VEVENT
BEGIN:VEVENT
DTSTART;TZID=Europe/Berlin:20260308T120000
DTEND;TZID=Europe/Berlin:20260308T130000
DTSTAMP:20260424T200525
CREATED:20250526T133216Z
LAST-MODIFIED:20250526T133216Z
UID:10003892-1772971200-1772974800@gronau-inside.de
SUMMARY:Open rondleiding door de permanente tentoonstelling
DESCRIPTION:Het rock “n” popmuseum biedt in het weekend open rondleidingen voor iedereen. \nMet onze getrainde museumgidsen kunnen bezoekers zich verheugen op een thematisch en creatief fascinerende tour door de dimensies van popmuziek. De tour is gericht op alle leeftijdsgroepen die geïnteresseerd zijn in een multimediale ervaring van geluiden\, beelden en tentoonstellingen met een extra dosis specialistische kennis. Dompel jezelf onder in een kippenvelmoment zoals bij een live concert!
URL:https://gronau-inside.de/nl/veranstaltung/open-rondleiding-door-de-permanente-tentoonstelling-2/2026-03-08
LOCATION:rock’n’popmuseum\, Udo-Lindenberg-Platz 1\, rock'n'popmuseum\, NRW\, 48599\, Deutschland
CATEGORIES:KuBiG (Cultuureducatie Gronau),rock'n'pop museum,Rondleidingen,Tentoonstelling
ATTACH;FMTTYPE=image/jpeg:https://gronau-inside.de/wp-content/uploads/2023/05/c-Frank-Schuermann-5-scaled.jpg
ORGANIZER;CN="rock'n'popmuseum Gronau GmbH":MAILTO:info@rock-popmuseum.de
END:VEVENT
BEGIN:VEVENT
DTSTART;TZID=Europe/Berlin:20260314T150000
DTEND;TZID=Europe/Berlin:20260314T160000
DTSTAMP:20260424T200525
CREATED:20250526T132741Z
LAST-MODIFIED:20250526T132741Z
UID:10003641-1773500400-1773504000@gronau-inside.de
SUMMARY:Open rondleiding door de permanente tentoonstelling
DESCRIPTION:Het rock “n” popmuseum biedt in het weekend open rondleidingen voor iedereen. \nMet onze getrainde museumgidsen kunnen bezoekers zich verheugen op een thematisch en creatief fascinerende tour door de dimensies van popmuziek. De tour is gericht op alle leeftijdsgroepen die geïnteresseerd zijn in een multimediale ervaring van geluiden\, beelden en tentoonstellingen met een extra dosis specialistische kennis. Dompel jezelf onder in een kippenvelmoment zoals bij een live concert!
URL:https://gronau-inside.de/nl/veranstaltung/open-rondleiding-door-de-permanente-tentoonstelling/2026-03-14
LOCATION:rock’n’popmuseum\, Udo-Lindenberg-Platz 1\, rock'n'popmuseum\, NRW\, 48599\, Deutschland
CATEGORIES:KuBiG (Cultuureducatie Gronau),rock'n'pop museum,Rondleidingen,Tentoonstelling
ATTACH;FMTTYPE=image/jpeg:https://gronau-inside.de/wp-content/uploads/2023/05/c-Frank-Schuermann-5-scaled.jpg
ORGANIZER;CN="rock'n'popmuseum Gronau GmbH":MAILTO:info@rock-popmuseum.de
END:VEVENT
BEGIN:VEVENT
DTSTART;TZID=Europe/Berlin:20260314T190000
DTEND;TZID=Europe/Berlin:20260314T190000
DTSTAMP:20260424T200525
CREATED:20251107T152427Z
LAST-MODIFIED:20251107T152427Z
UID:10005741-1773514800-1773514800@gronau-inside.de
SUMMARY:De Udo-update 2025
DESCRIPTION:Als gast bij de meeste publieke en vele interne evenementen georganiseerd door en voor Udo Lindenberg\, kunnen we “uit de eerste hand” verslag doen van de hoogtepunten\nvan het Udoversum (eind 2023 tot begin 2026). Natuurlijk in combinatie met foto’s\, video’s en krachtig voor het oor. Dus: teksten en geluiden – foto’s en gasten.\nEen actueel overzicht met een blik in de toekomst.   \n  \nOptredens – tentoonstellingen – onderscheidingen – hits – fans – meer dan 50 jaar Panic Orchestra – historische tijdcapsules openen – naaidoos – glazen bol! \n  \nDe initiatiefnemer en presentator is alom bekend als expert op het gebied van Udo\, onder andere door de “lopende” Panikhistorische Rundgänge in Gronau sinds 2007 en door de publicatie van de delen “Gronau U D O Wunderwelt” en “Gronau U D O Zauberwelt”\, ook bekend als de “Udo Bijbels”\n. \nLaat ons je meenemen op een actuele muzikale en maatschappijkritische reis door de Kleurrijke Republiek.\nEen warme uitnodiging en welkom in het Bethlehem van de beschutte\, het Mekka van de panische gemeenschap. Kom massaal!  \n  \n  \nTurbine muziekclub \nDatum: 14.03.2026\nToegang: 18:00\nAanvang: 19:00\nVVK: 19\,-€\nAK: 22\,-€ \nZittend – vrije keuze van zitplaatsen
URL:https://gronau-inside.de/nl/veranstaltung/de-udo-update-2025
LOCATION:Musikclub Turbine\, Udo-Lindenberg-Platz 1\, Gronau\, NRW\, 48599\, Deutschland
CATEGORIES:Lezen,rock'n'pop museum
ATTACH;FMTTYPE=image/jpeg:https://gronau-inside.de/wp-content/uploads/2025/11/Das_Udo_Update_14-3-2026-min.jpg
ORGANIZER;CN="rock'n'popmuseum Gronau GmbH":MAILTO:info@rock-popmuseum.de
END:VEVENT
BEGIN:VEVENT
DTSTART;TZID=Europe/Berlin:20260315T120000
DTEND;TZID=Europe/Berlin:20260315T130000
DTSTAMP:20260424T200525
CREATED:20250526T133216Z
LAST-MODIFIED:20250526T133216Z
UID:10003893-1773576000-1773579600@gronau-inside.de
SUMMARY:Open rondleiding door de permanente tentoonstelling
DESCRIPTION:Het rock “n” popmuseum biedt in het weekend open rondleidingen voor iedereen. \nMet onze getrainde museumgidsen kunnen bezoekers zich verheugen op een thematisch en creatief fascinerende tour door de dimensies van popmuziek. De tour is gericht op alle leeftijdsgroepen die geïnteresseerd zijn in een multimediale ervaring van geluiden\, beelden en tentoonstellingen met een extra dosis specialistische kennis. Dompel jezelf onder in een kippenvelmoment zoals bij een live concert!
URL:https://gronau-inside.de/nl/veranstaltung/open-rondleiding-door-de-permanente-tentoonstelling-2/2026-03-15
LOCATION:rock’n’popmuseum\, Udo-Lindenberg-Platz 1\, rock'n'popmuseum\, NRW\, 48599\, Deutschland
CATEGORIES:KuBiG (Cultuureducatie Gronau),rock'n'pop museum,Rondleidingen,Tentoonstelling
ATTACH;FMTTYPE=image/jpeg:https://gronau-inside.de/wp-content/uploads/2023/05/c-Frank-Schuermann-5-scaled.jpg
ORGANIZER;CN="rock'n'popmuseum Gronau GmbH":MAILTO:info@rock-popmuseum.de
END:VEVENT
BEGIN:VEVENT
DTSTART;TZID=Europe/Berlin:20260321T150000
DTEND;TZID=Europe/Berlin:20260321T160000
DTSTAMP:20260424T200525
CREATED:20250526T132741Z
LAST-MODIFIED:20250526T132741Z
UID:10003642-1774105200-1774108800@gronau-inside.de
SUMMARY:Open rondleiding door de permanente tentoonstelling
DESCRIPTION:Het rock “n” popmuseum biedt in het weekend open rondleidingen voor iedereen. \nMet onze getrainde museumgidsen kunnen bezoekers zich verheugen op een thematisch en creatief fascinerende tour door de dimensies van popmuziek. De tour is gericht op alle leeftijdsgroepen die geïnteresseerd zijn in een multimediale ervaring van geluiden\, beelden en tentoonstellingen met een extra dosis specialistische kennis. Dompel jezelf onder in een kippenvelmoment zoals bij een live concert!
URL:https://gronau-inside.de/nl/veranstaltung/open-rondleiding-door-de-permanente-tentoonstelling/2026-03-21
LOCATION:rock’n’popmuseum\, Udo-Lindenberg-Platz 1\, rock'n'popmuseum\, NRW\, 48599\, Deutschland
CATEGORIES:KuBiG (Cultuureducatie Gronau),rock'n'pop museum,Rondleidingen,Tentoonstelling
ATTACH;FMTTYPE=image/jpeg:https://gronau-inside.de/wp-content/uploads/2023/05/c-Frank-Schuermann-5-scaled.jpg
ORGANIZER;CN="rock'n'popmuseum Gronau GmbH":MAILTO:info@rock-popmuseum.de
END:VEVENT
BEGIN:VEVENT
DTSTART;TZID=Europe/Berlin:20260322T120000
DTEND;TZID=Europe/Berlin:20260322T130000
DTSTAMP:20260424T200525
CREATED:20250526T133216Z
LAST-MODIFIED:20250526T133216Z
UID:10003894-1774180800-1774184400@gronau-inside.de
SUMMARY:Open rondleiding door de permanente tentoonstelling
DESCRIPTION:Het rock “n” popmuseum biedt in het weekend open rondleidingen voor iedereen. \nMet onze getrainde museumgidsen kunnen bezoekers zich verheugen op een thematisch en creatief fascinerende tour door de dimensies van popmuziek. De tour is gericht op alle leeftijdsgroepen die geïnteresseerd zijn in een multimediale ervaring van geluiden\, beelden en tentoonstellingen met een extra dosis specialistische kennis. Dompel jezelf onder in een kippenvelmoment zoals bij een live concert!
URL:https://gronau-inside.de/nl/veranstaltung/open-rondleiding-door-de-permanente-tentoonstelling-2/2026-03-22
LOCATION:rock’n’popmuseum\, Udo-Lindenberg-Platz 1\, rock'n'popmuseum\, NRW\, 48599\, Deutschland
CATEGORIES:KuBiG (Cultuureducatie Gronau),rock'n'pop museum,Rondleidingen,Tentoonstelling
ATTACH;FMTTYPE=image/jpeg:https://gronau-inside.de/wp-content/uploads/2023/05/c-Frank-Schuermann-5-scaled.jpg
ORGANIZER;CN="rock'n'popmuseum Gronau GmbH":MAILTO:info@rock-popmuseum.de
END:VEVENT
BEGIN:VEVENT
DTSTART;TZID=Europe/Berlin:20260328T150000
DTEND;TZID=Europe/Berlin:20260328T160000
DTSTAMP:20260424T200525
CREATED:20250526T132741Z
LAST-MODIFIED:20250526T132741Z
UID:10003643-1774710000-1774713600@gronau-inside.de
SUMMARY:Open rondleiding door de permanente tentoonstelling
DESCRIPTION:Het rock “n” popmuseum biedt in het weekend open rondleidingen voor iedereen. \nMet onze getrainde museumgidsen kunnen bezoekers zich verheugen op een thematisch en creatief fascinerende tour door de dimensies van popmuziek. De tour is gericht op alle leeftijdsgroepen die geïnteresseerd zijn in een multimediale ervaring van geluiden\, beelden en tentoonstellingen met een extra dosis specialistische kennis. Dompel jezelf onder in een kippenvelmoment zoals bij een live concert!
URL:https://gronau-inside.de/nl/veranstaltung/open-rondleiding-door-de-permanente-tentoonstelling/2026-03-28
LOCATION:rock’n’popmuseum\, Udo-Lindenberg-Platz 1\, rock'n'popmuseum\, NRW\, 48599\, Deutschland
CATEGORIES:KuBiG (Cultuureducatie Gronau),rock'n'pop museum,Rondleidingen,Tentoonstelling
ATTACH;FMTTYPE=image/jpeg:https://gronau-inside.de/wp-content/uploads/2023/05/c-Frank-Schuermann-5-scaled.jpg
ORGANIZER;CN="rock'n'popmuseum Gronau GmbH":MAILTO:info@rock-popmuseum.de
END:VEVENT
BEGIN:VEVENT
DTSTART;TZID=Europe/Berlin:20260329T120000
DTEND;TZID=Europe/Berlin:20260329T130000
DTSTAMP:20260424T200525
CREATED:20250526T133216Z
LAST-MODIFIED:20250526T133216Z
UID:10003895-1774785600-1774789200@gronau-inside.de
SUMMARY:Open rondleiding door de permanente tentoonstelling
DESCRIPTION:Het rock “n” popmuseum biedt in het weekend open rondleidingen voor iedereen. \nMet onze getrainde museumgidsen kunnen bezoekers zich verheugen op een thematisch en creatief fascinerende tour door de dimensies van popmuziek. De tour is gericht op alle leeftijdsgroepen die geïnteresseerd zijn in een multimediale ervaring van geluiden\, beelden en tentoonstellingen met een extra dosis specialistische kennis. Dompel jezelf onder in een kippenvelmoment zoals bij een live concert!
URL:https://gronau-inside.de/nl/veranstaltung/open-rondleiding-door-de-permanente-tentoonstelling-2/2026-03-29
LOCATION:rock’n’popmuseum\, Udo-Lindenberg-Platz 1\, rock'n'popmuseum\, NRW\, 48599\, Deutschland
CATEGORIES:KuBiG (Cultuureducatie Gronau),rock'n'pop museum,Rondleidingen,Tentoonstelling
ATTACH;FMTTYPE=image/jpeg:https://gronau-inside.de/wp-content/uploads/2023/05/c-Frank-Schuermann-5-scaled.jpg
ORGANIZER;CN="rock'n'popmuseum Gronau GmbH":MAILTO:info@rock-popmuseum.de
END:VEVENT
END:VCALENDAR