BEGIN:VCALENDAR
VERSION:2.0
PRODID:-//Gronau Inside - ECPv6.15.18//NONSGML v1.0//EN
CALSCALE:GREGORIAN
METHOD:PUBLISH
X-ORIGINAL-URL:https://gronau-inside.de/nl
X-WR-CALDESC:Evenementen voor Gronau Inside
REFRESH-INTERVAL;VALUE=DURATION:PT1H
X-Robots-Tag:noindex
X-PUBLISHED-TTL:PT1H
BEGIN:VTIMEZONE
TZID:Europe/Berlin
BEGIN:DAYLIGHT
TZOFFSETFROM:+0100
TZOFFSETTO:+0200
TZNAME:CEST
DTSTART:20240331T010000
END:DAYLIGHT
BEGIN:STANDARD
TZOFFSETFROM:+0200
TZOFFSETTO:+0100
TZNAME:CET
DTSTART:20241027T010000
END:STANDARD
BEGIN:DAYLIGHT
TZOFFSETFROM:+0100
TZOFFSETTO:+0200
TZNAME:CEST
DTSTART:20250330T010000
END:DAYLIGHT
BEGIN:STANDARD
TZOFFSETFROM:+0200
TZOFFSETTO:+0100
TZNAME:CET
DTSTART:20251026T010000
END:STANDARD
BEGIN:DAYLIGHT
TZOFFSETFROM:+0100
TZOFFSETTO:+0200
TZNAME:CEST
DTSTART:20260329T010000
END:DAYLIGHT
BEGIN:STANDARD
TZOFFSETFROM:+0200
TZOFFSETTO:+0100
TZNAME:CET
DTSTART:20261025T010000
END:STANDARD
END:VTIMEZONE
BEGIN:VEVENT
DTSTART;TZID=Europe/Berlin:20251018T200000
DTEND;TZID=Europe/Berlin:20251018T200000
DTSTAMP:20260424T230337
CREATED:20250829T113428Z
LAST-MODIFIED:20250829T113809Z
UID:10004861-1760817600-1760817600@gronau-inside.de
SUMMARY:Robine
DESCRIPTION:Robine – Live 2025 \nWanneer Robine het podium betreedt\, zijn kippenvelmomenten gegarandeerd. Met een unieke mix van indie-soul\, R&B en pop dringt haar muziek door tot in het hart – en heelt tegelijkertijd.\nOpgroeiend in een wereld die ze niet altijd begreep\, zette Robine de uitdagingen van het leven om in liedjes en maakte ze van muziek haar therapie\, lang voordat iemand anders dat kon.\nNa haar verhuizing naar Hamburg verdiepte ze zich nog meer in haar sound en werkt ze aan haar eerste album\, dat in 2026 zal verschijnen. Rauw\, eerlijk en compromisloos authentiek herinnert Robine ons eraan dat zelfacceptatie nog nooit zo goed heeft geklonken. Omarm het en de muziek doet de rest.    \nMusikclub Turbine\nDatum: 18.10.2025\nToegang: 19:00\nAanvang: 20:00\nVVK: 19\,-€\nAK: 23\,-€\nGedeeltelijk zittend – vrije stoelkeuze – geen aanspraak op een zitplaats
URL:https://gronau-inside.de/nl/veranstaltung/concert-met-robine
LOCATION:Musikclub Turbine\, Udo-Lindenberg-Platz 1\, Gronau\, NRW\, 48599\, Deutschland
CATEGORIES:Muziek,rock'n'pop museum
ATTACH;FMTTYPE=image/jpeg:https://gronau-inside.de/wp-content/uploads/2025/08/Robine_Tour_2025_Instagram_Post_1.jpg
ORGANIZER;CN="rock'n'popmuseum Gronau GmbH":MAILTO:info@rock-popmuseum.de
END:VEVENT
END:VCALENDAR