BEGIN:VCALENDAR
VERSION:2.0
PRODID:-//Gronau Inside - ECPv6.15.18//NONSGML v1.0//EN
CALSCALE:GREGORIAN
METHOD:PUBLISH
X-ORIGINAL-URL:https://gronau-inside.de
X-WR-CALDESC:Veranstaltungen für Gronau Inside
REFRESH-INTERVAL;VALUE=DURATION:PT1H
X-Robots-Tag:noindex
X-PUBLISHED-TTL:PT1H
BEGIN:VTIMEZONE
TZID:Europe/Berlin
BEGIN:DAYLIGHT
TZOFFSETFROM:+0100
TZOFFSETTO:+0200
TZNAME:CEST
DTSTART:20250330T010000
END:DAYLIGHT
BEGIN:STANDARD
TZOFFSETFROM:+0200
TZOFFSETTO:+0100
TZNAME:CET
DTSTART:20251026T010000
END:STANDARD
BEGIN:DAYLIGHT
TZOFFSETFROM:+0100
TZOFFSETTO:+0200
TZNAME:CEST
DTSTART:20260329T010000
END:DAYLIGHT
BEGIN:STANDARD
TZOFFSETFROM:+0200
TZOFFSETTO:+0100
TZNAME:CET
DTSTART:20261025T010000
END:STANDARD
BEGIN:DAYLIGHT
TZOFFSETFROM:+0100
TZOFFSETTO:+0200
TZNAME:CEST
DTSTART:20270328T010000
END:DAYLIGHT
BEGIN:STANDARD
TZOFFSETFROM:+0200
TZOFFSETTO:+0100
TZNAME:CET
DTSTART:20271031T010000
END:STANDARD
END:VTIMEZONE
BEGIN:VEVENT
DTSTART;TZID=Europe/Berlin:20260329T120000
DTEND;TZID=Europe/Berlin:20260329T130000
DTSTAMP:20260422T182011
CREATED:20250526T132719Z
LAST-MODIFIED:20260422T104944Z
UID:10003477-1774785600-1774789200@gronau-inside.de
SUMMARY:Offene Führung durch die Dauerausstellung
DESCRIPTION:Das rock’n’popmuseum bietet an den Wochenenden offene Führungen für Jedermann an. \nMit unseren ausgebildeten Museumsbegleitern dürfen sich die Besucher auf eine thematisch und gestalterisch faszinierende Führung durch die Dimensionen der Popmusik freuen. Die Führung richtet sich an alle Altersgruppen\, die Lust auf ein multimediales Erlebnis aus Sounds\, Bildern\, Exponaten mit der Extraportion Fachwissen haben. Tauchen Sie ein in einen Gänsehautmoment wie bei einem Live-Konzert!
URL:https://gronau-inside.de/veranstaltung/offene-fuehrung-durch-die-dauerausstellung-2/2026-03-29
LOCATION:rock’n’popmuseum\, Udo-Lindenberg-Platz 1\, rock'n'popmuseum\, NRW\, 48599\, Deutschland
CATEGORIES:Ausstellung,KuBiG (Kulturelle Bildung Gronau),rock'n'popmuseum,Touren + Führungen
ATTACH;FMTTYPE=image/jpeg:https://gronau-inside.de/wp-content/uploads/2023/05/c-Frank-Schuermann-5-scaled.jpg
ORGANIZER;CN="rock'n'popmuseum Gronau GmbH":MAILTO:info@rock-popmuseum.de
END:VEVENT
BEGIN:VEVENT
DTSTART;TZID=Europe/Berlin:20260329T140000
DTEND;TZID=Europe/Berlin:20260329T160000
DTSTAMP:20260422T182011
CREATED:20251021T091828Z
LAST-MODIFIED:20251021T091828Z
UID:10005529-1774792800-1774800000@gronau-inside.de
SUMMARY:Stadtrundfahrt mit Klaus Wiedau
DESCRIPTION:Entdeckt neue Ecken von Gronau und erfahrt auf einer Stadtrundfahrt Neues\, Wissenswertes und Amüsantes. \nDer Gronau Insider Klaus Wiedau nimmt euch mit auf eine Stadtführung der besonderen Art und zeigt euch Gronau aus einer neuen Perspektive. \nIn zwei Stunden wird die Vergangenheit der Stadt zum Leben erweckt und die Gegenwart könnt ihr mit anderen Augen erleben. Die Stadtführung mit Bus ist barrierefrei und somit auch für Menschen mit eingeschränkter Mobilität geeignet. \nWann? \n\nSonntag\, 18. Januar 2026\, 14:00 bis ca. 16:00 Uhr\nSonntag\, 22. Februar 2026\, 14:00 bis ca. 16:00 Uhr\nSonntag\, 29. März 2026\, 14:00 bis ca. 16:00 Uhr\n\n  \nTreffpunkt: \nAn der alten Dampflok am Bahnhofsvorplatz in Gronau (Bahnhofstraße 45) \nParkmöglichkeiten sind vorhanden. \nWenn ihr zum Treffpunkt gebracht werdet\, empfehlen wir eine Abholung ab 16:15 Uhr. Die Tour endet ebenfalls an der alten Dampflok. \n  \nKein passender Termin dabei? \nNatürlich könnt ihr über uns auch einen individuellen Termin für eine Stadtführung mit Bus buchen. \nMeldet euch einfach unter 02562/99006 oder unter info@stadtmarketing-gronau.de und fragt euren gewünschten Termin an. \nFür eine individuelle Stadtführungen wird ein Pauschalpreis von 129\,- Euro berechnet. Ein Bus muss selbst organisiert werden. Gerne sind wir auf der Suche nach einem geeigneten Fahrzeug behilflich.
URL:https://gronau-inside.de/veranstaltung/stadtrundfahrt-mit-klaus-wiedau-3/2026-03-29
LOCATION:Treffpunkt: an der alten Dampflok am Bahnhofsvorplatz in Gronau\, Bahnhofstraße 45\, Gronau\, 48599
ATTACH;FMTTYPE=image/jpeg:https://gronau-inside.de/wp-content/uploads/2023/11/Stadtrundfahrt-mit-Klaus-Wiedau-3-scaled.jpg
ORGANIZER;CN="Stadtmarketing/Touristinfo":MAILTO:info@stadtmarketing-gronau.de
END:VEVENT
END:VCALENDAR