BEGIN:VCALENDAR
VERSION:2.0
PRODID:-//Gronau Inside - ECPv6.15.18//NONSGML v1.0//EN
CALSCALE:GREGORIAN
METHOD:PUBLISH
X-WR-CALNAME:Gronau Inside
X-ORIGINAL-URL:https://gronau-inside.de
X-WR-CALDESC:Veranstaltungen für Gronau Inside
REFRESH-INTERVAL;VALUE=DURATION:PT1H
X-Robots-Tag:noindex
X-PUBLISHED-TTL:PT1H
BEGIN:VTIMEZONE
TZID:Europe/Berlin
BEGIN:DAYLIGHT
TZOFFSETFROM:+0100
TZOFFSETTO:+0200
TZNAME:CEST
DTSTART:20250330T010000
END:DAYLIGHT
BEGIN:STANDARD
TZOFFSETFROM:+0200
TZOFFSETTO:+0100
TZNAME:CET
DTSTART:20251026T010000
END:STANDARD
BEGIN:DAYLIGHT
TZOFFSETFROM:+0100
TZOFFSETTO:+0200
TZNAME:CEST
DTSTART:20260329T010000
END:DAYLIGHT
BEGIN:STANDARD
TZOFFSETFROM:+0200
TZOFFSETTO:+0100
TZNAME:CET
DTSTART:20261025T010000
END:STANDARD
BEGIN:DAYLIGHT
TZOFFSETFROM:+0100
TZOFFSETTO:+0200
TZNAME:CEST
DTSTART:20270328T010000
END:DAYLIGHT
BEGIN:STANDARD
TZOFFSETFROM:+0200
TZOFFSETTO:+0100
TZNAME:CET
DTSTART:20271031T010000
END:STANDARD
END:VTIMEZONE
BEGIN:VEVENT
DTSTART;TZID=Europe/Berlin:20260418T150000
DTEND;TZID=Europe/Berlin:20260418T160000
DTSTAMP:20260423T133328
CREATED:20250526T132227Z
LAST-MODIFIED:20260422T104553Z
UID:10003314-1776524400-1776528000@gronau-inside.de
SUMMARY:Offene Führung durch die Dauerausstellung
DESCRIPTION:Das rock’n’popmuseum bietet an den Wochenenden offene Führungen für Jedermann an. \nMit unseren ausgebildeten Museumsbegleitern dürfen sich die Besucher auf eine thematisch und gestalterisch faszinierende Führung durch die Dimensionen der Popmusik freuen. Die Führung richtet sich an alle Altersgruppen\, die Lust auf ein multimediales Erlebnis aus Sounds\, Bildern\, Exponaten mit der Extraportion Fachwissen haben. Tauchen Sie ein in einen Gänsehautmoment wie bei einem Live-Konzert!
URL:https://gronau-inside.de/veranstaltung/offene-fuehrung-durch-die-dauerausstellung/2026-04-18
LOCATION:rock’n’popmuseum\, Udo-Lindenberg-Platz 1\, rock'n'popmuseum\, NRW\, 48599\, Deutschland
CATEGORIES:Ausstellung,KuBiG (Kulturelle Bildung Gronau),rock'n'popmuseum,Touren + Führungen
ATTACH;FMTTYPE=image/jpeg:https://gronau-inside.de/wp-content/uploads/2023/05/c-Frank-Schuermann-5-scaled.jpg
ORGANIZER;CN="rock'n'popmuseum Gronau GmbH":MAILTO:info@rock-popmuseum.de
END:VEVENT
BEGIN:VEVENT
DTSTART;TZID=Europe/Berlin:20260418T153000
DTEND;TZID=Europe/Berlin:20260418T153000
DTSTAMP:20260423T133328
CREATED:20260416T082214Z
LAST-MODIFIED:20260416T082214Z
UID:10007072-1776526200-1776526200@gronau-inside.de
SUMMARY:Kinderkonzert zum Mitmachen
DESCRIPTION:Das Mitmachkonzert von Kindern für Kinder – Ihr könnt selbst Teil des Konzertes sein und den schönen Klängen von Künstlern lauschen. \nDennis Buss bringt sein Kinder- und Jugendlabel\, die New Young Voices mit in Georgs Galerie und lässt das Publikum Teil der Show werden: Bodypercussion\, rappen\, singen\, Musikrätsel und die eine oder andere Überraschung erwartet Euch! \nTicketpreis: 3 Euro \nDas Konzert wird unterstützt von Urenco.
URL:https://gronau-inside.de/veranstaltung/kinderkonzert-zum-mitmachen
LOCATION:Georgs Galerie\, Merschstraße 21\, Gronau-Epe\, 48599
CATEGORIES:Familien + Kinder,KuBiG (Kulturelle Bildung Gronau)
ATTACH;FMTTYPE=image/jpeg:https://gronau-inside.de/wp-content/uploads/2026/04/Kinderkonzert-zum-Mitmachen.jpeg
END:VEVENT
BEGIN:VEVENT
DTSTART;TZID=Europe/Berlin:20260418T190000
DTEND;TZID=Europe/Berlin:20260418T190000
DTSTAMP:20260423T133328
CREATED:20260414T100754Z
LAST-MODIFIED:20260414T100754Z
UID:10007069-1776538800-1776538800@gronau-inside.de
SUMMARY:Karaoke Abend
DESCRIPTION:Bühne frei für alle\, die gerne singen!\nOb Schlager\, Pop\, Oldies oder Rock – bei uns kann jeder mitmachen.\nAllein oder im Duett\nMit Spaß\, Stimmung und Applaus\nGanz ohne Druck – einfach genießen \nEs gibt auch etwas zu gewinnen. Lasst Euch überraschen und zeigt Euer Talent. \nFür Getränke und gute Stimmung ist gesorgt.\nMit dem Hitparadentrio
URL:https://gronau-inside.de/veranstaltung/karaoke-abend
LOCATION:Café Grenzenlos\, Kurt-Schumacher-Platz 6\, Gronau\, NRW\, 48599
CATEGORIES:Festlichkeiten + Party,Musik
ATTACH;FMTTYPE=image/jpeg:https://gronau-inside.de/wp-content/uploads/2026/04/Karaoke-Abend.jpeg
END:VEVENT
BEGIN:VEVENT
DTSTART;TZID=Europe/Berlin:20260418T200000
DTEND;TZID=Europe/Berlin:20260418T200000
DTSTAMP:20260423T133328
CREATED:20260216T134553Z
LAST-MODIFIED:20260409T111715Z
UID:10006782-1776542400-1776542400@gronau-inside.de
SUMMARY:Museums RockNight Vol. 4
DESCRIPTION:Die RockNight geht in die vierte Runde – und diese Ausgabe ist etwas ganz Besonderes. Nach drei Ausgaben mit jeweils rund 200 Besucher*innen erwartet euch diesmal eine Special Edition\, die Live-Musik\, Nachwuchskultur und echte Club-Atmosphäre vereint. \nIn diesem Jahr ist die RockNight Teil des „Band of the Week“-Projekts der Filmakademie Siegersbusch (Wuppertal). Dabei treffen ausgewählte Bands auf junge Filmtalente\, um gemeinsam kreative Musikvideo-Projekte zu realisieren – und ihr erlebt die Bands hautnah und live\, bevor ihre Songs auch filmisch festgehalten werden. \nMit dabei:\nColor Kid\nPlastic Peaches\nTry Angel \nBand of the Week wird unterstützt vom RKP – Regionales Kultur Programm NRW\, Popboard NRW und Filmstadt e.V. \nMusikclub Turbine\nDatum: 18.04.2026\nEinlass: 19:00 Uhr\nBeginn: 20:00 Uhr\nVVK: 15\,-€\nAK: 18\,-€\nStehplatz – freie Platzwahl
URL:https://gronau-inside.de/veranstaltung/museums-rocknight-vol-4
LOCATION:Musikclub Turbine\, Udo-Lindenberg-Platz 1\, Gronau\, NRW\, 48599\, Deutschland
CATEGORIES:Highlight,KuBiG (Kulturelle Bildung Gronau),Musik,rock'n'popmuseum
ATTACH;FMTTYPE=image/jpeg:https://gronau-inside.de/wp-content/uploads/2026/02/RockNight.jpg
ORGANIZER;CN="rock'n'popmuseum Gronau GmbH":MAILTO:info@rock-popmuseum.de
END:VEVENT
BEGIN:VEVENT
DTSTART;TZID=Europe/Berlin:20260418T210000
DTEND;TZID=Europe/Berlin:20260418T210000
DTSTAMP:20260423T133328
CREATED:20260408T075825Z
LAST-MODIFIED:20260408T075825Z
UID:10007065-1776546000-1776546000@gronau-inside.de
SUMMARY:Depot Revival mit Frank Holly / Klaus Schaap
DESCRIPTION:Housemusic\nClassics\n90er/2000er\nTurntable\nVinyl \nEintritt 5\,- Euro
URL:https://gronau-inside.de/veranstaltung/depot-revival-mit-frank-holly-klaus-schaap
LOCATION:Latüchte Epe\, Gronauer Str. 16\, Gronau\, 48599
CATEGORIES:Festlichkeiten + Party
ATTACH;FMTTYPE=image/jpeg:https://gronau-inside.de/wp-content/uploads/2026/04/Depot-Revival.jpg
ORGANIZER;CN="Lat%C3%BCchte Epe":MAILTO:latuechte-epe@gmx.de
END:VEVENT
END:VCALENDAR