BEGIN:VCALENDAR
VERSION:2.0
PRODID:-//Gronau Inside - ECPv6.15.18//NONSGML v1.0//EN
CALSCALE:GREGORIAN
METHOD:PUBLISH
X-ORIGINAL-URL:https://gronau-inside.de
X-WR-CALDESC:Veranstaltungen für Gronau Inside
REFRESH-INTERVAL;VALUE=DURATION:PT1H
X-Robots-Tag:noindex
X-PUBLISHED-TTL:PT1H
BEGIN:VTIMEZONE
TZID:Europe/Berlin
BEGIN:DAYLIGHT
TZOFFSETFROM:+0100
TZOFFSETTO:+0200
TZNAME:CEST
DTSTART:20250330T010000
END:DAYLIGHT
BEGIN:STANDARD
TZOFFSETFROM:+0200
TZOFFSETTO:+0100
TZNAME:CET
DTSTART:20251026T010000
END:STANDARD
BEGIN:DAYLIGHT
TZOFFSETFROM:+0100
TZOFFSETTO:+0200
TZNAME:CEST
DTSTART:20260329T010000
END:DAYLIGHT
BEGIN:STANDARD
TZOFFSETFROM:+0200
TZOFFSETTO:+0100
TZNAME:CET
DTSTART:20261025T010000
END:STANDARD
BEGIN:DAYLIGHT
TZOFFSETFROM:+0100
TZOFFSETTO:+0200
TZNAME:CEST
DTSTART:20270328T010000
END:DAYLIGHT
BEGIN:STANDARD
TZOFFSETFROM:+0200
TZOFFSETTO:+0100
TZNAME:CET
DTSTART:20271031T010000
END:STANDARD
END:VTIMEZONE
BEGIN:VEVENT
DTSTART;TZID=Europe/Berlin:20260428T200000
DTEND;TZID=Europe/Berlin:20260428T200000
DTSTAMP:20260423T015041
CREATED:20251124T140558Z
LAST-MODIFIED:20260317T100716Z
UID:10005834-1777406400-1777406400@gronau-inside.de
SUMMARY:Jazzfest: Alma Naidu feat. Jakob Manz
DESCRIPTION:Die preisgekrönte Münchner Sängerin und Komponistin Alma Naidu hat sich als eine der berührendsten Stimmen des jungen deutschen Jazz etabliert. Ihre Songs verbinden poetische Tiefe mit klanglicher Leichtigkeit – Musik\, die zwischen Jazz\, Pop und Singer-Songwriter mühelos Grenzen überwindet. \nBei ihrem Konzert in Gronau wird Alma Naidu durch den jungen Saxophonisten Jakob Manz unterstützt\, der sein Instrument so virtuos beherrscht wie nur wenige andere\, was ihn zu einem der gefragtesten Jazzmusikern Deutschlands macht. \nFoto Alma Naidu (c) Viktoriya Zayika\nFoto Jakob Manz (c) Thomas Kiehl \nTickets gibt es an allen Eventim-Vorverkaufsstellen (u.a. Touristinfo Gronau\, Tel. 02562 99006) sowie online unter www.eventim.de.
URL:https://gronau-inside.de/veranstaltung/alma-naidu-feat-jakob-manz
LOCATION:Bürgerhalle Gronau\, Spinnereistraße 20\, Gronau\, 48599
CATEGORIES:Bürgerhalle,Highlight,Musik
ATTACH;FMTTYPE=image/jpeg:https://gronau-inside.de/wp-content/uploads/2025/11/JF26_Alma-Naidu_Jakob-Manz-insta.jpg
ORGANIZER;CN="Kulturb%C3%BCro/ Touristinfo & Stadtmarketing Gronau":MAILTO:info@stadtmarketing-gronau.de
END:VEVENT
END:VCALENDAR