BEGIN:VCALENDAR
VERSION:2.0
PRODID:-//Gronau Inside - ECPv6.15.18//NONSGML v1.0//EN
CALSCALE:GREGORIAN
METHOD:PUBLISH
X-ORIGINAL-URL:https://gronau-inside.de
X-WR-CALDESC:Veranstaltungen für Gronau Inside
REFRESH-INTERVAL;VALUE=DURATION:PT1H
X-Robots-Tag:noindex
X-PUBLISHED-TTL:PT1H
BEGIN:VTIMEZONE
TZID:Europe/Berlin
BEGIN:DAYLIGHT
TZOFFSETFROM:+0100
TZOFFSETTO:+0200
TZNAME:CEST
DTSTART:20250330T010000
END:DAYLIGHT
BEGIN:STANDARD
TZOFFSETFROM:+0200
TZOFFSETTO:+0100
TZNAME:CET
DTSTART:20251026T010000
END:STANDARD
BEGIN:DAYLIGHT
TZOFFSETFROM:+0100
TZOFFSETTO:+0200
TZNAME:CEST
DTSTART:20260329T010000
END:DAYLIGHT
BEGIN:STANDARD
TZOFFSETFROM:+0200
TZOFFSETTO:+0100
TZNAME:CET
DTSTART:20261025T010000
END:STANDARD
BEGIN:DAYLIGHT
TZOFFSETFROM:+0100
TZOFFSETTO:+0200
TZNAME:CEST
DTSTART:20270328T010000
END:DAYLIGHT
BEGIN:STANDARD
TZOFFSETFROM:+0200
TZOFFSETTO:+0100
TZNAME:CET
DTSTART:20271031T010000
END:STANDARD
END:VTIMEZONE
BEGIN:VEVENT
DTSTART;VALUE=DATE:20260529
DTEND;VALUE=DATE:20260602
DTSTAMP:20260420T224619
CREATED:20240710T141300Z
LAST-MODIFIED:20250729T083449Z
UID:10001522-1780012800-1780358399@gronau-inside.de
SUMMARY:Frühjahrskirmes
DESCRIPTION:Die beliebte Frühjahrskirmes findet wie gewohnt auf dem Festplatz vor der Bürgerhalle statt. \nAuf euch wartet ein umfangreiches Angebot. Bekannte Fahrgeschäfte\, wie Autoscooter\, Kettenkarussel oder der Musikexpress\, sind natürlich wieder auf dem Platz zu finden. \nNeben den zahlreichen Fahrgeschäften gibt es eine kulinarische Auswahl an den Imbissständen mit Bratwurst\, Mandeln\, Popcorn\, Süßwaren und vielem mehr. Und Spiele\, wie Entenangeln\, Pfeil- oder Dosenwerfen\, sorgen für Abwechslung. \n  \nZum Programm: \nAm Freitag ist Familientag mit ermäßigten Preisen. \nAm Samstag um circa 22 Uhr ist das große Höhenfeuerwerk. \nAm Montag ist von 18 bis 21 Uhr Happy Hour (1 x zahlen\, 2 x fahren)
URL:https://gronau-inside.de/veranstaltung/fruehjahrskirmes-2026
LOCATION:Vorplatz der Bürgerhalle\, Spinnereistraße 20\, Gronau\, NRW\, 48599
CATEGORIES:Bürgerhalle,Familien + Kinder,Kirmes
ATTACH;FMTTYPE=image/jpeg:https://gronau-inside.de/wp-content/uploads/2024/03/IMG_6874-scaled.jpeg
ORGANIZER;CN="Stadt Gronau - Ordnungsamt":MAILTO:ordnungsamt@gronau.de
END:VEVENT
BEGIN:VEVENT
DTSTART;TZID=Europe/Berlin:20260529T080000
DTEND;TZID=Europe/Berlin:20260529T130000
DTSTAMP:20260420T224619
CREATED:20240722T082253Z
LAST-MODIFIED:20250929T092106Z
UID:10002737-1780041600-1780059600@gronau-inside.de
SUMMARY:Wochenmarkt Gronau-Epe
DESCRIPTION:Jeden Freitag  von 8-13 Uhr lockt der Wochenmarkt viele Besucher in die Eper Innenstadt. Neben leckerem Gemüse und Obst werden auch frische Backwaren\, holländischer Käse\, Fisch\, Fleisch und vieles mehr angeboten. \nDer Wochenmarkt Gronau-Epe findet freitags von 8-13 Uhr in der Merschstraße statt.
URL:https://gronau-inside.de/veranstaltung/wochenmarkt-in-epe-2/2026-05-29
LOCATION:Merschstraße Epe\, Merschstraße\, Gronau\, 48599
CATEGORIES:Essen & Trinken,Märkte + Messen
ATTACH;FMTTYPE=image/jpeg:https://gronau-inside.de/wp-content/uploads/2021/05/Wochenmarkt-Epe-1-e1695720579249.jpg
END:VEVENT
END:VCALENDAR