BEGIN:VCALENDAR
VERSION:2.0
PRODID:-//Gronau Inside - ECPv6.15.18//NONSGML v1.0//EN
CALSCALE:GREGORIAN
METHOD:PUBLISH
X-WR-CALNAME:Gronau Inside
X-ORIGINAL-URL:https://gronau-inside.de
X-WR-CALDESC:Veranstaltungen für Gronau Inside
REFRESH-INTERVAL;VALUE=DURATION:PT1H
X-Robots-Tag:noindex
X-PUBLISHED-TTL:PT1H
BEGIN:VTIMEZONE
TZID:Europe/Berlin
BEGIN:DAYLIGHT
TZOFFSETFROM:+0100
TZOFFSETTO:+0200
TZNAME:CEST
DTSTART:20250330T010000
END:DAYLIGHT
BEGIN:STANDARD
TZOFFSETFROM:+0200
TZOFFSETTO:+0100
TZNAME:CET
DTSTART:20251026T010000
END:STANDARD
BEGIN:DAYLIGHT
TZOFFSETFROM:+0100
TZOFFSETTO:+0200
TZNAME:CEST
DTSTART:20260329T010000
END:DAYLIGHT
BEGIN:STANDARD
TZOFFSETFROM:+0200
TZOFFSETTO:+0100
TZNAME:CET
DTSTART:20261025T010000
END:STANDARD
BEGIN:DAYLIGHT
TZOFFSETFROM:+0100
TZOFFSETTO:+0200
TZNAME:CEST
DTSTART:20270328T010000
END:DAYLIGHT
BEGIN:STANDARD
TZOFFSETFROM:+0200
TZOFFSETTO:+0100
TZNAME:CET
DTSTART:20271031T010000
END:STANDARD
END:VTIMEZONE
BEGIN:VEVENT
DTSTART;VALUE=DATE:20260606
DTEND;VALUE=DATE:20260608
DTSTAMP:20260422T225952
CREATED:20260326T075244Z
LAST-MODIFIED:20260326T075355Z
UID:10006936-1780704000-1780876799@gronau-inside.de
SUMMARY:Deutsche Meisterschaft - Majorettentanzsport
DESCRIPTION:Die Deutschen Meisterschaften im Majorettentanz\, oft verbunden mit Twirling (Stabwirbeln)\, sind ein sportlicher Wettbewerb\, der Tanz\, Akrobatik und Stabtechnik vereint.
URL:https://gronau-inside.de/veranstaltung/deutsche-meisterschaft-majorettentanzsport
LOCATION:Sporthalle 1\, Laubstiege\, Gronau\, 48599
CATEGORIES:Sport
END:VEVENT
BEGIN:VEVENT
DTSTART;TZID=Europe/Berlin:20260607T120000
DTEND;TZID=Europe/Berlin:20260607T130000
DTSTAMP:20260422T225952
CREATED:20250526T132719Z
LAST-MODIFIED:20260422T104944Z
UID:10003487-1780833600-1780837200@gronau-inside.de
SUMMARY:Offene Führung durch die Dauerausstellung
DESCRIPTION:Das rock’n’popmuseum bietet an den Wochenenden offene Führungen für Jedermann an. \nMit unseren ausgebildeten Museumsbegleitern dürfen sich die Besucher auf eine thematisch und gestalterisch faszinierende Führung durch die Dimensionen der Popmusik freuen. Die Führung richtet sich an alle Altersgruppen\, die Lust auf ein multimediales Erlebnis aus Sounds\, Bildern\, Exponaten mit der Extraportion Fachwissen haben. Tauchen Sie ein in einen Gänsehautmoment wie bei einem Live-Konzert!
URL:https://gronau-inside.de/veranstaltung/offene-fuehrung-durch-die-dauerausstellung-2/2026-06-07
LOCATION:rock’n’popmuseum\, Udo-Lindenberg-Platz 1\, rock'n'popmuseum\, NRW\, 48599\, Deutschland
CATEGORIES:Ausstellung,KuBiG (Kulturelle Bildung Gronau),rock'n'popmuseum,Touren + Führungen
ATTACH;FMTTYPE=image/jpeg:https://gronau-inside.de/wp-content/uploads/2023/05/c-Frank-Schuermann-5-scaled.jpg
ORGANIZER;CN="rock'n'popmuseum Gronau GmbH":MAILTO:info@rock-popmuseum.de
END:VEVENT
END:VCALENDAR