BEGIN:VCALENDAR
VERSION:2.0
PRODID:-//Gronau Inside - ECPv6.15.18//NONSGML v1.0//EN
CALSCALE:GREGORIAN
METHOD:PUBLISH
X-WR-CALNAME:Gronau Inside
X-ORIGINAL-URL:https://gronau-inside.de
X-WR-CALDESC:Veranstaltungen für Gronau Inside
REFRESH-INTERVAL;VALUE=DURATION:PT1H
X-Robots-Tag:noindex
X-PUBLISHED-TTL:PT1H
BEGIN:VTIMEZONE
TZID:Europe/Berlin
BEGIN:DAYLIGHT
TZOFFSETFROM:+0100
TZOFFSETTO:+0200
TZNAME:CEST
DTSTART:20250330T010000
END:DAYLIGHT
BEGIN:STANDARD
TZOFFSETFROM:+0200
TZOFFSETTO:+0100
TZNAME:CET
DTSTART:20251026T010000
END:STANDARD
BEGIN:DAYLIGHT
TZOFFSETFROM:+0100
TZOFFSETTO:+0200
TZNAME:CEST
DTSTART:20260329T010000
END:DAYLIGHT
BEGIN:STANDARD
TZOFFSETFROM:+0200
TZOFFSETTO:+0100
TZNAME:CET
DTSTART:20261025T010000
END:STANDARD
BEGIN:DAYLIGHT
TZOFFSETFROM:+0100
TZOFFSETTO:+0200
TZNAME:CEST
DTSTART:20270328T010000
END:DAYLIGHT
BEGIN:STANDARD
TZOFFSETFROM:+0200
TZOFFSETTO:+0100
TZNAME:CET
DTSTART:20271031T010000
END:STANDARD
END:VTIMEZONE
BEGIN:VEVENT
DTSTART;VALUE=DATE:20260927
DTEND;VALUE=DATE:20260928
DTSTAMP:20260423T072414
CREATED:20250729T132103Z
LAST-MODIFIED:20250729T132103Z
UID:10004476-1790467200-1790553599@gronau-inside.de
SUMMARY:Michaelismarkt Epe: Land- & Kürbisfest 2026
DESCRIPTION:
URL:https://gronau-inside.de/veranstaltung/michaelismarkt-epe-land-kuerbisfest-2026
LOCATION:Fußgängerzone Epe\, Merschstraße
CATEGORIES:Essen & Trinken,Familien + Kinder,Festlichkeiten + Party,KuBiG (Kulturelle Bildung Gronau),Musik,Senioren,Verkaufsoffene Sonntage
ORGANIZER;CN="Stadtmarketing/Touristinfo":MAILTO:info@stadtmarketing-gronau.de
END:VEVENT
BEGIN:VEVENT
DTSTART;TZID=Europe/Berlin:20260927T110000
DTEND;TZID=Europe/Berlin:20260927T110000
DTSTAMP:20260423T072414
CREATED:20260209T135643Z
LAST-MODIFIED:20260209T135643Z
UID:10006730-1790506800-1790506800@gronau-inside.de
SUMMARY:Outdoor-Gottesdienst an der Waldbühne
DESCRIPTION:Ab 11.00 Uhr feiert die Evangelische Freikirche am Olympiaweg einen Gottesdienst unter freiem Himmel an der Waldbühne. Hier trifft sich Groß und Klein\, Singles und Familien – alle sind herzlich eingeladen! Wir treffen uns\, um gemeinsam Gott zu feiern – mit Liedern\, die von der Band begleitet werden\, und mit einer Predigt\, die uns herausfordert\, mit Gott zu leben. Denn wir glauben\, dass er uns Menschen liebt und uns begegnen möchte. \nNach einem gemeinsamen Anfang sind dann alle Kinder zwischen 3 und 12 Jahren eingeladen\, mit in den Kindergottesdienst auf der angrenzenden Wiese zu gehen. Dort wird gespielt\, gebastelt\, gelacht und es gibt eine Geschichte darüber\, was Menschen aus der Bibel mit Gott erlebt haben. \nJeweils um 11 Uhr am:\n26. April\, 31. Mai\, 28. Juni\, 30. August\, 27. September \nSei dabei\, wir freuen uns auf dich!\nWeitere Infos unter www.freikirchegronau.de
URL:https://gronau-inside.de/veranstaltung/outdoor-gottesdienst-an-der-waldbuehne/2026-09-27
LOCATION:Waldbühne\, neben der Pyramide auf dem LAGA-Gelände\, Gronau\, 48599
CATEGORIES:Familien + Kinder,Senioren
ATTACH;FMTTYPE=image/jpeg:https://gronau-inside.de/wp-content/uploads/2026/02/Wald-Ostern-22-Seite.jpg
ORGANIZER;CN="Evangelische Freikirche Gronau":MAILTO:kontakt@freikirchegronau.de
END:VEVENT
BEGIN:VEVENT
DTSTART;TZID=Europe/Berlin:20260927T120000
DTEND;TZID=Europe/Berlin:20260927T130000
DTSTAMP:20260423T072414
CREATED:20250526T132719Z
LAST-MODIFIED:20260422T104944Z
UID:10003503-1790510400-1790514000@gronau-inside.de
SUMMARY:Offene Führung durch die Dauerausstellung
DESCRIPTION:Das rock’n’popmuseum bietet an den Wochenenden offene Führungen für Jedermann an. \nMit unseren ausgebildeten Museumsbegleitern dürfen sich die Besucher auf eine thematisch und gestalterisch faszinierende Führung durch die Dimensionen der Popmusik freuen. Die Führung richtet sich an alle Altersgruppen\, die Lust auf ein multimediales Erlebnis aus Sounds\, Bildern\, Exponaten mit der Extraportion Fachwissen haben. Tauchen Sie ein in einen Gänsehautmoment wie bei einem Live-Konzert!
URL:https://gronau-inside.de/veranstaltung/offene-fuehrung-durch-die-dauerausstellung-2/2026-09-27
LOCATION:rock’n’popmuseum\, Udo-Lindenberg-Platz 1\, rock'n'popmuseum\, NRW\, 48599\, Deutschland
CATEGORIES:Ausstellung,KuBiG (Kulturelle Bildung Gronau),rock'n'popmuseum,Touren + Führungen
ATTACH;FMTTYPE=image/jpeg:https://gronau-inside.de/wp-content/uploads/2023/05/c-Frank-Schuermann-5-scaled.jpg
ORGANIZER;CN="rock'n'popmuseum Gronau GmbH":MAILTO:info@rock-popmuseum.de
END:VEVENT
BEGIN:VEVENT
DTSTART;TZID=Europe/Berlin:20260927T130000
DTEND;TZID=Europe/Berlin:20260927T180000
DTSTAMP:20260423T072414
CREATED:20250409T141523Z
LAST-MODIFIED:20250723T095655Z
UID:10002882-1790514000-1790532000@gronau-inside.de
SUMMARY:Verkaufsoffener Sonntag in Epe
DESCRIPTION:Der verkaufsoffene Sonntag findet im Rahmen des Michaelismarkt mit Kürbis- und Hopfenfest in Epe statt.
URL:https://gronau-inside.de/veranstaltung/verkaufsoffener-sonntag-6
LOCATION:Eper Dorfkern\, Merschstraße\, Gronau\, NRW\, 48599
CATEGORIES:Verkaufsoffene Sonntage
END:VEVENT
BEGIN:VEVENT
DTSTART;TZID=Europe/Berlin:20260927T150000
DTEND;TZID=Europe/Berlin:20260927T170000
DTSTAMP:20260423T072414
CREATED:20240320T145015Z
LAST-MODIFIED:20260422T104257Z
UID:10006042-1790521200-1790528400@gronau-inside.de
SUMMARY:Zappeltiershow
DESCRIPTION:Ein Zappeltier sitzt niemals still…\n…tanz doch einfach mit! \nEine Menge Spaß und Bewegung verspricht die Zappeltiershow zu den beliebten Kindersongs von Frank & seine Freunde.\nGemeinsam mit der Volksbank Gronau-Ahaus eG bieten wir an ausgewählten Sonntagen einen spannenden Familiennachmittag\, gefüllt mit Bastelangeboten\, jede Menge Musik\, Tanz und natürlich auch mit dem quirligen Zappeltier. \nGefördert und unterstützt von der Volksbank Gronau-Ahaus eG. \nPreis pro Kind: 7\,-€\nDie Begleitperson hat kostenlosen Eintritt
URL:https://gronau-inside.de/veranstaltung/zappeltiershow-gronau/2026-09-27
LOCATION:Musikclub Turbine\, Udo-Lindenberg-Platz 1\, Gronau\, NRW\, 48599\, Deutschland
CATEGORIES:Familien + Kinder,KuBiG (Kulturelle Bildung Gronau),Musik,rock'n'popmuseum
ATTACH;FMTTYPE=image/jpeg:https://gronau-inside.de/wp-content/uploads/2024/02/Zappeltier_RPM-2-scaled.jpg
ORGANIZER;CN="rock'n'popmuseum Gronau GmbH":MAILTO:info@rock-popmuseum.de
END:VEVENT
END:VCALENDAR