BEGIN:VCALENDAR
VERSION:2.0
PRODID:-//Gronau Inside - ECPv6.15.18//NONSGML v1.0//EN
CALSCALE:GREGORIAN
METHOD:PUBLISH
X-ORIGINAL-URL:https://gronau-inside.de
X-WR-CALDESC:Veranstaltungen für Gronau Inside
REFRESH-INTERVAL;VALUE=DURATION:PT1H
X-Robots-Tag:noindex
X-PUBLISHED-TTL:PT1H
BEGIN:VTIMEZONE
TZID:Europe/Berlin
BEGIN:DAYLIGHT
TZOFFSETFROM:+0100
TZOFFSETTO:+0200
TZNAME:CEST
DTSTART:20250330T010000
END:DAYLIGHT
BEGIN:STANDARD
TZOFFSETFROM:+0200
TZOFFSETTO:+0100
TZNAME:CET
DTSTART:20251026T010000
END:STANDARD
BEGIN:DAYLIGHT
TZOFFSETFROM:+0100
TZOFFSETTO:+0200
TZNAME:CEST
DTSTART:20260329T010000
END:DAYLIGHT
BEGIN:STANDARD
TZOFFSETFROM:+0200
TZOFFSETTO:+0100
TZNAME:CET
DTSTART:20261025T010000
END:STANDARD
BEGIN:DAYLIGHT
TZOFFSETFROM:+0100
TZOFFSETTO:+0200
TZNAME:CEST
DTSTART:20270328T010000
END:DAYLIGHT
BEGIN:STANDARD
TZOFFSETFROM:+0200
TZOFFSETTO:+0100
TZNAME:CET
DTSTART:20271031T010000
END:STANDARD
END:VTIMEZONE
BEGIN:VEVENT
DTSTART;TZID=Europe/Berlin:20260112T183000
DTEND;TZID=Europe/Berlin:20260112T183000
DTSTAMP:20260423T215053
CREATED:20260107T102842Z
LAST-MODIFIED:20260107T102842Z
UID:10006072-1768242600-1768242600@gronau-inside.de
SUMMARY:Ein musikalischer Abend mit Ruth Frenk  „Bei uns war alles ganz normal“
DESCRIPTION:Das Haus Lebenstein lädt am Montag\, 12. Januar 2026\, um 18.30 Uhr zu einem besonderen Abend in Georgs Galerie in Epe ein: Die Sängerin und Zeitzeugin der Zweiten Generation\, Ruth Frenk\, stellt ihre Memoiren „Bei uns war alles ganz normal“ vor – eine eindrucksvolle Verbindung aus persönlicher Geschichte\, Musik und Erinnerungsarbeit. \nRuth Frenk wurde in den Niederlanden als Tochter von Schoáh-Überlebenden geboren. Nach einem Gesangsstudium in New York kam sie 1974 nach Deutschland und ließ sich in Konstanz nieder. Dort begann sie eine erfolgreiche künstlerische Laufbahn mit jüdischen Liedern und entwickelte sich zu einer wichtigen Stimme jüdischer Kulturvermittlung in Deutschland. \nIn ihrem 2022 erschienenen Buch erzählt Ruth Frenk von ihrer Familiengeschichte\, ihrem künstlerischen Weg und ihrem jahrzehntelangen Engagement für Erinnerung\, Dialog und Aufklärung. Der Titel macht deutlich\, wie sehr sich jüdisches Leben vor der Verfolgung als selbstverständlich und „normal“ anfühlte – und wie radikal diese Normalität zerstört wurde. \nHeute liest Ruth Frenk regelmäßig an Schulen\, tritt in öffentlichen Diskussionen auf und setzt sich unermüdlich für den intergenerationellen Dialog sowie gegen Antisemitismus und Ausgrenzung ein. \nDer Eintritt ist frei. \nEin Abend voller Musik\, Geschichte und eindrucksvoller persönlicher Einblicke.
URL:https://gronau-inside.de/veranstaltung/ein-musikalischer-abend-mit-ruth-frenk-bei-uns-war-alles-ganz-normal
LOCATION:Georgs Galerie\, Merschstraße 21\, Gronau-Epe\, 48599
CATEGORIES:Haus Lebenstein,Lesung,Musik,Vortrag
ATTACH;FMTTYPE=image/jpeg:https://gronau-inside.de/wp-content/uploads/2026/01/Foto-Ruth-Frenk-e1767786621401.jpg
ORGANIZER;CN="Kulturb%C3%BCro Gronau/Haus Lebenstein":MAILTO:info@hauslebenstein.de
END:VEVENT
BEGIN:VEVENT
DTSTART;TZID=Europe/Berlin:20260123T190000
DTEND;TZID=Europe/Berlin:20260123T210000
DTSTAMP:20260423T215053
CREATED:20260114T111335Z
LAST-MODIFIED:20260114T111454Z
UID:10006241-1769194800-1769202000@gronau-inside.de
SUMMARY:Lebensreise von und mit Hanspeter Dickel
DESCRIPTION:Zusatztermin \nPränatale Erinnerungen – frühkindliche Erlebnisse – spätpubertäre Erfahrungen \nGründung der ersten Gronauer Beatband “The Lightnings” \nZeitkolorit mit Musik \nTeil 1: 1945 bis 1964
URL:https://gronau-inside.de/veranstaltung/lebensreise-von-und-mit-hanspeter-dickel
LOCATION:Café Grenzenlos\, Kurt-Schumacher-Platz 6\, Gronau\, NRW\, 48599
CATEGORIES:Senioren,Vortrag
ATTACH;FMTTYPE=image/jpeg:https://gronau-inside.de/wp-content/uploads/2026/01/Lebensreise-von-HpD.jpg
END:VEVENT
BEGIN:VEVENT
DTSTART;TZID=Europe/Berlin:20260124T093000
DTEND;TZID=Europe/Berlin:20260124T093000
DTSTAMP:20260423T215053
CREATED:20251223T094241Z
LAST-MODIFIED:20251223T094241Z
UID:10006036-1769247000-1769247000@gronau-inside.de
SUMMARY:Vortrag: Christen im Beruf
DESCRIPTION:Christen im Beruf e.V.\nGronau-Ochtrup\nWir laden Sie zum Vortrag mit Frühstück ein:\nSamstag den 24.01.2026\nDriland Hotel\, Gildehauser Str. 350 48599 Gronau\, Tel 02562 3600 \nVeranstaltungsbeginn: 9:30 Uhr\nVeranstaltungsende 12:30 Uhr \nDer Eintritt zum Vortrag ist frei.\nFür das Frühstück berechnet das Hotel 21\,50 Euro\nDie Teilnahme am Frühstück ist verbindlich. \nIhre Anmeldung:\nTelefonisch 0176/96384987 oder\nper e-Mail info@fcg-gronau.de erleichtert uns die Planung. \nMusikalische Gestaltung:\nChristiane und Hans Thellmann
URL:https://gronau-inside.de/veranstaltung/vortrag-christen-im-beruf
LOCATION:Gasthof Driland\, Gildehauser Str. 350\, Gronau\, 48599
CATEGORIES:Vortrag
END:VEVENT
END:VCALENDAR